BEGIN:VCALENDAR
VERSION:2.0
PRODID:-//La Grange Business Association - ECPv6.15.20//NONSGML v1.0//EN
CALSCALE:GREGORIAN
METHOD:PUBLISH
X-ORIGINAL-URL:https://lgba.com
X-WR-CALDESC:Events for La Grange Business Association
REFRESH-INTERVAL;VALUE=DURATION:PT1H
X-Robots-Tag:noindex
X-PUBLISHED-TTL:PT1H
BEGIN:VTIMEZONE
TZID:America/Chicago
BEGIN:DAYLIGHT
TZOFFSETFROM:-0600
TZOFFSETTO:-0500
TZNAME:CDT
DTSTART:20250309T080000
END:DAYLIGHT
BEGIN:STANDARD
TZOFFSETFROM:-0500
TZOFFSETTO:-0600
TZNAME:CST
DTSTART:20251102T070000
END:STANDARD
BEGIN:DAYLIGHT
TZOFFSETFROM:-0600
TZOFFSETTO:-0500
TZNAME:CDT
DTSTART:20260308T080000
END:DAYLIGHT
BEGIN:STANDARD
TZOFFSETFROM:-0500
TZOFFSETTO:-0600
TZNAME:CST
DTSTART:20261101T070000
END:STANDARD
BEGIN:DAYLIGHT
TZOFFSETFROM:-0600
TZOFFSETTO:-0500
TZNAME:CDT
DTSTART:20270314T080000
END:DAYLIGHT
BEGIN:STANDARD
TZOFFSETFROM:-0500
TZOFFSETTO:-0600
TZNAME:CST
DTSTART:20271107T070000
END:STANDARD
BEGIN:DAYLIGHT
TZOFFSETFROM:-0600
TZOFFSETTO:-0500
TZNAME:CDT
DTSTART:20280312T080000
END:DAYLIGHT
BEGIN:STANDARD
TZOFFSETFROM:-0500
TZOFFSETTO:-0600
TZNAME:CST
DTSTART:20281105T070000
END:STANDARD
END:VTIMEZONE
BEGIN:VEVENT
DTSTART;TZID=America/Chicago:20261014T190000
DTEND;TZID=America/Chicago:20261014T210000
DTSTAMP:20260423T135425
CREATED:20260319T003945Z
LAST-MODIFIED:20260319T003945Z
UID:10002173-1792004400-1792011600@lgba.com
SUMMARY:Trivia Night
DESCRIPTION:Join us every Wednesday for trivia night! Reservations: www.bhsociallagrange.com
URL:https://lgba.com/event/trivia-night-3/2026-10-14/
LOCATION:Barrel House Social\, 100 W. Burlington\, La Grange\, IL\, 60525\, United States
CATEGORIES:Entertainment,Featured Event
ATTACH;FMTTYPE=image/png:https://lgba.com/wp-content/uploads/BHS-Trivia-Poster-.png
END:VEVENT
BEGIN:VEVENT
DTSTART;TZID=America/Chicago:20261021T190000
DTEND;TZID=America/Chicago:20261021T210000
DTSTAMP:20260423T135425
CREATED:20260319T003945Z
LAST-MODIFIED:20260319T003945Z
UID:10002174-1792609200-1792616400@lgba.com
SUMMARY:Trivia Night
DESCRIPTION:Join us every Wednesday for trivia night! Reservations: www.bhsociallagrange.com
URL:https://lgba.com/event/trivia-night-3/2026-10-21/
LOCATION:Barrel House Social\, 100 W. Burlington\, La Grange\, IL\, 60525\, United States
CATEGORIES:Entertainment,Featured Event
ATTACH;FMTTYPE=image/png:https://lgba.com/wp-content/uploads/BHS-Trivia-Poster-.png
END:VEVENT
BEGIN:VEVENT
DTSTART;TZID=America/Chicago:20261028T190000
DTEND;TZID=America/Chicago:20261028T210000
DTSTAMP:20260423T135425
CREATED:20260319T003945Z
LAST-MODIFIED:20260319T003945Z
UID:10002175-1793214000-1793221200@lgba.com
SUMMARY:Trivia Night
DESCRIPTION:Join us every Wednesday for trivia night! Reservations: www.bhsociallagrange.com
URL:https://lgba.com/event/trivia-night-3/2026-10-28/
LOCATION:Barrel House Social\, 100 W. Burlington\, La Grange\, IL\, 60525\, United States
CATEGORIES:Entertainment,Featured Event
ATTACH;FMTTYPE=image/png:https://lgba.com/wp-content/uploads/BHS-Trivia-Poster-.png
END:VEVENT
BEGIN:VEVENT
DTSTART;TZID=America/Chicago:20261104T190000
DTEND;TZID=America/Chicago:20261104T210000
DTSTAMP:20260423T135425
CREATED:20260319T003945Z
LAST-MODIFIED:20260319T003945Z
UID:10002176-1793818800-1793826000@lgba.com
SUMMARY:Trivia Night
DESCRIPTION:Join us every Wednesday for trivia night! Reservations: www.bhsociallagrange.com
URL:https://lgba.com/event/trivia-night-3/2026-11-04/
LOCATION:Barrel House Social\, 100 W. Burlington\, La Grange\, IL\, 60525\, United States
CATEGORIES:Entertainment,Featured Event
ATTACH;FMTTYPE=image/png:https://lgba.com/wp-content/uploads/BHS-Trivia-Poster-.png
END:VEVENT
BEGIN:VEVENT
DTSTART;TZID=America/Chicago:20261111T190000
DTEND;TZID=America/Chicago:20261111T210000
DTSTAMP:20260423T135425
CREATED:20260319T003945Z
LAST-MODIFIED:20260319T003945Z
UID:10002177-1794423600-1794430800@lgba.com
SUMMARY:Trivia Night
DESCRIPTION:Join us every Wednesday for trivia night! Reservations: www.bhsociallagrange.com
URL:https://lgba.com/event/trivia-night-3/2026-11-11/
LOCATION:Barrel House Social\, 100 W. Burlington\, La Grange\, IL\, 60525\, United States
CATEGORIES:Entertainment,Featured Event
ATTACH;FMTTYPE=image/png:https://lgba.com/wp-content/uploads/BHS-Trivia-Poster-.png
END:VEVENT
BEGIN:VEVENT
DTSTART;TZID=America/Chicago:20261118T190000
DTEND;TZID=America/Chicago:20261118T210000
DTSTAMP:20260423T135425
CREATED:20260319T003945Z
LAST-MODIFIED:20260319T003945Z
UID:10002178-1795028400-1795035600@lgba.com
SUMMARY:Trivia Night
DESCRIPTION:Join us every Wednesday for trivia night! Reservations: www.bhsociallagrange.com
URL:https://lgba.com/event/trivia-night-3/2026-11-18/
LOCATION:Barrel House Social\, 100 W. Burlington\, La Grange\, IL\, 60525\, United States
CATEGORIES:Entertainment,Featured Event
ATTACH;FMTTYPE=image/png:https://lgba.com/wp-content/uploads/BHS-Trivia-Poster-.png
END:VEVENT
BEGIN:VEVENT
DTSTART;TZID=America/Chicago:20261125T190000
DTEND;TZID=America/Chicago:20261125T210000
DTSTAMP:20260423T135425
CREATED:20260319T003945Z
LAST-MODIFIED:20260319T003945Z
UID:10002179-1795633200-1795640400@lgba.com
SUMMARY:Trivia Night
DESCRIPTION:Join us every Wednesday for trivia night! Reservations: www.bhsociallagrange.com
URL:https://lgba.com/event/trivia-night-3/2026-11-25/
LOCATION:Barrel House Social\, 100 W. Burlington\, La Grange\, IL\, 60525\, United States
CATEGORIES:Entertainment,Featured Event
ATTACH;FMTTYPE=image/png:https://lgba.com/wp-content/uploads/BHS-Trivia-Poster-.png
END:VEVENT
BEGIN:VEVENT
DTSTART;TZID=America/Chicago:20261202T190000
DTEND;TZID=America/Chicago:20261202T210000
DTSTAMP:20260423T135425
CREATED:20260319T003945Z
LAST-MODIFIED:20260319T003945Z
UID:10002180-1796238000-1796245200@lgba.com
SUMMARY:Trivia Night
DESCRIPTION:Join us every Wednesday for trivia night! Reservations: www.bhsociallagrange.com
URL:https://lgba.com/event/trivia-night-3/2026-12-02/
LOCATION:Barrel House Social\, 100 W. Burlington\, La Grange\, IL\, 60525\, United States
CATEGORIES:Entertainment,Featured Event
ATTACH;FMTTYPE=image/png:https://lgba.com/wp-content/uploads/BHS-Trivia-Poster-.png
END:VEVENT
BEGIN:VEVENT
DTSTART;TZID=America/Chicago:20261209T190000
DTEND;TZID=America/Chicago:20261209T210000
DTSTAMP:20260423T135425
CREATED:20260319T003945Z
LAST-MODIFIED:20260319T003945Z
UID:10002181-1796842800-1796850000@lgba.com
SUMMARY:Trivia Night
DESCRIPTION:Join us every Wednesday for trivia night! Reservations: www.bhsociallagrange.com
URL:https://lgba.com/event/trivia-night-3/2026-12-09/
LOCATION:Barrel House Social\, 100 W. Burlington\, La Grange\, IL\, 60525\, United States
CATEGORIES:Entertainment,Featured Event
ATTACH;FMTTYPE=image/png:https://lgba.com/wp-content/uploads/BHS-Trivia-Poster-.png
END:VEVENT
BEGIN:VEVENT
DTSTART;TZID=America/Chicago:20261216T190000
DTEND;TZID=America/Chicago:20261216T210000
DTSTAMP:20260423T135425
CREATED:20260319T003945Z
LAST-MODIFIED:20260319T003945Z
UID:10002182-1797447600-1797454800@lgba.com
SUMMARY:Trivia Night
DESCRIPTION:Join us every Wednesday for trivia night! Reservations: www.bhsociallagrange.com
URL:https://lgba.com/event/trivia-night-3/2026-12-16/
LOCATION:Barrel House Social\, 100 W. Burlington\, La Grange\, IL\, 60525\, United States
CATEGORIES:Entertainment,Featured Event
ATTACH;FMTTYPE=image/png:https://lgba.com/wp-content/uploads/BHS-Trivia-Poster-.png
END:VEVENT
BEGIN:VEVENT
DTSTART;TZID=America/Chicago:20261223T190000
DTEND;TZID=America/Chicago:20261223T210000
DTSTAMP:20260423T135425
CREATED:20260319T003945Z
LAST-MODIFIED:20260319T003945Z
UID:10002183-1798052400-1798059600@lgba.com
SUMMARY:Trivia Night
DESCRIPTION:Join us every Wednesday for trivia night! Reservations: www.bhsociallagrange.com
URL:https://lgba.com/event/trivia-night-3/2026-12-23/
LOCATION:Barrel House Social\, 100 W. Burlington\, La Grange\, IL\, 60525\, United States
CATEGORIES:Entertainment,Featured Event
ATTACH;FMTTYPE=image/png:https://lgba.com/wp-content/uploads/BHS-Trivia-Poster-.png
END:VEVENT
BEGIN:VEVENT
DTSTART;TZID=America/Chicago:20261230T190000
DTEND;TZID=America/Chicago:20261230T210000
DTSTAMP:20260423T135425
CREATED:20260319T003945Z
LAST-MODIFIED:20260319T003945Z
UID:10002184-1798657200-1798664400@lgba.com
SUMMARY:Trivia Night
DESCRIPTION:Join us every Wednesday for trivia night! Reservations: www.bhsociallagrange.com
URL:https://lgba.com/event/trivia-night-3/2026-12-30/
LOCATION:Barrel House Social\, 100 W. Burlington\, La Grange\, IL\, 60525\, United States
CATEGORIES:Entertainment,Featured Event
ATTACH;FMTTYPE=image/png:https://lgba.com/wp-content/uploads/BHS-Trivia-Poster-.png
END:VEVENT
BEGIN:VEVENT
DTSTART;TZID=America/Chicago:20270106T190000
DTEND;TZID=America/Chicago:20270106T210000
DTSTAMP:20260423T135425
CREATED:20260319T003945Z
LAST-MODIFIED:20260319T003945Z
UID:10002185-1799262000-1799269200@lgba.com
SUMMARY:Trivia Night
DESCRIPTION:Join us every Wednesday for trivia night! Reservations: www.bhsociallagrange.com
URL:https://lgba.com/event/trivia-night-3/2027-01-06/
LOCATION:Barrel House Social\, 100 W. Burlington\, La Grange\, IL\, 60525\, United States
CATEGORIES:Entertainment,Featured Event
ATTACH;FMTTYPE=image/png:https://lgba.com/wp-content/uploads/BHS-Trivia-Poster-.png
END:VEVENT
BEGIN:VEVENT
DTSTART;TZID=America/Chicago:20270113T190000
DTEND;TZID=America/Chicago:20270113T210000
DTSTAMP:20260423T135425
CREATED:20260319T003945Z
LAST-MODIFIED:20260319T003945Z
UID:10002186-1799866800-1799874000@lgba.com
SUMMARY:Trivia Night
DESCRIPTION:Join us every Wednesday for trivia night! Reservations: www.bhsociallagrange.com
URL:https://lgba.com/event/trivia-night-3/2027-01-13/
LOCATION:Barrel House Social\, 100 W. Burlington\, La Grange\, IL\, 60525\, United States
CATEGORIES:Entertainment,Featured Event
ATTACH;FMTTYPE=image/png:https://lgba.com/wp-content/uploads/BHS-Trivia-Poster-.png
END:VEVENT
BEGIN:VEVENT
DTSTART;TZID=America/Chicago:20270120T190000
DTEND;TZID=America/Chicago:20270120T210000
DTSTAMP:20260423T135425
CREATED:20260319T003945Z
LAST-MODIFIED:20260319T003945Z
UID:10002187-1800471600-1800478800@lgba.com
SUMMARY:Trivia Night
DESCRIPTION:Join us every Wednesday for trivia night! Reservations: www.bhsociallagrange.com
URL:https://lgba.com/event/trivia-night-3/2027-01-20/
LOCATION:Barrel House Social\, 100 W. Burlington\, La Grange\, IL\, 60525\, United States
CATEGORIES:Entertainment,Featured Event
ATTACH;FMTTYPE=image/png:https://lgba.com/wp-content/uploads/BHS-Trivia-Poster-.png
END:VEVENT
BEGIN:VEVENT
DTSTART;TZID=America/Chicago:20270127T190000
DTEND;TZID=America/Chicago:20270127T210000
DTSTAMP:20260423T135425
CREATED:20260319T003945Z
LAST-MODIFIED:20260319T003945Z
UID:10002188-1801076400-1801083600@lgba.com
SUMMARY:Trivia Night
DESCRIPTION:Join us every Wednesday for trivia night! Reservations: www.bhsociallagrange.com
URL:https://lgba.com/event/trivia-night-3/2027-01-27/
LOCATION:Barrel House Social\, 100 W. Burlington\, La Grange\, IL\, 60525\, United States
CATEGORIES:Entertainment,Featured Event
ATTACH;FMTTYPE=image/png:https://lgba.com/wp-content/uploads/BHS-Trivia-Poster-.png
END:VEVENT
BEGIN:VEVENT
DTSTART;TZID=America/Chicago:20270203T190000
DTEND;TZID=America/Chicago:20270203T210000
DTSTAMP:20260423T135425
CREATED:20260319T003945Z
LAST-MODIFIED:20260319T003945Z
UID:10002189-1801681200-1801688400@lgba.com
SUMMARY:Trivia Night
DESCRIPTION:Join us every Wednesday for trivia night! Reservations: www.bhsociallagrange.com
URL:https://lgba.com/event/trivia-night-3/2027-02-03/
LOCATION:Barrel House Social\, 100 W. Burlington\, La Grange\, IL\, 60525\, United States
CATEGORIES:Entertainment,Featured Event
ATTACH;FMTTYPE=image/png:https://lgba.com/wp-content/uploads/BHS-Trivia-Poster-.png
END:VEVENT
BEGIN:VEVENT
DTSTART;TZID=America/Chicago:20270210T190000
DTEND;TZID=America/Chicago:20270210T210000
DTSTAMP:20260423T135425
CREATED:20260319T003945Z
LAST-MODIFIED:20260319T003945Z
UID:10002190-1802286000-1802293200@lgba.com
SUMMARY:Trivia Night
DESCRIPTION:Join us every Wednesday for trivia night! Reservations: www.bhsociallagrange.com
URL:https://lgba.com/event/trivia-night-3/2027-02-10/
LOCATION:Barrel House Social\, 100 W. Burlington\, La Grange\, IL\, 60525\, United States
CATEGORIES:Entertainment,Featured Event
ATTACH;FMTTYPE=image/png:https://lgba.com/wp-content/uploads/BHS-Trivia-Poster-.png
END:VEVENT
BEGIN:VEVENT
DTSTART;TZID=America/Chicago:20270217T190000
DTEND;TZID=America/Chicago:20270217T210000
DTSTAMP:20260423T135425
CREATED:20260319T003945Z
LAST-MODIFIED:20260319T003945Z
UID:10002191-1802890800-1802898000@lgba.com
SUMMARY:Trivia Night
DESCRIPTION:Join us every Wednesday for trivia night! Reservations: www.bhsociallagrange.com
URL:https://lgba.com/event/trivia-night-3/2027-02-17/
LOCATION:Barrel House Social\, 100 W. Burlington\, La Grange\, IL\, 60525\, United States
CATEGORIES:Entertainment,Featured Event
ATTACH;FMTTYPE=image/png:https://lgba.com/wp-content/uploads/BHS-Trivia-Poster-.png
END:VEVENT
BEGIN:VEVENT
DTSTART;TZID=America/Chicago:20270224T190000
DTEND;TZID=America/Chicago:20270224T210000
DTSTAMP:20260423T135425
CREATED:20260319T003945Z
LAST-MODIFIED:20260319T003945Z
UID:10002192-1803495600-1803502800@lgba.com
SUMMARY:Trivia Night
DESCRIPTION:Join us every Wednesday for trivia night! Reservations: www.bhsociallagrange.com
URL:https://lgba.com/event/trivia-night-3/2027-02-24/
LOCATION:Barrel House Social\, 100 W. Burlington\, La Grange\, IL\, 60525\, United States
CATEGORIES:Entertainment,Featured Event
ATTACH;FMTTYPE=image/png:https://lgba.com/wp-content/uploads/BHS-Trivia-Poster-.png
END:VEVENT
BEGIN:VEVENT
DTSTART;TZID=America/Chicago:20270303T190000
DTEND;TZID=America/Chicago:20270303T210000
DTSTAMP:20260423T135425
CREATED:20260319T003945Z
LAST-MODIFIED:20260319T003945Z
UID:10002193-1804100400-1804107600@lgba.com
SUMMARY:Trivia Night
DESCRIPTION:Join us every Wednesday for trivia night! Reservations: www.bhsociallagrange.com
URL:https://lgba.com/event/trivia-night-3/2027-03-03/
LOCATION:Barrel House Social\, 100 W. Burlington\, La Grange\, IL\, 60525\, United States
CATEGORIES:Entertainment,Featured Event
ATTACH;FMTTYPE=image/png:https://lgba.com/wp-content/uploads/BHS-Trivia-Poster-.png
END:VEVENT
BEGIN:VEVENT
DTSTART;TZID=America/Chicago:20270310T190000
DTEND;TZID=America/Chicago:20270310T210000
DTSTAMP:20260423T135425
CREATED:20260319T003945Z
LAST-MODIFIED:20260319T003945Z
UID:10002194-1804705200-1804712400@lgba.com
SUMMARY:Trivia Night
DESCRIPTION:Join us every Wednesday for trivia night! Reservations: www.bhsociallagrange.com
URL:https://lgba.com/event/trivia-night-3/2027-03-10/
LOCATION:Barrel House Social\, 100 W. Burlington\, La Grange\, IL\, 60525\, United States
CATEGORIES:Entertainment,Featured Event
ATTACH;FMTTYPE=image/png:https://lgba.com/wp-content/uploads/BHS-Trivia-Poster-.png
END:VEVENT
BEGIN:VEVENT
DTSTART;TZID=America/Chicago:20270317T190000
DTEND;TZID=America/Chicago:20270317T210000
DTSTAMP:20260423T135425
CREATED:20260319T003945Z
LAST-MODIFIED:20260319T003945Z
UID:10002195-1805310000-1805317200@lgba.com
SUMMARY:Trivia Night
DESCRIPTION:Join us every Wednesday for trivia night! Reservations: www.bhsociallagrange.com
URL:https://lgba.com/event/trivia-night-3/2027-03-17/
LOCATION:Barrel House Social\, 100 W. Burlington\, La Grange\, IL\, 60525\, United States
CATEGORIES:Entertainment,Featured Event
ATTACH;FMTTYPE=image/png:https://lgba.com/wp-content/uploads/BHS-Trivia-Poster-.png
END:VEVENT
BEGIN:VEVENT
DTSTART;TZID=America/Chicago:20270324T190000
DTEND;TZID=America/Chicago:20270324T210000
DTSTAMP:20260423T135425
CREATED:20260319T003945Z
LAST-MODIFIED:20260319T003945Z
UID:10002196-1805914800-1805922000@lgba.com
SUMMARY:Trivia Night
DESCRIPTION:Join us every Wednesday for trivia night! Reservations: www.bhsociallagrange.com
URL:https://lgba.com/event/trivia-night-3/2027-03-24/
LOCATION:Barrel House Social\, 100 W. Burlington\, La Grange\, IL\, 60525\, United States
CATEGORIES:Entertainment,Featured Event
ATTACH;FMTTYPE=image/png:https://lgba.com/wp-content/uploads/BHS-Trivia-Poster-.png
END:VEVENT
BEGIN:VEVENT
DTSTART;TZID=America/Chicago:20270331T190000
DTEND;TZID=America/Chicago:20270331T210000
DTSTAMP:20260423T135425
CREATED:20260319T003945Z
LAST-MODIFIED:20260319T003945Z
UID:10002197-1806519600-1806526800@lgba.com
SUMMARY:Trivia Night
DESCRIPTION:Join us every Wednesday for trivia night! Reservations: www.bhsociallagrange.com
URL:https://lgba.com/event/trivia-night-3/2027-03-31/
LOCATION:Barrel House Social\, 100 W. Burlington\, La Grange\, IL\, 60525\, United States
CATEGORIES:Entertainment,Featured Event
ATTACH;FMTTYPE=image/png:https://lgba.com/wp-content/uploads/BHS-Trivia-Poster-.png
END:VEVENT
BEGIN:VEVENT
DTSTART;TZID=America/Chicago:20270407T190000
DTEND;TZID=America/Chicago:20270407T210000
DTSTAMP:20260423T135425
CREATED:20260319T003945Z
LAST-MODIFIED:20260319T003945Z
UID:10002198-1807124400-1807131600@lgba.com
SUMMARY:Trivia Night
DESCRIPTION:Join us every Wednesday for trivia night! Reservations: www.bhsociallagrange.com
URL:https://lgba.com/event/trivia-night-3/2027-04-07/
LOCATION:Barrel House Social\, 100 W. Burlington\, La Grange\, IL\, 60525\, United States
CATEGORIES:Entertainment,Featured Event
ATTACH;FMTTYPE=image/png:https://lgba.com/wp-content/uploads/BHS-Trivia-Poster-.png
END:VEVENT
BEGIN:VEVENT
DTSTART;TZID=America/Chicago:20270414T190000
DTEND;TZID=America/Chicago:20270414T210000
DTSTAMP:20260423T135425
CREATED:20260319T003945Z
LAST-MODIFIED:20260319T003945Z
UID:10002199-1807729200-1807736400@lgba.com
SUMMARY:Trivia Night
DESCRIPTION:Join us every Wednesday for trivia night! Reservations: www.bhsociallagrange.com
URL:https://lgba.com/event/trivia-night-3/2027-04-14/
LOCATION:Barrel House Social\, 100 W. Burlington\, La Grange\, IL\, 60525\, United States
CATEGORIES:Entertainment,Featured Event
ATTACH;FMTTYPE=image/png:https://lgba.com/wp-content/uploads/BHS-Trivia-Poster-.png
END:VEVENT
BEGIN:VEVENT
DTSTART;TZID=America/Chicago:20270421T190000
DTEND;TZID=America/Chicago:20270421T210000
DTSTAMP:20260423T135425
CREATED:20260319T003945Z
LAST-MODIFIED:20260319T003945Z
UID:10002200-1808334000-1808341200@lgba.com
SUMMARY:Trivia Night
DESCRIPTION:Join us every Wednesday for trivia night! Reservations: www.bhsociallagrange.com
URL:https://lgba.com/event/trivia-night-3/2027-04-21/
LOCATION:Barrel House Social\, 100 W. Burlington\, La Grange\, IL\, 60525\, United States
CATEGORIES:Entertainment,Featured Event
ATTACH;FMTTYPE=image/png:https://lgba.com/wp-content/uploads/BHS-Trivia-Poster-.png
END:VEVENT
BEGIN:VEVENT
DTSTART;TZID=America/Chicago:20270428T190000
DTEND;TZID=America/Chicago:20270428T210000
DTSTAMP:20260423T135425
CREATED:20260319T003945Z
LAST-MODIFIED:20260319T003945Z
UID:10002201-1808938800-1808946000@lgba.com
SUMMARY:Trivia Night
DESCRIPTION:Join us every Wednesday for trivia night! Reservations: www.bhsociallagrange.com
URL:https://lgba.com/event/trivia-night-3/2027-04-28/
LOCATION:Barrel House Social\, 100 W. Burlington\, La Grange\, IL\, 60525\, United States
CATEGORIES:Entertainment,Featured Event
ATTACH;FMTTYPE=image/png:https://lgba.com/wp-content/uploads/BHS-Trivia-Poster-.png
END:VEVENT
BEGIN:VEVENT
DTSTART;TZID=America/Chicago:20270505T190000
DTEND;TZID=America/Chicago:20270505T210000
DTSTAMP:20260423T135425
CREATED:20260319T003945Z
LAST-MODIFIED:20260319T003945Z
UID:10002202-1809543600-1809550800@lgba.com
SUMMARY:Trivia Night
DESCRIPTION:Join us every Wednesday for trivia night! Reservations: www.bhsociallagrange.com
URL:https://lgba.com/event/trivia-night-3/2027-05-05/
LOCATION:Barrel House Social\, 100 W. Burlington\, La Grange\, IL\, 60525\, United States
CATEGORIES:Entertainment,Featured Event
ATTACH;FMTTYPE=image/png:https://lgba.com/wp-content/uploads/BHS-Trivia-Poster-.png
END:VEVENT
END:VCALENDAR