BEGIN:VCALENDAR
VERSION:2.0
PRODID:-//La Grange Business Association - ECPv6.15.20//NONSGML v1.0//EN
CALSCALE:GREGORIAN
METHOD:PUBLISH
X-WR-CALNAME:La Grange Business Association
X-ORIGINAL-URL:https://lgba.com
X-WR-CALDESC:Events for La Grange Business Association
REFRESH-INTERVAL;VALUE=DURATION:PT1H
X-Robots-Tag:noindex
X-PUBLISHED-TTL:PT1H
BEGIN:VTIMEZONE
TZID:America/Chicago
BEGIN:DAYLIGHT
TZOFFSETFROM:-0600
TZOFFSETTO:-0500
TZNAME:CDT
DTSTART:20250309T080000
END:DAYLIGHT
BEGIN:STANDARD
TZOFFSETFROM:-0500
TZOFFSETTO:-0600
TZNAME:CST
DTSTART:20251102T070000
END:STANDARD
BEGIN:DAYLIGHT
TZOFFSETFROM:-0600
TZOFFSETTO:-0500
TZNAME:CDT
DTSTART:20260308T080000
END:DAYLIGHT
BEGIN:STANDARD
TZOFFSETFROM:-0500
TZOFFSETTO:-0600
TZNAME:CST
DTSTART:20261101T070000
END:STANDARD
BEGIN:DAYLIGHT
TZOFFSETFROM:-0600
TZOFFSETTO:-0500
TZNAME:CDT
DTSTART:20270314T080000
END:DAYLIGHT
BEGIN:STANDARD
TZOFFSETFROM:-0500
TZOFFSETTO:-0600
TZNAME:CST
DTSTART:20271107T070000
END:STANDARD
END:VTIMEZONE
BEGIN:VEVENT
DTSTART;TZID=America/Chicago:20260421T110000
DTEND;TZID=America/Chicago:20260421T110000
DTSTAMP:20260423T121533
CREATED:20260330T145702Z
LAST-MODIFIED:20260330T145702Z
UID:20737-1776769200-1776769200@lgba.com
SUMMARY:The Upside of Downsizing: A Seminar with Roz Byrne
DESCRIPTION: The Upside of Downsizing: A Seminar with Roz Byrne\n April 21 at 11 a.m.\nJoin us for an enlightening seminar with Roz Byrne\, a seasoned Realtor with over 20 years of experience helping retirees successfully sell their homes. Her engaging seminar\, “The Upside of Downsizing\,” is tailored to address the unique concerns seniors face when considering a move.\n Lunch will be provided following the seminar.\n What to Expect:\n Moving Timetable:Learn how to effectively plan your move with a clear\, manageable timeline.\n Decluttering Tips:Discover how to enlist family help and helpful resources to simplify and reduce clutter.\n Market Insights:Understand the current real estate marketplace\, including important legal and consumer updates.\n Empowerment and Relief:Leave with the knowledge and confidence to sell your home when you’re ready.\nMany seniors feel empowered and relieved after attending Roz’s seminars\, armed with the tools and insights to take the next step confidently.\n Call 708-832-6165 to RSVP or learn more today!Don’t miss this opportunity to gain valuable knowledge and supportive guidance for your downsizing journey!
URL:https://lgba.com/event/the-upside-of-downsizing-a-seminar-with-roz-byrne/
LOCATION:Ascension Living Bethlehem Woods Village\, 1571 Ogden Avenue\, La Grange Park\, IL\, 60526\, United States
CATEGORIES:Educational
ATTACH;FMTTYPE=image/jpeg:https://lgba.com/wp-content/uploads/647385527_959434706617125_1095308224528083103_n.jpg
END:VEVENT
END:VCALENDAR