BEGIN:VCALENDAR
VERSION:2.0
PRODID:-//La Grange Business Association - ECPv6.15.20//NONSGML v1.0//EN
CALSCALE:GREGORIAN
METHOD:PUBLISH
X-WR-CALNAME:La Grange Business Association
X-ORIGINAL-URL:https://lgba.com
X-WR-CALDESC:Events for La Grange Business Association
REFRESH-INTERVAL;VALUE=DURATION:PT1H
X-Robots-Tag:noindex
X-PUBLISHED-TTL:PT1H
BEGIN:VTIMEZONE
TZID:America/Chicago
BEGIN:DAYLIGHT
TZOFFSETFROM:-0600
TZOFFSETTO:-0500
TZNAME:CDT
DTSTART:20250309T080000
END:DAYLIGHT
BEGIN:STANDARD
TZOFFSETFROM:-0500
TZOFFSETTO:-0600
TZNAME:CST
DTSTART:20251102T070000
END:STANDARD
BEGIN:DAYLIGHT
TZOFFSETFROM:-0600
TZOFFSETTO:-0500
TZNAME:CDT
DTSTART:20260308T080000
END:DAYLIGHT
BEGIN:STANDARD
TZOFFSETFROM:-0500
TZOFFSETTO:-0600
TZNAME:CST
DTSTART:20261101T070000
END:STANDARD
BEGIN:DAYLIGHT
TZOFFSETFROM:-0600
TZOFFSETTO:-0500
TZNAME:CDT
DTSTART:20270314T080000
END:DAYLIGHT
BEGIN:STANDARD
TZOFFSETFROM:-0500
TZOFFSETTO:-0600
TZNAME:CST
DTSTART:20271107T070000
END:STANDARD
END:VTIMEZONE
BEGIN:VEVENT
DTSTART;TZID=America/Chicago:20260209T080000
DTEND;TZID=America/Chicago:20260209T170000
DTSTAMP:20260423T152804
CREATED:20260209T162525Z
LAST-MODIFIED:20260209T162525Z
UID:17500-1770624000-1770656400@lgba.com
SUMMARY:St. Cletus Parish Vow Renewal
DESCRIPTION:We invite all those who were married at St. Cletus to join us for a special vow renewal at 5pm Mass\, followed by a reception in the Parish Center
URL:https://lgba.com/event/st-cletus-parish-vow-renewal/
LOCATION:St. Cletus Church\, 600 W. 55th Street\, La Grange\, IL\, 60525\, United States
CATEGORIES:Religious
ATTACH;FMTTYPE=image/jpeg:https://lgba.com/wp-content/uploads/600357327_1269112855245868_8750060550609037293_n.jpg
END:VEVENT
END:VCALENDAR