BEGIN:VCALENDAR
VERSION:2.0
PRODID:-//La Grange Business Association - ECPv6.15.20//NONSGML v1.0//EN
CALSCALE:GREGORIAN
METHOD:PUBLISH
X-WR-CALNAME:La Grange Business Association
X-ORIGINAL-URL:https://lgba.com
X-WR-CALDESC:Events for La Grange Business Association
REFRESH-INTERVAL;VALUE=DURATION:PT1H
X-Robots-Tag:noindex
X-PUBLISHED-TTL:PT1H
BEGIN:VTIMEZONE
TZID:America/Chicago
BEGIN:DAYLIGHT
TZOFFSETFROM:-0600
TZOFFSETTO:-0500
TZNAME:CDT
DTSTART:20250309T080000
END:DAYLIGHT
BEGIN:STANDARD
TZOFFSETFROM:-0500
TZOFFSETTO:-0600
TZNAME:CST
DTSTART:20251102T070000
END:STANDARD
BEGIN:DAYLIGHT
TZOFFSETFROM:-0600
TZOFFSETTO:-0500
TZNAME:CDT
DTSTART:20260308T080000
END:DAYLIGHT
BEGIN:STANDARD
TZOFFSETFROM:-0500
TZOFFSETTO:-0600
TZNAME:CST
DTSTART:20261101T070000
END:STANDARD
BEGIN:DAYLIGHT
TZOFFSETFROM:-0600
TZOFFSETTO:-0500
TZNAME:CDT
DTSTART:20270314T080000
END:DAYLIGHT
BEGIN:STANDARD
TZOFFSETFROM:-0500
TZOFFSETTO:-0600
TZNAME:CST
DTSTART:20271107T070000
END:STANDARD
END:VTIMEZONE
BEGIN:VEVENT
DTSTART;TZID=America/Chicago:20260407T193000
DTEND;TZID=America/Chicago:20260407T213000
DTSTAMP:20260423T121456
CREATED:20260319T004034Z
LAST-MODIFIED:20260319T004034Z
UID:19282-1775590200-1775597400@lgba.com
SUMMARY:Spring Menu Party™ - A Private Tasting Event
DESCRIPTION:The best party in the ‘burbs is back for Round 12! Grab your group and make plans now — they’ll thank you later. \nThis time it’s our Spring Menu Party™: a private tasting where you get to enjoy Chef Juan’s brand new spring menu(six courses) before it’s released to the public. \nSo… oh my god… are you ✨better than everyone else?!✨ \nEvery party gets a theme\, and this time it’s Spring Festival 🌸🌿 Think colorful\, vibrant\, easy spring vibes. Dress up if you want… there might be a few prizes waiting. \nLimited tickets available ➡️ https://woodenpaddle.com/springmenuparty \nTickets: $69 per person \nDates: April 7\, Tuesday\, 7:30–9:30 PM
URL:https://lgba.com/event/spring-menu-party-a-private-tasting-event/
LOCATION:Wooden Paddle\, 23 Calendar Avenue\, La Grange\, IL\, 60525\, United States
CATEGORIES:Dining,Entertainment,Featured Event,Special Menu,Tasting
ATTACH;FMTTYPE=image/png:https://lgba.com/wp-content/uploads/menu-party.png
END:VEVENT
END:VCALENDAR