BEGIN:VCALENDAR
VERSION:2.0
PRODID:-//La Grange Business Association - ECPv6.15.20//NONSGML v1.0//EN
CALSCALE:GREGORIAN
METHOD:PUBLISH
X-WR-CALNAME:La Grange Business Association
X-ORIGINAL-URL:https://lgba.com
X-WR-CALDESC:Events for La Grange Business Association
REFRESH-INTERVAL;VALUE=DURATION:PT1H
X-Robots-Tag:noindex
X-PUBLISHED-TTL:PT1H
BEGIN:VTIMEZONE
TZID:America/Chicago
BEGIN:DAYLIGHT
TZOFFSETFROM:-0600
TZOFFSETTO:-0500
TZNAME:CDT
DTSTART:20250309T080000
END:DAYLIGHT
BEGIN:STANDARD
TZOFFSETFROM:-0500
TZOFFSETTO:-0600
TZNAME:CST
DTSTART:20251102T070000
END:STANDARD
BEGIN:DAYLIGHT
TZOFFSETFROM:-0600
TZOFFSETTO:-0500
TZNAME:CDT
DTSTART:20260308T080000
END:DAYLIGHT
BEGIN:STANDARD
TZOFFSETFROM:-0500
TZOFFSETTO:-0600
TZNAME:CST
DTSTART:20261101T070000
END:STANDARD
BEGIN:DAYLIGHT
TZOFFSETFROM:-0600
TZOFFSETTO:-0500
TZNAME:CDT
DTSTART:20270314T080000
END:DAYLIGHT
BEGIN:STANDARD
TZOFFSETFROM:-0500
TZOFFSETTO:-0600
TZNAME:CST
DTSTART:20271107T070000
END:STANDARD
END:VTIMEZONE
BEGIN:VEVENT
DTSTART;TZID=America/Chicago:20260201T150000
DTEND;TZID=America/Chicago:20260201T190000
DTSTAMP:20260423T152526
CREATED:20260114T171821Z
LAST-MODIFIED:20260114T171821Z
UID:16102-1769958000-1769972400@lgba.com
SUMMARY:Soup and Bread Event
DESCRIPTION:Tickets go fast for this beloved BEDS Plus tradition—don’t wait!\nJoin us for our 14th annual Soup & Bread Event\, where the community comes together to enjoy great soup while supporting neighbors facing housing insecurity. Every ticket sold helps BEDS Plus prevent homelessness\, provide shelter\, and support individuals and families on their path to stability. \n\n February 1\, 2026 Tickets sell out quicklyhttps://support.beds-plus.org/…/beds-plus-soup…/e731733\n\nCome hungry. Leave inspired. Your seat at the table helps change lives.\n#SoupAndBread #BEDSPlus #TicketsSellFast #EndHomelessness #CommunitySupport #HousingStability #LaGrangeCares
URL:https://lgba.com/event/soup-and-bread-event/
LOCATION:Countryside Banquet & Conference Center\, 6200 Joliet Road\, Countryside\, IL\, United States
CATEGORIES:Community,Fundraiser,Non-Profit
ATTACH;FMTTYPE=image/jpeg:https://lgba.com/wp-content/uploads/soup-and-bread.jpg
END:VEVENT
END:VCALENDAR