BEGIN:VCALENDAR
VERSION:2.0
PRODID:-//La Grange Business Association - ECPv6.15.20//NONSGML v1.0//EN
CALSCALE:GREGORIAN
METHOD:PUBLISH
X-WR-CALNAME:La Grange Business Association
X-ORIGINAL-URL:https://lgba.com
X-WR-CALDESC:Events for La Grange Business Association
REFRESH-INTERVAL;VALUE=DURATION:PT1H
X-Robots-Tag:noindex
X-PUBLISHED-TTL:PT1H
BEGIN:VTIMEZONE
TZID:America/Chicago
BEGIN:DAYLIGHT
TZOFFSETFROM:-0600
TZOFFSETTO:-0500
TZNAME:CDT
DTSTART:20250309T080000
END:DAYLIGHT
BEGIN:STANDARD
TZOFFSETFROM:-0500
TZOFFSETTO:-0600
TZNAME:CST
DTSTART:20251102T070000
END:STANDARD
BEGIN:DAYLIGHT
TZOFFSETFROM:-0600
TZOFFSETTO:-0500
TZNAME:CDT
DTSTART:20260308T080000
END:DAYLIGHT
BEGIN:STANDARD
TZOFFSETFROM:-0500
TZOFFSETTO:-0600
TZNAME:CST
DTSTART:20261101T070000
END:STANDARD
BEGIN:DAYLIGHT
TZOFFSETFROM:-0600
TZOFFSETTO:-0500
TZNAME:CDT
DTSTART:20270314T080000
END:DAYLIGHT
BEGIN:STANDARD
TZOFFSETFROM:-0500
TZOFFSETTO:-0600
TZNAME:CST
DTSTART:20271107T070000
END:STANDARD
END:VTIMEZONE
BEGIN:VEVENT
DTSTART;TZID=America/Chicago:20260706T090000
DTEND;TZID=America/Chicago:20260710T120000
DTSTAMP:20260423T152759
CREATED:20260224T224951Z
LAST-MODIFIED:20260224T224951Z
UID:18184-1783328400-1783684800@lgba.com
SUMMARY:Sculpt It: A Mixed Media 3d Adventure
DESCRIPTION:Join us for a one week summer art class from July 6th – 10th for 3rd – 7th grade (starting in fall 2026). Students will be exploring 3 dimensional art through a variety of materials. Please register now as space is limited.\nFind more details on lagrangeartleague.org\n#summerartclass#summercreate
URL:https://lgba.com/event/sculpt-it-a-mixed-media-3d-adventure/
LOCATION:La Grange Art League\, 122 Calendar Drive\, La Grange\, IL\, 60525\, United States
CATEGORIES:Art,Educational
ATTACH;FMTTYPE=image/jpeg:https://lgba.com/wp-content/uploads/635102052_1757224985594232_1894763638897682379_n.jpg
END:VEVENT
END:VCALENDAR