BEGIN:VCALENDAR
VERSION:2.0
PRODID:-//La Grange Business Association - ECPv6.15.20//NONSGML v1.0//EN
CALSCALE:GREGORIAN
METHOD:PUBLISH
X-WR-CALNAME:La Grange Business Association
X-ORIGINAL-URL:https://lgba.com
X-WR-CALDESC:Events for La Grange Business Association
REFRESH-INTERVAL;VALUE=DURATION:PT1H
X-Robots-Tag:noindex
X-PUBLISHED-TTL:PT1H
BEGIN:VTIMEZONE
TZID:America/Chicago
BEGIN:DAYLIGHT
TZOFFSETFROM:-0600
TZOFFSETTO:-0500
TZNAME:CDT
DTSTART:20240310T080000
END:DAYLIGHT
BEGIN:STANDARD
TZOFFSETFROM:-0500
TZOFFSETTO:-0600
TZNAME:CST
DTSTART:20241103T070000
END:STANDARD
BEGIN:DAYLIGHT
TZOFFSETFROM:-0600
TZOFFSETTO:-0500
TZNAME:CDT
DTSTART:20250309T080000
END:DAYLIGHT
BEGIN:STANDARD
TZOFFSETFROM:-0500
TZOFFSETTO:-0600
TZNAME:CST
DTSTART:20251102T070000
END:STANDARD
BEGIN:DAYLIGHT
TZOFFSETFROM:-0600
TZOFFSETTO:-0500
TZNAME:CDT
DTSTART:20260308T080000
END:DAYLIGHT
BEGIN:STANDARD
TZOFFSETFROM:-0500
TZOFFSETTO:-0600
TZNAME:CST
DTSTART:20261101T070000
END:STANDARD
END:VTIMEZONE
BEGIN:VEVENT
DTSTART;TZID=America/Chicago:20251202T180000
DTEND;TZID=America/Chicago:20251202T180000
DTSTAMP:20260423T135546
CREATED:20251114T174449Z
LAST-MODIFIED:20251114T174449Z
UID:13918-1764698400-1764698400@lgba.com
SUMMARY:Movie Night:  Home Alone
DESCRIPTION:Catch Home Alone while enjoying the great hospitality at Barrel House Social! \nABOUT HOME ALONE\nWhen bratty 8-year-old Kevin McCallister (Macaulay Culkin) acts out the night before a family trip to Paris\, his mother (Catherine O’Hara) makes him sleep in the attic. After the McCallisters mistakenly leave for the airport without Kevin\, he awakens to an empty house and assumes his wish to have no family has come true. But his excitement sours when he realizes that two con men (Joe Pesci\, Daniel Stern) plan to rob the McCallister residence\, and that he alone must protect the family home.
URL:https://lgba.com/event/movie-night-home-alone/
LOCATION:Barrel House Social\, 100 W. Burlington\, La Grange\, IL\, 60525\, United States
CATEGORIES:Entertainment,Holiday,Hometown Holidays,Movies
ATTACH;FMTTYPE=image/png:https://lgba.com/wp-content/uploads/BHS-movie.png
END:VEVENT
END:VCALENDAR