BEGIN:VCALENDAR
VERSION:2.0
PRODID:-//La Grange Business Association - ECPv6.15.20//NONSGML v1.0//EN
CALSCALE:GREGORIAN
METHOD:PUBLISH
X-WR-CALNAME:La Grange Business Association
X-ORIGINAL-URL:https://lgba.com
X-WR-CALDESC:Events for La Grange Business Association
REFRESH-INTERVAL;VALUE=DURATION:PT1H
X-Robots-Tag:noindex
X-PUBLISHED-TTL:PT1H
BEGIN:VTIMEZONE
TZID:America/Chicago
BEGIN:DAYLIGHT
TZOFFSETFROM:-0600
TZOFFSETTO:-0500
TZNAME:CDT
DTSTART:20250309T080000
END:DAYLIGHT
BEGIN:STANDARD
TZOFFSETFROM:-0500
TZOFFSETTO:-0600
TZNAME:CST
DTSTART:20251102T070000
END:STANDARD
BEGIN:DAYLIGHT
TZOFFSETFROM:-0600
TZOFFSETTO:-0500
TZNAME:CDT
DTSTART:20260308T080000
END:DAYLIGHT
BEGIN:STANDARD
TZOFFSETFROM:-0500
TZOFFSETTO:-0600
TZNAME:CST
DTSTART:20261101T070000
END:STANDARD
BEGIN:DAYLIGHT
TZOFFSETFROM:-0600
TZOFFSETTO:-0500
TZNAME:CDT
DTSTART:20270314T080000
END:DAYLIGHT
BEGIN:STANDARD
TZOFFSETFROM:-0500
TZOFFSETTO:-0600
TZNAME:CST
DTSTART:20271107T070000
END:STANDARD
END:VTIMEZONE
BEGIN:VEVENT
DTSTART;TZID=America/Chicago:20260716T180000
DTEND;TZID=America/Chicago:20260716T210000
DTSTAMP:20260423T134556
CREATED:20260323T150351Z
LAST-MODIFIED:20260323T150810Z
UID:10002741-1784224800-1784235600@lgba.com
SUMMARY:Live Music by Kristi Alsip
DESCRIPTION:I’ve always gravitated toward acoustic performance…raw versions of tunes we all know\, as well as hidden gems that we haven’t heard in ages.  I play stripped-down covers from Fleetwood Mac\, Pat Benatar\, The Cranberries\, Lady Gaga\, Maroon 5\, Oasis\, Amy Winehouse\, and more.
URL:https://lgba.com/event/live-music-by-kristi-alsip/2026-07-16/
LOCATION:Milk Money Brewing\, 75 LaGrange Rd\, La Grange\, IL\, 60525\, United States
CATEGORIES:Entertainment,Goblet Society,Live Music
ATTACH;FMTTYPE=image/avif:https://lgba.com/wp-content/uploads/1000064301_edited.avif
END:VEVENT
END:VCALENDAR