BEGIN:VCALENDAR
VERSION:2.0
PRODID:-//La Grange Business Association - ECPv6.15.20//NONSGML v1.0//EN
CALSCALE:GREGORIAN
METHOD:PUBLISH
X-WR-CALNAME:La Grange Business Association
X-ORIGINAL-URL:https://lgba.com
X-WR-CALDESC:Events for La Grange Business Association
REFRESH-INTERVAL;VALUE=DURATION:PT1H
X-Robots-Tag:noindex
X-PUBLISHED-TTL:PT1H
BEGIN:VTIMEZONE
TZID:America/Chicago
BEGIN:DAYLIGHT
TZOFFSETFROM:-0600
TZOFFSETTO:-0500
TZNAME:CDT
DTSTART:20250309T080000
END:DAYLIGHT
BEGIN:STANDARD
TZOFFSETFROM:-0500
TZOFFSETTO:-0600
TZNAME:CST
DTSTART:20251102T070000
END:STANDARD
BEGIN:DAYLIGHT
TZOFFSETFROM:-0600
TZOFFSETTO:-0500
TZNAME:CDT
DTSTART:20260308T080000
END:DAYLIGHT
BEGIN:STANDARD
TZOFFSETFROM:-0500
TZOFFSETTO:-0600
TZNAME:CST
DTSTART:20261101T070000
END:STANDARD
BEGIN:DAYLIGHT
TZOFFSETFROM:-0600
TZOFFSETTO:-0500
TZNAME:CDT
DTSTART:20270314T080000
END:DAYLIGHT
BEGIN:STANDARD
TZOFFSETFROM:-0500
TZOFFSETTO:-0600
TZNAME:CST
DTSTART:20271107T070000
END:STANDARD
END:VTIMEZONE
BEGIN:VEVENT
DTSTART;TZID=America/Chicago:20261208T130000
DTEND;TZID=America/Chicago:20261208T153000
DTSTAMP:20260423T153058
CREATED:20260331T153354Z
LAST-MODIFIED:20260331T153354Z
UID:10002799-1796734800-1796743800@lgba.com
SUMMARY:Learn to Love Watercolor 6-week Art Class (4/7 - 5/12)
DESCRIPTION:Dates: April  7\, 14\, 21\, 28\, May 5 & 12\nMember $150* | Non-Member $180\n*members need to log in on website for member discount \nMax Students: 15\nSKU#: PKPVLU36 \nReady to take your watercolor skills to the next level? This class is designed for intermediate and advanced artists looking to refine their technique and composition. Work from your own references while discovering the magic of a limited color palette to create luminous\, expressive paintings. Through value studies and a deeper understanding of the Principles and Elements of Art\, you’ll gain confidence in your creative choices. Let go of hesitation and immerse yourself in the beauty of watercolor!
URL:https://lgba.com/event/learn-to-love-watercolor-6-week-art-class-4-7-5-12/2026-12-08/
LOCATION:La Grange Art League\, 122 Calendar Drive\, La Grange\, IL\, 60525\, United States
ATTACH;FMTTYPE=image/webp:https://lgba.com/wp-content/uploads/PXL_20250722_215034833_3.webp
END:VEVENT
END:VCALENDAR