BEGIN:VCALENDAR
VERSION:2.0
PRODID:-//La Grange Business Association - ECPv6.15.20//NONSGML v1.0//EN
CALSCALE:GREGORIAN
METHOD:PUBLISH
X-WR-CALNAME:La Grange Business Association
X-ORIGINAL-URL:https://lgba.com
X-WR-CALDESC:Events for La Grange Business Association
REFRESH-INTERVAL;VALUE=DURATION:PT1H
X-Robots-Tag:noindex
X-PUBLISHED-TTL:PT1H
BEGIN:VTIMEZONE
TZID:America/Chicago
BEGIN:DAYLIGHT
TZOFFSETFROM:-0600
TZOFFSETTO:-0500
TZNAME:CDT
DTSTART:20250309T080000
END:DAYLIGHT
BEGIN:STANDARD
TZOFFSETFROM:-0500
TZOFFSETTO:-0600
TZNAME:CST
DTSTART:20251102T070000
END:STANDARD
BEGIN:DAYLIGHT
TZOFFSETFROM:-0600
TZOFFSETTO:-0500
TZNAME:CDT
DTSTART:20260308T080000
END:DAYLIGHT
BEGIN:STANDARD
TZOFFSETFROM:-0500
TZOFFSETTO:-0600
TZNAME:CST
DTSTART:20261101T070000
END:STANDARD
BEGIN:DAYLIGHT
TZOFFSETFROM:-0600
TZOFFSETTO:-0500
TZNAME:CDT
DTSTART:20270314T080000
END:DAYLIGHT
BEGIN:STANDARD
TZOFFSETFROM:-0500
TZOFFSETTO:-0600
TZNAME:CST
DTSTART:20271107T070000
END:STANDARD
END:VTIMEZONE
BEGIN:VEVENT
DTSTART;TZID=America/Chicago:20260201T180000
DTEND;TZID=America/Chicago:20260201T180000
DTSTAMP:20260423T135054
CREATED:20260114T172310Z
LAST-MODIFIED:20260114T172310Z
UID:16106-1769968800-1769968800@lgba.com
SUMMARY:Festal Evensong
DESCRIPTION:Join the combined choirs of Emmanuel La Grange\, Grace Oak Park\, and St Mark’s Glen Ellyn for a very special Evensong featuring Anglican classics including Stanford in C.
URL:https://lgba.com/event/festal-evensong/
LOCATION:Emmanuel Episcopal Church\, 203 S. Kensington Avenue\, La Grange\, IL\, 60525\, United States
CATEGORIES:Live Music,Non-Profit,Religious
ATTACH;FMTTYPE=image/jpeg:https://lgba.com/wp-content/uploads/614861298_1292017522959548_8105767260830287668_n.jpg
ORGANIZER;CN="Emmanuel Episcopal Church":MAILTO:https://www.emmanuel-lagrange.org/
END:VEVENT
END:VCALENDAR