BEGIN:VCALENDAR
VERSION:2.0
PRODID:-//La Grange Business Association - ECPv6.15.20//NONSGML v1.0//EN
CALSCALE:GREGORIAN
METHOD:PUBLISH
X-WR-CALNAME:La Grange Business Association
X-ORIGINAL-URL:https://lgba.com
X-WR-CALDESC:Events for La Grange Business Association
REFRESH-INTERVAL;VALUE=DURATION:PT1H
X-Robots-Tag:noindex
X-PUBLISHED-TTL:PT1H
BEGIN:VTIMEZONE
TZID:America/Chicago
BEGIN:DAYLIGHT
TZOFFSETFROM:-0600
TZOFFSETTO:-0500
TZNAME:CDT
DTSTART:20250309T080000
END:DAYLIGHT
BEGIN:STANDARD
TZOFFSETFROM:-0500
TZOFFSETTO:-0600
TZNAME:CST
DTSTART:20251102T070000
END:STANDARD
BEGIN:DAYLIGHT
TZOFFSETFROM:-0600
TZOFFSETTO:-0500
TZNAME:CDT
DTSTART:20260308T080000
END:DAYLIGHT
BEGIN:STANDARD
TZOFFSETFROM:-0500
TZOFFSETTO:-0600
TZNAME:CST
DTSTART:20261101T070000
END:STANDARD
BEGIN:DAYLIGHT
TZOFFSETFROM:-0600
TZOFFSETTO:-0500
TZNAME:CDT
DTSTART:20270314T080000
END:DAYLIGHT
BEGIN:STANDARD
TZOFFSETFROM:-0500
TZOFFSETTO:-0600
TZNAME:CST
DTSTART:20271107T070000
END:STANDARD
END:VTIMEZONE
BEGIN:VEVENT
DTSTART;TZID=America/Chicago:20260405T100000
DTEND;TZID=America/Chicago:20260405T140000
DTSTAMP:20260423T152416
CREATED:20260402T172955Z
LAST-MODIFIED:20260402T172955Z
UID:20926-1775383200-1775397600@lgba.com
SUMMARY:Easter Brunch
DESCRIPTION:This + Easter?!  feels like something the Easter Bunny would order for brunch.\n\n\nOur Easter brunch specials are here: Honeyfire Pork Belly Deviled Eggs + Carrot Blossom Fizz\n\n\nApril 4 & 5\, 10 AM to 2 PM\, both locations\n\n\nCome grab a table\, hang a little\, celebrate Easter with us!\n\n\nBook A Table   https://woodenpaddle.com/reservations/
URL:https://lgba.com/event/easter-brunch-2/
LOCATION:Wooden Paddle\, 23 Calendar Avenue\, La Grange\, IL\, 60525\, United States
CATEGORIES:Dining,Holiday
ATTACH;FMTTYPE=image/jpeg:https://lgba.com/wp-content/uploads/656294743_18576324625041980_6816510806521096978_n.jpg
END:VEVENT
END:VCALENDAR