BEGIN:VCALENDAR
VERSION:2.0
PRODID:-//La Grange Business Association - ECPv6.15.20//NONSGML v1.0//EN
CALSCALE:GREGORIAN
METHOD:PUBLISH
X-WR-CALNAME:La Grange Business Association
X-ORIGINAL-URL:https://lgba.com
X-WR-CALDESC:Events for La Grange Business Association
REFRESH-INTERVAL;VALUE=DURATION:PT1H
X-Robots-Tag:noindex
X-PUBLISHED-TTL:PT1H
BEGIN:VTIMEZONE
TZID:America/Chicago
BEGIN:DAYLIGHT
TZOFFSETFROM:-0600
TZOFFSETTO:-0500
TZNAME:CDT
DTSTART:20250309T080000
END:DAYLIGHT
BEGIN:STANDARD
TZOFFSETFROM:-0500
TZOFFSETTO:-0600
TZNAME:CST
DTSTART:20251102T070000
END:STANDARD
BEGIN:DAYLIGHT
TZOFFSETFROM:-0600
TZOFFSETTO:-0500
TZNAME:CDT
DTSTART:20260308T080000
END:DAYLIGHT
BEGIN:STANDARD
TZOFFSETFROM:-0500
TZOFFSETTO:-0600
TZNAME:CST
DTSTART:20261101T070000
END:STANDARD
BEGIN:DAYLIGHT
TZOFFSETFROM:-0600
TZOFFSETTO:-0500
TZNAME:CDT
DTSTART:20270314T080000
END:DAYLIGHT
BEGIN:STANDARD
TZOFFSETFROM:-0500
TZOFFSETTO:-0600
TZNAME:CST
DTSTART:20271107T070000
END:STANDARD
END:VTIMEZONE
BEGIN:VEVENT
DTSTART;TZID=America/Chicago:20260322T103000
DTEND;TZID=America/Chicago:20260322T103000
DTSTAMP:20260423T135141
CREATED:20260312T153437Z
LAST-MODIFIED:20260312T153437Z
UID:19348-1774175400-1774175400@lgba.com
SUMMARY:Disney Drag Brunch
DESCRIPTION:BRUNCH TICKETS ON SALE NOW!: \nSunday March 22nd – 10:30am – Only one show \n\n\nVisit Marco’s Kitchen at www.opentable.com \nfor reservations. For groups of over eight\, please call Marco: 708-603-2129. \nDETAILS: \nWe’re serving a fantastic European-style brunch with all the mimosas you can drink followed by a HIGH-ENERGY DRAG SHOW featuring Jacky Couture and her friends performing as all of your favorite Disney characters. Bring your Minny Mouse ears to join in the FUN! \nTHE FEE: \n$70 per person – 21 and over please \nIncludes brunch with bottomless mimosas\, the show\, sales tax\, and gratuity. \nBOOK NOW
URL:https://lgba.com/event/disney-drag-brunch/
LOCATION:Marco’s Kitchen\, 26 S. La Grange Road\, La Grange\, IL\, 60525\, United States
CATEGORIES:Dining,Drag Brunch,Entertainment
ATTACH;FMTTYPE=image/png:https://lgba.com/wp-content/uploads/Screen-Shot-2026-03-12-at-10.36.11-AM.png
END:VEVENT
END:VCALENDAR