BEGIN:VCALENDAR
VERSION:2.0
PRODID:-//La Grange Business Association - ECPv6.15.20//NONSGML v1.0//EN
CALSCALE:GREGORIAN
METHOD:PUBLISH
X-WR-CALNAME:La Grange Business Association
X-ORIGINAL-URL:https://lgba.com
X-WR-CALDESC:Events for La Grange Business Association
REFRESH-INTERVAL;VALUE=DURATION:PT1H
X-Robots-Tag:noindex
X-PUBLISHED-TTL:PT1H
BEGIN:VTIMEZONE
TZID:America/Chicago
BEGIN:DAYLIGHT
TZOFFSETFROM:-0600
TZOFFSETTO:-0500
TZNAME:CDT
DTSTART:20250309T080000
END:DAYLIGHT
BEGIN:STANDARD
TZOFFSETFROM:-0500
TZOFFSETTO:-0600
TZNAME:CST
DTSTART:20251102T070000
END:STANDARD
BEGIN:DAYLIGHT
TZOFFSETFROM:-0600
TZOFFSETTO:-0500
TZNAME:CDT
DTSTART:20260308T080000
END:DAYLIGHT
BEGIN:STANDARD
TZOFFSETFROM:-0500
TZOFFSETTO:-0600
TZNAME:CST
DTSTART:20261101T070000
END:STANDARD
BEGIN:DAYLIGHT
TZOFFSETFROM:-0600
TZOFFSETTO:-0500
TZNAME:CDT
DTSTART:20270314T080000
END:DAYLIGHT
BEGIN:STANDARD
TZOFFSETFROM:-0500
TZOFFSETTO:-0600
TZNAME:CST
DTSTART:20271107T070000
END:STANDARD
END:VTIMEZONE
BEGIN:VEVENT
DTSTART;TZID=America/Chicago:20260217T190000
DTEND;TZID=America/Chicago:20260217T200000
DTSTAMP:20260423T153329
CREATED:20260216T211030Z
LAST-MODIFIED:20260216T211030Z
UID:17932-1771354800-1771358400@lgba.com
SUMMARY:Community Concert Series: Tyler Kivel\, pianist
DESCRIPTION:Our Community Concert Series brings gifted musicians to perform on the third Tuesday of each month at First Presbyterian Church of La Grange. Concerts are free and open to all. February 17 features Tyler Kivel on piano.
URL:https://lgba.com/event/community-concert-series-tyler-kivel-pianist/
LOCATION:First Presbyterian Church\, 150 S. Ashland Avenue\, La Grange\, IL\, 60525\, United States
CATEGORIES:Live Music,Non-Profit
ATTACH;FMTTYPE=image/png:https://lgba.com/wp-content/uploads/Narthex_Slides_21526.png
END:VEVENT
END:VCALENDAR