BEGIN:VCALENDAR
VERSION:2.0
PRODID:-//La Grange Business Association - ECPv6.15.20//NONSGML v1.0//EN
CALSCALE:GREGORIAN
METHOD:PUBLISH
X-WR-CALNAME:La Grange Business Association
X-ORIGINAL-URL:https://lgba.com
X-WR-CALDESC:Events for La Grange Business Association
REFRESH-INTERVAL;VALUE=DURATION:PT1H
X-Robots-Tag:noindex
X-PUBLISHED-TTL:PT1H
BEGIN:VTIMEZONE
TZID:America/Chicago
BEGIN:DAYLIGHT
TZOFFSETFROM:-0600
TZOFFSETTO:-0500
TZNAME:CDT
DTSTART:20240310T080000
END:DAYLIGHT
BEGIN:STANDARD
TZOFFSETFROM:-0500
TZOFFSETTO:-0600
TZNAME:CST
DTSTART:20241103T070000
END:STANDARD
BEGIN:DAYLIGHT
TZOFFSETFROM:-0600
TZOFFSETTO:-0500
TZNAME:CDT
DTSTART:20250309T080000
END:DAYLIGHT
BEGIN:STANDARD
TZOFFSETFROM:-0500
TZOFFSETTO:-0600
TZNAME:CST
DTSTART:20251102T070000
END:STANDARD
BEGIN:DAYLIGHT
TZOFFSETFROM:-0600
TZOFFSETTO:-0500
TZNAME:CDT
DTSTART:20260308T080000
END:DAYLIGHT
BEGIN:STANDARD
TZOFFSETFROM:-0500
TZOFFSETTO:-0600
TZNAME:CST
DTSTART:20261101T070000
END:STANDARD
END:VTIMEZONE
BEGIN:VEVENT
DTSTART;TZID=America/Chicago:20251122T100000
DTEND;TZID=America/Chicago:20251122T140000
DTSTAMP:20260423T152508
CREATED:20251110T214525Z
LAST-MODIFIED:20251110T214525Z
UID:13564-1763805600-1763820000@lgba.com
SUMMARY:Community Boot and Shoe Share
DESCRIPTION:Come share your old styles and try and find some new to you! We will accept all seasonably appropriate footwear to share with the community. We will also accept unusable footwear to be recycled and repurposed.
URL:https://lgba.com/event/community-boot-and-shoe-share/
LOCATION:La Grange Public Library\, 10 W. Cossitt\, La Grange\, IL\, 60525\, United States
CATEGORIES:Community,Environmental
ATTACH;FMTTYPE=image/jpeg:https://lgba.com/wp-content/uploads/go-green-la-grange.jpg
ORGANIZER;CN="Go Green La Grange":MAILTO:gogreenlagrange1@gmail.com
END:VEVENT
END:VCALENDAR