BEGIN:VCALENDAR
VERSION:2.0
PRODID:-//La Grange Business Association - ECPv6.15.20//NONSGML v1.0//EN
CALSCALE:GREGORIAN
METHOD:PUBLISH
X-WR-CALNAME:La Grange Business Association
X-ORIGINAL-URL:https://lgba.com
X-WR-CALDESC:Events for La Grange Business Association
REFRESH-INTERVAL;VALUE=DURATION:PT1H
X-Robots-Tag:noindex
X-PUBLISHED-TTL:PT1H
BEGIN:VTIMEZONE
TZID:America/Chicago
BEGIN:DAYLIGHT
TZOFFSETFROM:-0600
TZOFFSETTO:-0500
TZNAME:CDT
DTSTART:20250309T080000
END:DAYLIGHT
BEGIN:STANDARD
TZOFFSETFROM:-0500
TZOFFSETTO:-0600
TZNAME:CST
DTSTART:20251102T070000
END:STANDARD
BEGIN:DAYLIGHT
TZOFFSETFROM:-0600
TZOFFSETTO:-0500
TZNAME:CDT
DTSTART:20260308T080000
END:DAYLIGHT
BEGIN:STANDARD
TZOFFSETFROM:-0500
TZOFFSETTO:-0600
TZNAME:CST
DTSTART:20261101T070000
END:STANDARD
BEGIN:DAYLIGHT
TZOFFSETFROM:-0600
TZOFFSETTO:-0500
TZNAME:CDT
DTSTART:20270314T080000
END:DAYLIGHT
BEGIN:STANDARD
TZOFFSETFROM:-0500
TZOFFSETTO:-0600
TZNAME:CST
DTSTART:20271107T070000
END:STANDARD
END:VTIMEZONE
BEGIN:VEVENT
DTSTART;TZID=America/Chicago:20260314T110000
DTEND;TZID=America/Chicago:20260314T150000
DTSTAMP:20260423T135431
CREATED:20260309T153944Z
LAST-MODIFIED:20260309T154009Z
UID:10002668-1773486000-1773500400@lgba.com
SUMMARY:Catering Hiring Fair
DESCRIPTION:Our catering team is hiring! Come through on March 14 & 21!\n What: Hiring Fair with On-The-Spot Interviews When: Saturday\, March 14 & 21\, 11 AM – 3 PM Where: 23 Calendar Ave\, La Grange\, IL\nWe’re hiring for  ALL  positions — Chefs\, Cooks\, Event Captains\, Servers\, Bartenders\, and Dishwashers!\nWhy you’ll wanna be there: On-the-spot job offers — If you’re THE ONE\, you could get hired the same day! Meet the team — Hang out with your future teammates!\nQuestions? DM us or email hello@woodenpaddle.com
URL:https://lgba.com/event/catering-hiring-fair/2026-03-14/
LOCATION:Wooden Paddle\, 23 Calendar Avenue\, La Grange\, IL\, 60525\, United States
CATEGORIES:Job Fair
ATTACH;FMTTYPE=image/jpeg:https://lgba.com/wp-content/uploads/645473966_1493286452805402_8507176180810042093_n.jpg
END:VEVENT
END:VCALENDAR