BEGIN:VCALENDAR
VERSION:2.0
PRODID:-//La Grange Business Association - ECPv6.15.20//NONSGML v1.0//EN
CALSCALE:GREGORIAN
METHOD:PUBLISH
X-WR-CALNAME:La Grange Business Association
X-ORIGINAL-URL:https://lgba.com
X-WR-CALDESC:Events for La Grange Business Association
REFRESH-INTERVAL;VALUE=DURATION:PT1H
X-Robots-Tag:noindex
X-PUBLISHED-TTL:PT1H
BEGIN:VTIMEZONE
TZID:America/Chicago
BEGIN:DAYLIGHT
TZOFFSETFROM:-0600
TZOFFSETTO:-0500
TZNAME:CDT
DTSTART:20250309T080000
END:DAYLIGHT
BEGIN:STANDARD
TZOFFSETFROM:-0500
TZOFFSETTO:-0600
TZNAME:CST
DTSTART:20251102T070000
END:STANDARD
BEGIN:DAYLIGHT
TZOFFSETFROM:-0600
TZOFFSETTO:-0500
TZNAME:CDT
DTSTART:20260308T080000
END:DAYLIGHT
BEGIN:STANDARD
TZOFFSETFROM:-0500
TZOFFSETTO:-0600
TZNAME:CST
DTSTART:20261101T070000
END:STANDARD
BEGIN:DAYLIGHT
TZOFFSETFROM:-0600
TZOFFSETTO:-0500
TZNAME:CDT
DTSTART:20270314T080000
END:DAYLIGHT
BEGIN:STANDARD
TZOFFSETFROM:-0500
TZOFFSETTO:-0600
TZNAME:CST
DTSTART:20271107T070000
END:STANDARD
END:VTIMEZONE
BEGIN:VEVENT
DTSTART;TZID=America/Chicago:20260416T183000
DTEND;TZID=America/Chicago:20260416T200000
DTSTAMP:20260423T121622
CREATED:20260330T143541Z
LAST-MODIFIED:20260330T143541Z
UID:20729-1776364200-1776369600@lgba.com
SUMMARY:Brain Health Matters: What Parents\, Teens\, and Adults Need to Know
DESCRIPTION:Don’t miss this free community event featuring the co-creator of the MIND Diet—a leading expert on which eating patterns can support brain health and reduce risk for Alzheimer’s and other chronic diseases.\n\nThis engaging event will also cover simple\, research-based habits—nutrition\, movement\, sleep\, and stress management—that support well-being\, academic performance\, and long-term health.\n\nThe earlier these habits start\, the greater the impact.\n\nIdeal for parents\, teens\, educators and community members.\n\nOptWell will provide a Spanish translator at the event.\n\nThank you to our speakers:Olivia Matongo — Alzheimer’s Association Illinois Chapter (U.S. POINTER Study insights)Phyllis Jones — U.S. POINTER Study participant & community advocate (testimonial)Dr. Neelum Aggarwal — Rush Alzheimer’s Disease Center (early interventions & biomarkers)Laura Morris — Chef & Nutrition Expert\, Co-creator of The Official MIND Diet\n\nResource Tables – Open 6-6:30 and 8-8:30 Include: Aging Care Connections\, Alzheimer’s Association / IL Brain Health Project\, CARS (Community Assisted Rides)\, FNBC Bank & Trust\, OptWell\, Rush Alzheimer’s Disease Center\, The Community House and The Official MIND Diet
URL:https://lgba.com/event/brain-health-matters-what-parents-teens-and-adults-need-to-know/
LOCATION:The Community House\, 415 W. 8th Street\, Hinsdale\, IL\, 60521\, United States
CATEGORIES:Health & Wellness
ATTACH;FMTTYPE=image/jpeg:https://lgba.com/wp-content/uploads/657707421_122155453796721560_4312947703138637891_n.jpg
END:VEVENT
END:VCALENDAR