BEGIN:VCALENDAR
VERSION:2.0
PRODID:-//La Grange Business Association - ECPv6.15.20//NONSGML v1.0//EN
CALSCALE:GREGORIAN
METHOD:PUBLISH
X-WR-CALNAME:La Grange Business Association
X-ORIGINAL-URL:https://lgba.com
X-WR-CALDESC:Events for La Grange Business Association
REFRESH-INTERVAL;VALUE=DURATION:PT1H
X-Robots-Tag:noindex
X-PUBLISHED-TTL:PT1H
BEGIN:VTIMEZONE
TZID:America/Chicago
BEGIN:DAYLIGHT
TZOFFSETFROM:-0600
TZOFFSETTO:-0500
TZNAME:CDT
DTSTART:20250309T080000
END:DAYLIGHT
BEGIN:STANDARD
TZOFFSETFROM:-0500
TZOFFSETTO:-0600
TZNAME:CST
DTSTART:20251102T070000
END:STANDARD
BEGIN:DAYLIGHT
TZOFFSETFROM:-0600
TZOFFSETTO:-0500
TZNAME:CDT
DTSTART:20260308T080000
END:DAYLIGHT
BEGIN:STANDARD
TZOFFSETFROM:-0500
TZOFFSETTO:-0600
TZNAME:CST
DTSTART:20261101T070000
END:STANDARD
BEGIN:DAYLIGHT
TZOFFSETFROM:-0600
TZOFFSETTO:-0500
TZNAME:CDT
DTSTART:20270314T080000
END:DAYLIGHT
BEGIN:STANDARD
TZOFFSETFROM:-0500
TZOFFSETTO:-0600
TZNAME:CST
DTSTART:20271107T070000
END:STANDARD
END:VTIMEZONE
BEGIN:VEVENT
DTSTART;TZID=America/Chicago:20260314T110000
DTEND;TZID=America/Chicago:20260314T160000
DTSTAMP:20260423T152350
CREATED:20260302T194808Z
LAST-MODIFIED:20260302T194808Z
UID:18496-1773486000-1773504000@lgba.com
SUMMARY:3-Year Anniversary
DESCRIPTION:I’d love to invite you to celebrate the 3-Year Anniversary of my business\, Lizzie Selle Studio!\n\n\n\n\n\nSaturday\, March 14\, 11:00–4:00522 W. Burlington Ave\, La Grange\n\n\n\n\n\nJoin us for a special day of sipping\, snacking\, and shopping while enjoying the debut of my new 2026 collection. You’ll also find new original artwork by amazing local artists\, artful gifts\, and artisan jewelry. Enjoy an original art raffle\, giveaways\, and art activities for kids! All are welcome!\n\n\n\n\n\nIt would mean so much to celebrate this milestone with you and our wonderful community. I hope to see you there!
URL:https://lgba.com/event/3-year-anniversary/
LOCATION:Lizzie Selle Studio\, 522 W. Burlington Avenue\, La Grange\, IL\, 60525\, United States
CATEGORIES:Open House
ATTACH;FMTTYPE=image/jpeg:https://lgba.com/wp-content/uploads/lizzie.jpg
END:VEVENT
END:VCALENDAR