BEGIN:VCALENDAR
VERSION:2.0
PRODID:-//La Grange Business Association - ECPv6.15.20//NONSGML v1.0//EN
CALSCALE:GREGORIAN
METHOD:PUBLISH
X-WR-CALNAME:La Grange Business Association
X-ORIGINAL-URL:https://lgba.com
X-WR-CALDESC:Events for La Grange Business Association
REFRESH-INTERVAL;VALUE=DURATION:PT1H
X-Robots-Tag:noindex
X-PUBLISHED-TTL:PT1H
BEGIN:VTIMEZONE
TZID:America/Chicago
BEGIN:DAYLIGHT
TZOFFSETFROM:-0600
TZOFFSETTO:-0500
TZNAME:CDT
DTSTART:20250309T080000
END:DAYLIGHT
BEGIN:STANDARD
TZOFFSETFROM:-0500
TZOFFSETTO:-0600
TZNAME:CST
DTSTART:20251102T070000
END:STANDARD
BEGIN:DAYLIGHT
TZOFFSETFROM:-0600
TZOFFSETTO:-0500
TZNAME:CDT
DTSTART:20260308T080000
END:DAYLIGHT
BEGIN:STANDARD
TZOFFSETFROM:-0500
TZOFFSETTO:-0600
TZNAME:CST
DTSTART:20261101T070000
END:STANDARD
BEGIN:DAYLIGHT
TZOFFSETFROM:-0600
TZOFFSETTO:-0500
TZNAME:CDT
DTSTART:20270314T080000
END:DAYLIGHT
BEGIN:STANDARD
TZOFFSETFROM:-0500
TZOFFSETTO:-0600
TZNAME:CST
DTSTART:20271107T070000
END:STANDARD
END:VTIMEZONE
BEGIN:VEVENT
DTSTART;TZID=America/Chicago:20260511T190000
DTEND;TZID=America/Chicago:20260511T190000
DTSTAMP:20260423T152629
CREATED:20251117T152332Z
LAST-MODIFIED:20251117T152332Z
UID:10000424-1778526000-1778526000@lgba.com
SUMMARY:Bingo Mondays
DESCRIPTION:Bingo Mondays at the La Grange American Legion.  $15 for 10 games\, additional raffle games\, pull tabs.  Kitchen & Bar Open.  $10\,000 Progressive Jackpot.  Doors open 6pm\, Bingo at 7pm.   Open to the public. American Legion Post 1941\, 900 S. La Grange rd\, 60525  www.AL1941.org.
URL:https://lgba.com/event/bingo-mondays/2026-05-11/
LOCATION:American Legion Post 1941\, 900 S. La Grange Road\, La Grange\, IL\, 60525\, United States
CATEGORIES:Community,Fundraiser,Non-Profit
END:VEVENT
BEGIN:VEVENT
DTSTART;TZID=America/Chicago:20260512T120000
DTEND;TZID=America/Chicago:20260512T130000
DTSTAMP:20260423T152629
CREATED:20260325T192306Z
LAST-MODIFIED:20260325T192306Z
UID:10002707-1778587200-1778590800@lgba.com
SUMMARY:ARE YOU A MAVEN?
DESCRIPTION:Posey Law Group is proud to introduce PLG Maven\, a small business leadership program for female founders. \nPLG Maven is an 8-week journey designed exclusively for women entrepreneurs who are committed to success without compromise. \nEach week\, you will learn directly from an expert in legal\, financial\, and marketing strategy who will guide you through the essential pillars of building a successful small business. To support you along the way\, the PLG Maven Small Business Guide and accompanying worksheets will help you build a stronger foundation and scale your vision with confidence.\nYou’ll gain actionable insights and connect with a dynamic community of other women entrepreneurs. \nSign up at PLGMaven.com or scan the QR code for the next PLG Maven Cohort\, which will kick off on April 21\, 2026. Secure your spot now with early bird pricing!
URL:https://lgba.com/event/are-you-a-maven/2026-05-12/
LOCATION:IL
CATEGORIES:Community,Educational,Networking
END:VEVENT
BEGIN:VEVENT
DTSTART;TZID=America/Chicago:20260512T130000
DTEND;TZID=America/Chicago:20260512T153000
DTSTAMP:20260423T152629
CREATED:20260331T153354Z
LAST-MODIFIED:20260331T153354Z
UID:10002769-1778590800-1778599800@lgba.com
SUMMARY:Learn to Love Watercolor 6-week Art Class (4/7 - 5/12)
DESCRIPTION:Dates: April  7\, 14\, 21\, 28\, May 5 & 12\nMember $150* | Non-Member $180\n*members need to log in on website for member discount \nMax Students: 15\nSKU#: PKPVLU36 \nReady to take your watercolor skills to the next level? This class is designed for intermediate and advanced artists looking to refine their technique and composition. Work from your own references while discovering the magic of a limited color palette to create luminous\, expressive paintings. Through value studies and a deeper understanding of the Principles and Elements of Art\, you’ll gain confidence in your creative choices. Let go of hesitation and immerse yourself in the beauty of watercolor!
URL:https://lgba.com/event/learn-to-love-watercolor-6-week-art-class-4-7-5-12/2026-05-12/
LOCATION:La Grange Art League\, 122 Calendar Drive\, La Grange\, IL\, 60525\, United States
ATTACH;FMTTYPE=image/webp:https://lgba.com/wp-content/uploads/PXL_20250722_215034833_3.webp
END:VEVENT
BEGIN:VEVENT
DTSTART;TZID=America/Chicago:20260513T190000
DTEND;TZID=America/Chicago:20260513T210000
DTSTAMP:20260423T152629
CREATED:20260319T003945Z
LAST-MODIFIED:20260319T003945Z
UID:10002151-1778698800-1778706000@lgba.com
SUMMARY:Trivia Night
DESCRIPTION:Join us every Wednesday for trivia night! Reservations: www.bhsociallagrange.com
URL:https://lgba.com/event/trivia-night-3/2026-05-13/
LOCATION:Barrel House Social\, 100 W. Burlington\, La Grange\, IL\, 60525\, United States
CATEGORIES:Entertainment,Featured Event
ATTACH;FMTTYPE=image/png:https://lgba.com/wp-content/uploads/BHS-Trivia-Poster-.png
END:VEVENT
BEGIN:VEVENT
DTSTART;TZID=America/Chicago:20260514T080000
DTEND;TZID=America/Chicago:20260514T093000
DTSTAMP:20260423T152629
CREATED:20250903T180116Z
LAST-MODIFIED:20250903T180730Z
UID:10000111-1778745600-1778751000@lgba.com
SUMMARY:LGBA Member Meeting
DESCRIPTION:Join us at Palmer’s Place for our monthly Member Meeting.  The event starts off at 8:00am with networking\, followed by our meeting at 8:30am.  Members will get a chance to speak and let us know what’s going on with their business. \nIf the weather’s nice\, we’ll be on the back patio!  No meeting in December.
URL:https://lgba.com/event/lgba-member-meeting/2026-05-14/
LOCATION:Palmer Place Restaurant and Biergarten\, 56 S. La Grange Road\, La Grange\, IL\, 60525\, United States
CATEGORIES:LGBA Member Meeting,LGBA Members Only,Networking
ATTACH;FMTTYPE=image/png:https://lgba.com/wp-content/uploads/LBGA_Logo.png
END:VEVENT
BEGIN:VEVENT
DTSTART;TZID=America/Chicago:20260514T093000
DTEND;TZID=America/Chicago:20260514T103000
DTSTAMP:20260423T152629
CREATED:20260122T214845Z
LAST-MODIFIED:20260122T214845Z
UID:10001980-1778751000-1778754600@lgba.com
SUMMARY:Mindful Movement 1-Hour Session
DESCRIPTION:Feeling stressed? Ready to move your body and calm your mind?\n\n\n\n\nMindful Movement is a free program for adults 18+ years old of all fitness levels that brings together physical activity\, mental wellness\, and social connection through guided group sessions. \nWe’re offering multiple sessions in accessible spaces across Lyons Township—because wellness should be within everyone’s reach. \nMindful Movement is presented by OptWell and Lyons Township Mental Health Commission.
URL:https://lgba.com/event/mindful-movement-1-hour-session/2026-05-14/
LOCATION:First Congregational Church of Western Springs\, 1106 Chestnut Street\, Western Springs\, IL\, United States
CATEGORIES:Community,Get Active,Health & Wellness,Non-Profit
ATTACH;FMTTYPE=image/png:https://lgba.com/wp-content/uploads/first-cong.png
END:VEVENT
BEGIN:VEVENT
DTSTART;TZID=America/Chicago:20260514T180000
DTEND;TZID=America/Chicago:20260514T210000
DTSTAMP:20260423T152629
CREATED:20260312T151939Z
LAST-MODIFIED:20260312T152127Z
UID:10002694-1778781600-1778792400@lgba.com
SUMMARY:Spring Painting Party
DESCRIPTION:Come on out for our next paint party May 14th! See below flyer. $40 admission that will help support Veteran charities and organizations. The picture is a beautiful vase of colorful flowers! Spring is in the air!
URL:https://lgba.com/event/19333/
LOCATION:American Legion Post 1941\, 900 S. La Grange Road\, La Grange\, IL\, 60525\, United States
ATTACH;FMTTYPE=image/jpeg:https://lgba.com/wp-content/uploads/650918467_1379127034259199_1506265029095746337_n.jpg
END:VEVENT
BEGIN:VEVENT
DTSTART;TZID=America/Chicago:20260514T180000
DTEND;TZID=America/Chicago:20260514T210000
DTSTAMP:20260423T152629
CREATED:20260323T145736Z
LAST-MODIFIED:20260323T145736Z
UID:10002736-1778781600-1778792400@lgba.com
SUMMARY:Live Music by Dylan Raymond
DESCRIPTION:Raised in Indiana\, Dylan Raymond grew up on ‘90s country and picked up a guitar at just eight years old\, laying the foundation for his lifelong musical journey. Known for his signature voice and electrifying live shows\, Dylan is quickly carving out his place in the country music scene. \nHis debut single “Take It Slow” (2016) shot to No. 2 on the iTunes Overall Pre-Order Charts\, marking a strong entrance into the industry. In 2017\, his breakout hit “I Can Be That” climbed to No. 35 on the country charts and has since earned over three million streams on Spotify—all without the support of a curated playlist. His latest single “’Til the Cows Come Home” is already proving to be a fan favorite\, earning a coveted spot on Spotify’s New Music Friday playlist upon release. \nDylan’s high-energy performances have taken him across the country\, where he’s shared the stage with some of the biggest names in music\, including Trace Adkins\, Gabby Barrett\, Dylan Scott\, Diamond Rio\, Aaron Tippin\, Collin Raye\, Jon Langston\, Jordan Davis\, Chris Janson\, Andy Grammer\, Jake Owen\, Walker Hayes\, Russell Dickerson\, and more. \nWith his unmistakable voice\, unstoppable energy\, and growing list of major performances\, Dylan Raymond is cementing himself as one of country music’s most exciting rising stars.
URL:https://lgba.com/event/live-music-by-dylan-raymond-3/2026-05-14/
LOCATION:Milk Money Brewing\, 75 LaGrange Rd\, La Grange\, IL\, 60525\, United States
CATEGORIES:Entertainment,Goblet Society,Live Music
ATTACH;FMTTYPE=image/jpeg:https://lgba.com/wp-content/uploads/dylan.jpg
END:VEVENT
END:VCALENDAR