BEGIN:VCALENDAR
VERSION:2.0
PRODID:-//La Grange Business Association - ECPv6.15.20//NONSGML v1.0//EN
CALSCALE:GREGORIAN
METHOD:PUBLISH
X-WR-CALNAME:La Grange Business Association
X-ORIGINAL-URL:https://lgba.com
X-WR-CALDESC:Events for La Grange Business Association
REFRESH-INTERVAL;VALUE=DURATION:PT1H
X-Robots-Tag:noindex
X-PUBLISHED-TTL:PT1H
BEGIN:VTIMEZONE
TZID:America/Chicago
BEGIN:DAYLIGHT
TZOFFSETFROM:-0600
TZOFFSETTO:-0500
TZNAME:CDT
DTSTART:20250309T080000
END:DAYLIGHT
BEGIN:STANDARD
TZOFFSETFROM:-0500
TZOFFSETTO:-0600
TZNAME:CST
DTSTART:20251102T070000
END:STANDARD
BEGIN:DAYLIGHT
TZOFFSETFROM:-0600
TZOFFSETTO:-0500
TZNAME:CDT
DTSTART:20260308T080000
END:DAYLIGHT
BEGIN:STANDARD
TZOFFSETFROM:-0500
TZOFFSETTO:-0600
TZNAME:CST
DTSTART:20261101T070000
END:STANDARD
BEGIN:DAYLIGHT
TZOFFSETFROM:-0600
TZOFFSETTO:-0500
TZNAME:CDT
DTSTART:20270314T080000
END:DAYLIGHT
BEGIN:STANDARD
TZOFFSETFROM:-0500
TZOFFSETTO:-0600
TZNAME:CST
DTSTART:20271107T070000
END:STANDARD
END:VTIMEZONE
BEGIN:VEVENT
DTSTART;TZID=America/Chicago:20260503T080000
DTEND;TZID=America/Chicago:20260503T130000
DTSTAMP:20260423T152634
CREATED:20260402T190941Z
LAST-MODIFIED:20260402T190941Z
UID:10002823-1777795200-1777813200@lgba.com
SUMMARY:Kiwanis Breakfast & Beats
DESCRIPTION:Kiwanis Club of LaGrange will be celebrating its 100th year!  Help us celebrate by attending our Kiwanis Breakfast & Beats on Sunday\, May 3rd at Helping Hand\, 9649 W 55th\, Countryside\, IL.  Please help us continue to support our community by sponsoring and/or attending our breakfast fundraiser. This year brings a special celebration by Mr. Dave\, who will be performing kid friendly music from 9:30 to 10:30am.    Thanks in advance for your compassion and generosity!  Together we can continue to support all the good the our community offers.
URL:https://lgba.com/event/kiwanis-breakfast-beats/
LOCATION:IL
CATEGORIES:Community,Fundraiser,Non-Profit
ATTACH;FMTTYPE=image/jpeg:https://lgba.com/wp-content/uploads/2026-Kiwanis-Breakfast-Beats.jpg
ORGANIZER;CN="Kiwanis Club of La Grange":MAILTO:limpalong@ameritech.net
END:VEVENT
BEGIN:VEVENT
DTSTART;TZID=America/Chicago:20260503T150000
DTEND;TZID=America/Chicago:20260503T150000
DTSTAMP:20260423T152634
CREATED:20260302T194341Z
LAST-MODIFIED:20260302T194341Z
UID:10002132-1777820400-1777820400@lgba.com
SUMMARY:Mothers Day Sound Bath and Reiki
DESCRIPTION:
URL:https://lgba.com/event/mothers-day-sound-bath-and-reiki/
LOCATION:Vibes Cafe\, 26 S. La Grange Road\, La Grange\, IL\, 60525\, United States
CATEGORIES:Holiday
ATTACH;FMTTYPE=image/jpeg:https://lgba.com/wp-content/uploads/motherssoundbath.jpg
END:VEVENT
BEGIN:VEVENT
DTSTART;TZID=America/Chicago:20260504T190000
DTEND;TZID=America/Chicago:20260504T190000
DTSTAMP:20260423T152634
CREATED:20251117T152332Z
LAST-MODIFIED:20251117T152332Z
UID:10000423-1777921200-1777921200@lgba.com
SUMMARY:Bingo Mondays
DESCRIPTION:Bingo Mondays at the La Grange American Legion.  $15 for 10 games\, additional raffle games\, pull tabs.  Kitchen & Bar Open.  $10\,000 Progressive Jackpot.  Doors open 6pm\, Bingo at 7pm.   Open to the public. American Legion Post 1941\, 900 S. La Grange rd\, 60525  www.AL1941.org.
URL:https://lgba.com/event/bingo-mondays/2026-05-04/
LOCATION:American Legion Post 1941\, 900 S. La Grange Road\, La Grange\, IL\, 60525\, United States
CATEGORIES:Community,Fundraiser,Non-Profit
END:VEVENT
BEGIN:VEVENT
DTSTART;TZID=America/Chicago:20260505T120000
DTEND;TZID=America/Chicago:20260505T130000
DTSTAMP:20260423T152634
CREATED:20260325T192306Z
LAST-MODIFIED:20260325T192306Z
UID:10002706-1777982400-1777986000@lgba.com
SUMMARY:ARE YOU A MAVEN?
DESCRIPTION:Posey Law Group is proud to introduce PLG Maven\, a small business leadership program for female founders. \nPLG Maven is an 8-week journey designed exclusively for women entrepreneurs who are committed to success without compromise. \nEach week\, you will learn directly from an expert in legal\, financial\, and marketing strategy who will guide you through the essential pillars of building a successful small business. To support you along the way\, the PLG Maven Small Business Guide and accompanying worksheets will help you build a stronger foundation and scale your vision with confidence.\nYou’ll gain actionable insights and connect with a dynamic community of other women entrepreneurs. \nSign up at PLGMaven.com or scan the QR code for the next PLG Maven Cohort\, which will kick off on April 21\, 2026. Secure your spot now with early bird pricing!
URL:https://lgba.com/event/are-you-a-maven/2026-05-05/
LOCATION:IL
CATEGORIES:Community,Educational,Networking
END:VEVENT
BEGIN:VEVENT
DTSTART;TZID=America/Chicago:20260505T130000
DTEND;TZID=America/Chicago:20260505T153000
DTSTAMP:20260423T152634
CREATED:20260331T153354Z
LAST-MODIFIED:20260331T153354Z
UID:10002768-1777986000-1777995000@lgba.com
SUMMARY:Learn to Love Watercolor 6-week Art Class (4/7 - 5/12)
DESCRIPTION:Dates: April  7\, 14\, 21\, 28\, May 5 & 12\nMember $150* | Non-Member $180\n*members need to log in on website for member discount \nMax Students: 15\nSKU#: PKPVLU36 \nReady to take your watercolor skills to the next level? This class is designed for intermediate and advanced artists looking to refine their technique and composition. Work from your own references while discovering the magic of a limited color palette to create luminous\, expressive paintings. Through value studies and a deeper understanding of the Principles and Elements of Art\, you’ll gain confidence in your creative choices. Let go of hesitation and immerse yourself in the beauty of watercolor!
URL:https://lgba.com/event/learn-to-love-watercolor-6-week-art-class-4-7-5-12/2026-05-05/
LOCATION:La Grange Art League\, 122 Calendar Drive\, La Grange\, IL\, 60525\, United States
ATTACH;FMTTYPE=image/webp:https://lgba.com/wp-content/uploads/PXL_20250722_215034833_3.webp
END:VEVENT
BEGIN:VEVENT
DTSTART;TZID=America/Chicago:20260506T190000
DTEND;TZID=America/Chicago:20260506T210000
DTSTAMP:20260423T152634
CREATED:20260319T003945Z
LAST-MODIFIED:20260319T003945Z
UID:10002150-1778094000-1778101200@lgba.com
SUMMARY:Trivia Night
DESCRIPTION:Join us every Wednesday for trivia night! Reservations: www.bhsociallagrange.com
URL:https://lgba.com/event/trivia-night-3/2026-05-06/
LOCATION:Barrel House Social\, 100 W. Burlington\, La Grange\, IL\, 60525\, United States
CATEGORIES:Entertainment,Featured Event
ATTACH;FMTTYPE=image/png:https://lgba.com/wp-content/uploads/BHS-Trivia-Poster-.png
END:VEVENT
BEGIN:VEVENT
DTSTART;TZID=America/Chicago:20260507T080000
DTEND;TZID=America/Chicago:20260507T170000
DTSTAMP:20260423T152634
CREATED:20260323T145423Z
LAST-MODIFIED:20260323T145423Z
UID:10002733-1778140800-1778173200@lgba.com
SUMMARY:Live Music by Matt Strom
DESCRIPTION:Navy Diver Veteran / Singer Songwriter\, trying to figure out this music thing one song at a time.
URL:https://lgba.com/event/live-music-by-matt-strom/2026-05-07/1/
LOCATION:Milk Money Brewing\, 75 LaGrange Rd\, La Grange\, IL\, 60525\, United States
CATEGORIES:Entertainment,Goblet Society,Live Music
ATTACH;FMTTYPE=image/jpeg:https://lgba.com/wp-content/uploads/mattstrom.jpg
END:VEVENT
BEGIN:VEVENT
DTSTART;TZID=America/Chicago:20260507T093000
DTEND;TZID=America/Chicago:20260507T103000
DTSTAMP:20260423T152634
CREATED:20260122T214845Z
LAST-MODIFIED:20260122T214845Z
UID:10001979-1778146200-1778149800@lgba.com
SUMMARY:Mindful Movement 1-Hour Session
DESCRIPTION:Feeling stressed? Ready to move your body and calm your mind?\n\n\n\n\nMindful Movement is a free program for adults 18+ years old of all fitness levels that brings together physical activity\, mental wellness\, and social connection through guided group sessions. \nWe’re offering multiple sessions in accessible spaces across Lyons Township—because wellness should be within everyone’s reach. \nMindful Movement is presented by OptWell and Lyons Township Mental Health Commission.
URL:https://lgba.com/event/mindful-movement-1-hour-session/2026-05-07/
LOCATION:First Congregational Church of Western Springs\, 1106 Chestnut Street\, Western Springs\, IL\, United States
CATEGORIES:Community,Get Active,Health & Wellness,Non-Profit
ATTACH;FMTTYPE=image/png:https://lgba.com/wp-content/uploads/first-cong.png
END:VEVENT
BEGIN:VEVENT
DTSTART;TZID=America/Chicago:20260507T180000
DTEND;TZID=America/Chicago:20260507T210000
DTSTAMP:20260423T152634
CREATED:20260323T145423Z
LAST-MODIFIED:20260323T145423Z
UID:10002734-1778176800-1778187600@lgba.com
SUMMARY:Live Music by Matt Strom
DESCRIPTION:Navy Diver Veteran / Singer Songwriter\, trying to figure out this music thing one song at a time.
URL:https://lgba.com/event/live-music-by-matt-strom/2026-05-07/2/
LOCATION:Milk Money Brewing\, 75 LaGrange Rd\, La Grange\, IL\, 60525\, United States
CATEGORIES:Entertainment,Goblet Society,Live Music
ATTACH;FMTTYPE=image/jpeg:https://lgba.com/wp-content/uploads/mattstrom.jpg
END:VEVENT
BEGIN:VEVENT
DTSTART;TZID=America/Chicago:20260507T190000
DTEND;TZID=America/Chicago:20260507T210000
DTSTAMP:20260423T152634
CREATED:20260416T192123Z
LAST-MODIFIED:20260416T192123Z
UID:10002835-1778180400-1778187600@lgba.com
SUMMARY:LATTE Theater presents: THE 39 STEPS
DESCRIPTION:Hitchcock meets HILARITY!\n6 actors. 130 characters. 100 minutes of MAYHEM.\nOn-stage plane crashes ✈️\nTrain & car chases 🚂\nLightning-fast costume changes 🎭\nMonty Python-style humor 😂\nPerfect for families\, teens\, and anyone who loves to laugh. \nSHOW TIMES:\nThurs May 7 – 7 PM\nFri May 8 – 7 PM\nSat May 9 – 2 PM & 7 PM\nLOCATION:\nLT South Campus PAC\n4900 Willow Springs Rd\nWestern Springs \nTickets: $5–$15\nwww.lattetheater.com\n708-655-0989 \nSupport local kids in theater and enjoy a fun night out!
URL:https://lgba.com/event/latte-theater-presents-the-39-steps/2026-05-07/
LOCATION:LT High School South Campus PAC\, 4900 Willow Springs Rd\, Western Springs\, 60558
CATEGORIES:Entertainment,Non-Profit
ATTACH;FMTTYPE=image/jpeg:https://lgba.com/wp-content/uploads/The-39-Steps.jpg
ORGANIZER;CN="LATTE Theater":MAILTO:lattertheater@gmail.com
END:VEVENT
BEGIN:VEVENT
DTSTART;TZID=America/Chicago:20260508T190000
DTEND;TZID=America/Chicago:20260508T210000
DTSTAMP:20260423T152634
CREATED:20260406T154127Z
LAST-MODIFIED:20260406T154127Z
UID:10002833-1778266800-1778274000@lgba.com
SUMMARY:An Evening Through Time
DESCRIPTION:Eat\, Drink & Travel Through Time\nStep back in time and join us for a special after-hours event at the La Grange Area Historical Society\, where history comes alive from 1890 to 1970.Stroll through our newest exhibit\, A Walk Through Time\, while enjoying era-inspired cocktails\, desserts\, savory bites\, music\, artifacts\, and stories that bring each decade to life. \n\nThis immersive experience invites you to step into history as you move from decade to decade. Featuring artifacts from the La Grange Area Historical Society’s collection\, the exhibit reveals the tastes\, fashions\, and everyday details that defined each decade\, along with a special look at how the La Grange area community grew and changed from 1890 to 1970.\nDress from your favorite decade (optional but encouraged!) and experience an evening where past meets present in the most delightful way.\n\nJoin us for An Evening Through Time — your chance to be a time traveler for the night.\n 
URL:https://lgba.com/event/an-evening-through-time/2026-05-08/
LOCATION:La Grange Area Historical Society\, 444 S. La Grange Road\, La Grange\, IL\, 60525\, United States
CATEGORIES:Educational,Non-Profit
ATTACH;FMTTYPE=image/png:https://lgba.com/wp-content/uploads/eveningthroughtime.png
END:VEVENT
BEGIN:VEVENT
DTSTART;TZID=America/Chicago:20260508T190000
DTEND;TZID=America/Chicago:20260508T210000
DTSTAMP:20260423T152634
CREATED:20260416T192123Z
LAST-MODIFIED:20260416T192123Z
UID:10002836-1778266800-1778274000@lgba.com
SUMMARY:LATTE Theater presents: THE 39 STEPS
DESCRIPTION:Hitchcock meets HILARITY!\n6 actors. 130 characters. 100 minutes of MAYHEM.\nOn-stage plane crashes ✈️\nTrain & car chases 🚂\nLightning-fast costume changes 🎭\nMonty Python-style humor 😂\nPerfect for families\, teens\, and anyone who loves to laugh. \nSHOW TIMES:\nThurs May 7 – 7 PM\nFri May 8 – 7 PM\nSat May 9 – 2 PM & 7 PM\nLOCATION:\nLT South Campus PAC\n4900 Willow Springs Rd\nWestern Springs \nTickets: $5–$15\nwww.lattetheater.com\n708-655-0989 \nSupport local kids in theater and enjoy a fun night out!
URL:https://lgba.com/event/latte-theater-presents-the-39-steps/2026-05-08/
LOCATION:LT High School South Campus PAC\, 4900 Willow Springs Rd\, Western Springs\, 60558
CATEGORIES:Entertainment,Non-Profit
ATTACH;FMTTYPE=image/jpeg:https://lgba.com/wp-content/uploads/The-39-Steps.jpg
ORGANIZER;CN="LATTE Theater":MAILTO:lattertheater@gmail.com
END:VEVENT
BEGIN:VEVENT
DTSTART;TZID=America/Chicago:20260509T140000
DTEND;TZID=America/Chicago:20260509T160000
DTSTAMP:20260423T152634
CREATED:20260416T192123Z
LAST-MODIFIED:20260416T192123Z
UID:10002837-1778335200-1778342400@lgba.com
SUMMARY:LATTE Theater presents: THE 39 STEPS
DESCRIPTION:Hitchcock meets HILARITY!\n6 actors. 130 characters. 100 minutes of MAYHEM.\nOn-stage plane crashes ✈️\nTrain & car chases 🚂\nLightning-fast costume changes 🎭\nMonty Python-style humor 😂\nPerfect for families\, teens\, and anyone who loves to laugh. \nSHOW TIMES:\nThurs May 7 – 7 PM\nFri May 8 – 7 PM\nSat May 9 – 2 PM & 7 PM\nLOCATION:\nLT South Campus PAC\n4900 Willow Springs Rd\nWestern Springs \nTickets: $5–$15\nwww.lattetheater.com\n708-655-0989 \nSupport local kids in theater and enjoy a fun night out!
URL:https://lgba.com/event/latte-theater-presents-the-39-steps/2026-05-09/
LOCATION:LT High School South Campus PAC\, 4900 Willow Springs Rd\, Western Springs\, 60558
CATEGORIES:Entertainment,Non-Profit
ATTACH;FMTTYPE=image/jpeg:https://lgba.com/wp-content/uploads/The-39-Steps.jpg
ORGANIZER;CN="LATTE Theater":MAILTO:lattertheater@gmail.com
END:VEVENT
BEGIN:VEVENT
DTSTART;TZID=America/Chicago:20260509T170000
DTEND;TZID=America/Chicago:20260509T190000
DTSTAMP:20260423T152634
CREATED:20260331T144555Z
LAST-MODIFIED:20260331T145344Z
UID:10002763-1778346000-1778353200@lgba.com
SUMMARY:Annual Student Show Reception
DESCRIPTION:This is a free event\, but please reserve tickets at https://www.lagrangeartleague.org/products/gallery-event-lgal-student-show-reception.
URL:https://lgba.com/event/annual-student-show-reception/
LOCATION:La Grange Art League\, 122 Calendar Drive\, La Grange\, IL\, 60525\, United States
CATEGORIES:Art
ATTACH;FMTTYPE=image/webp:https://lgba.com/wp-content/uploads/lgal-studen-show.webp
END:VEVENT
BEGIN:VEVENT
DTSTART;TZID=America/Chicago:20260509T190000
DTEND;TZID=America/Chicago:20260509T210000
DTSTAMP:20260423T152634
CREATED:20260406T154127Z
LAST-MODIFIED:20260406T154127Z
UID:10002834-1778353200-1778360400@lgba.com
SUMMARY:An Evening Through Time
DESCRIPTION:Eat\, Drink & Travel Through Time\nStep back in time and join us for a special after-hours event at the La Grange Area Historical Society\, where history comes alive from 1890 to 1970.Stroll through our newest exhibit\, A Walk Through Time\, while enjoying era-inspired cocktails\, desserts\, savory bites\, music\, artifacts\, and stories that bring each decade to life. \n\nThis immersive experience invites you to step into history as you move from decade to decade. Featuring artifacts from the La Grange Area Historical Society’s collection\, the exhibit reveals the tastes\, fashions\, and everyday details that defined each decade\, along with a special look at how the La Grange area community grew and changed from 1890 to 1970.\nDress from your favorite decade (optional but encouraged!) and experience an evening where past meets present in the most delightful way.\n\nJoin us for An Evening Through Time — your chance to be a time traveler for the night.\n 
URL:https://lgba.com/event/an-evening-through-time/2026-05-09/
LOCATION:La Grange Area Historical Society\, 444 S. La Grange Road\, La Grange\, IL\, 60525\, United States
CATEGORIES:Educational,Non-Profit
ATTACH;FMTTYPE=image/png:https://lgba.com/wp-content/uploads/eveningthroughtime.png
END:VEVENT
END:VCALENDAR