BEGIN:VCALENDAR
VERSION:2.0
PRODID:-//La Grange Business Association - ECPv6.15.20//NONSGML v1.0//EN
CALSCALE:GREGORIAN
METHOD:PUBLISH
X-ORIGINAL-URL:https://lgba.com
X-WR-CALDESC:Events for La Grange Business Association
REFRESH-INTERVAL;VALUE=DURATION:PT1H
X-Robots-Tag:noindex
X-PUBLISHED-TTL:PT1H
BEGIN:VTIMEZONE
TZID:America/Chicago
BEGIN:DAYLIGHT
TZOFFSETFROM:-0600
TZOFFSETTO:-0500
TZNAME:CDT
DTSTART:20250309T080000
END:DAYLIGHT
BEGIN:STANDARD
TZOFFSETFROM:-0500
TZOFFSETTO:-0600
TZNAME:CST
DTSTART:20251102T070000
END:STANDARD
BEGIN:DAYLIGHT
TZOFFSETFROM:-0600
TZOFFSETTO:-0500
TZNAME:CDT
DTSTART:20260308T080000
END:DAYLIGHT
BEGIN:STANDARD
TZOFFSETFROM:-0500
TZOFFSETTO:-0600
TZNAME:CST
DTSTART:20261101T070000
END:STANDARD
BEGIN:DAYLIGHT
TZOFFSETFROM:-0600
TZOFFSETTO:-0500
TZNAME:CDT
DTSTART:20270314T080000
END:DAYLIGHT
BEGIN:STANDARD
TZOFFSETFROM:-0500
TZOFFSETTO:-0600
TZNAME:CST
DTSTART:20271107T070000
END:STANDARD
END:VTIMEZONE
BEGIN:VEVENT
DTSTART;TZID=America/Chicago:20260426T150000
DTEND;TZID=America/Chicago:20260426T163000
DTSTAMP:20260423T152752
CREATED:20260407T192313Z
LAST-MODIFIED:20260407T192313Z
UID:10002842-1777215600-1777221000@lgba.com
SUMMARY:The Peace of Wild Things
DESCRIPTION:This program celebrates the beauty\, humor\, and spiritual significance of the natural world\, especially animals\, birds\, and insects. Inspired by Wendell Berry’s poem The Peace of Wild Things and the teachings of Saint Francis of Assisi\, it highlights nature as a source of peace\, healing\, and reflection.\n\nThe repertoire spans centuries\, from Renaissance works to contemporary compositions\, exploring both reverence and playfulness in nature. Pieces by composers such as Dan Forrest\, Paul Hindemith\, and Rachel Fuller reflect on animals as symbols of serenity\, love\, and loss\, including Animal Requiem\, which honors beloved pets.\n\nThe program also embraces humor and whimsy\, most notably in Eric Whitacre’s Animal Crackers\, which sets witty poems to music\, alongside other playful works that imitate animal sounds and antics.\nOverall\, the concert invites listeners to find meaning\, joy\, and peace through a deeper connection with the natural world.
URL:https://lgba.com/event/the-peace-of-wild-things/2026-04-26/
LOCATION:Emmanuel Episcopal Church\, 203 S. Kensington Avenue\, La Grange\, IL\, 60525\, United States
CATEGORIES:Entertainment,Live Music
ATTACH;FMTTYPE=image/jpeg:https://lgba.com/wp-content/uploads/657343323_1277815141200385_2895230327506150871_n.jpg
END:VEVENT
BEGIN:VEVENT
DTSTART;TZID=America/Chicago:20260427T190000
DTEND;TZID=America/Chicago:20260427T190000
DTSTAMP:20260423T152752
CREATED:20251117T152332Z
LAST-MODIFIED:20251117T152332Z
UID:10000422-1777316400-1777316400@lgba.com
SUMMARY:Bingo Mondays
DESCRIPTION:Bingo Mondays at the La Grange American Legion.  $15 for 10 games\, additional raffle games\, pull tabs.  Kitchen & Bar Open.  $10\,000 Progressive Jackpot.  Doors open 6pm\, Bingo at 7pm.   Open to the public. American Legion Post 1941\, 900 S. La Grange rd\, 60525  www.AL1941.org.
URL:https://lgba.com/event/bingo-mondays/2026-04-27/
LOCATION:American Legion Post 1941\, 900 S. La Grange Road\, La Grange\, IL\, 60525\, United States
CATEGORIES:Community,Fundraiser,Non-Profit
END:VEVENT
BEGIN:VEVENT
DTSTART;TZID=America/Chicago:20260428T120000
DTEND;TZID=America/Chicago:20260428T130000
DTSTAMP:20260423T152752
CREATED:20260325T192306Z
LAST-MODIFIED:20260325T192306Z
UID:10002705-1777377600-1777381200@lgba.com
SUMMARY:ARE YOU A MAVEN?
DESCRIPTION:Posey Law Group is proud to introduce PLG Maven\, a small business leadership program for female founders. \nPLG Maven is an 8-week journey designed exclusively for women entrepreneurs who are committed to success without compromise. \nEach week\, you will learn directly from an expert in legal\, financial\, and marketing strategy who will guide you through the essential pillars of building a successful small business. To support you along the way\, the PLG Maven Small Business Guide and accompanying worksheets will help you build a stronger foundation and scale your vision with confidence.\nYou’ll gain actionable insights and connect with a dynamic community of other women entrepreneurs. \nSign up at PLGMaven.com or scan the QR code for the next PLG Maven Cohort\, which will kick off on April 21\, 2026. Secure your spot now with early bird pricing!
URL:https://lgba.com/event/are-you-a-maven/2026-04-28/
LOCATION:IL
CATEGORIES:Community,Educational,Networking
END:VEVENT
BEGIN:VEVENT
DTSTART;TZID=America/Chicago:20260428T130000
DTEND;TZID=America/Chicago:20260428T153000
DTSTAMP:20260423T152752
CREATED:20260331T153354Z
LAST-MODIFIED:20260331T153354Z
UID:10002767-1777381200-1777390200@lgba.com
SUMMARY:Learn to Love Watercolor 6-week Art Class (4/7 - 5/12)
DESCRIPTION:Dates: April  7\, 14\, 21\, 28\, May 5 & 12\nMember $150* | Non-Member $180\n*members need to log in on website for member discount \nMax Students: 15\nSKU#: PKPVLU36 \nReady to take your watercolor skills to the next level? This class is designed for intermediate and advanced artists looking to refine their technique and composition. Work from your own references while discovering the magic of a limited color palette to create luminous\, expressive paintings. Through value studies and a deeper understanding of the Principles and Elements of Art\, you’ll gain confidence in your creative choices. Let go of hesitation and immerse yourself in the beauty of watercolor!
URL:https://lgba.com/event/learn-to-love-watercolor-6-week-art-class-4-7-5-12/2026-04-28/
LOCATION:La Grange Art League\, 122 Calendar Drive\, La Grange\, IL\, 60525\, United States
ATTACH;FMTTYPE=image/webp:https://lgba.com/wp-content/uploads/PXL_20250722_215034833_3.webp
END:VEVENT
BEGIN:VEVENT
DTSTART;TZID=America/Chicago:20260429T190000
DTEND;TZID=America/Chicago:20260429T210000
DTSTAMP:20260423T152752
CREATED:20260319T003945Z
LAST-MODIFIED:20260319T003945Z
UID:10002149-1777489200-1777496400@lgba.com
SUMMARY:Trivia Night
DESCRIPTION:Join us every Wednesday for trivia night! Reservations: www.bhsociallagrange.com
URL:https://lgba.com/event/trivia-night-3/2026-04-29/
LOCATION:Barrel House Social\, 100 W. Burlington\, La Grange\, IL\, 60525\, United States
CATEGORIES:Entertainment,Featured Event
ATTACH;FMTTYPE=image/png:https://lgba.com/wp-content/uploads/BHS-Trivia-Poster-.png
END:VEVENT
BEGIN:VEVENT
DTSTART;TZID=America/Chicago:20260430T093000
DTEND;TZID=America/Chicago:20260430T103000
DTSTAMP:20260423T152752
CREATED:20260122T214845Z
LAST-MODIFIED:20260122T214845Z
UID:10001978-1777541400-1777545000@lgba.com
SUMMARY:Mindful Movement 1-Hour Session
DESCRIPTION:Feeling stressed? Ready to move your body and calm your mind?\n\n\n\n\nMindful Movement is a free program for adults 18+ years old of all fitness levels that brings together physical activity\, mental wellness\, and social connection through guided group sessions. \nWe’re offering multiple sessions in accessible spaces across Lyons Township—because wellness should be within everyone’s reach. \nMindful Movement is presented by OptWell and Lyons Township Mental Health Commission.
URL:https://lgba.com/event/mindful-movement-1-hour-session/2026-04-30/
LOCATION:First Congregational Church of Western Springs\, 1106 Chestnut Street\, Western Springs\, IL\, United States
CATEGORIES:Community,Get Active,Health & Wellness,Non-Profit
ATTACH;FMTTYPE=image/png:https://lgba.com/wp-content/uploads/first-cong.png
END:VEVENT
BEGIN:VEVENT
DTSTART;TZID=America/Chicago:20260430T180000
DTEND;TZID=America/Chicago:20260430T210000
DTSTAMP:20260423T152752
CREATED:20260323T142718Z
LAST-MODIFIED:20260323T142829Z
UID:10002721-1777572000-1777582800@lgba.com
SUMMARY:Live Music by Lou Shields
DESCRIPTION:Country Blues & American Roots Musician Lou Shields has cultivated a soulful roots sound inspired by early-Americana styles.
URL:https://lgba.com/event/live-music-by-lou-shields-2/2026-04-30/
LOCATION:Milk Money Brewing\, 75 LaGrange Rd\, La Grange\, IL\, 60525\, United States
CATEGORIES:Goblet Society,Live Music
ATTACH;FMTTYPE=image/webp:https://lgba.com/wp-content/uploads/Lou1-1-1024x768-1.webp
END:VEVENT
BEGIN:VEVENT
DTSTART;TZID=America/Chicago:20260501T083000
DTEND;TZID=America/Chicago:20260501T093000
DTSTAMP:20260423T152752
CREATED:20251125T230812Z
LAST-MODIFIED:20251125T230813Z
UID:10001004-1777624200-1777627800@lgba.com
SUMMARY:Coffee and Conversations
DESCRIPTION:A monthly gathering that helps forge new business relationships and renew existing bonds in a relaxed and casual atmosphere. Start your day in the company of fellow Members and grow your circle of contacts. It’s quick and energizing – just the jolt you need to start your day. Enjoy a delicious cup of coffee and then mix\, meet\, sip and strategize. \nCome and meet those who might be sources of referrals to you; professionals with whom you can make knowledgeable referrals; or just business folks to talk shop with. Get the connections you need. That’s what we call multi-tasking!  \nFree to LGBA members. Nonmembers $10.
URL:https://lgba.com/event/coffee-and-conversations-2-2/2026-05-01/
LOCATION:Blueberry Hill\, 49 S La Grange Road\, La Grange\, IL\, 60525\, United States
CATEGORIES:LGBA Members Only,Networking
ATTACH;FMTTYPE=image/webp:https://lgba.com/wp-content/uploads/DALL·E-2024-12-10-13.52.42-A-cartoon-style-illustration-of-a-cozy-networking-event-with-a-coffee-shop-vibe.-The-scene-features-a-wooden-table-with-cartoonishly-styled-steaming-c.webp
ORGANIZER;CN="La Grange Business Association":MAILTO:info@Lgba.com
END:VEVENT
BEGIN:VEVENT
DTSTART;TZID=America/Chicago:20260501T100000
DTEND;TZID=America/Chicago:20260501T113000
DTSTAMP:20260423T152752
CREATED:20260408T190441Z
LAST-MODIFIED:20260408T190648Z
UID:10002844-1777629600-1777635000@lgba.com
SUMMARY:Consistency That Actually Sticks - Workshop
DESCRIPTION:We’re doing something different on May 1. \nA working session — not a lecture.  Three of us (social\, branding\, strategy) in a room with 10 people max\, walking through the exact frameworks we use with clients and helping you apply them to YOUR business. Live. In the room. \nYou’ll leave with:\n✔ Your brand voice defined\n✔ A content strategy mapped to your goals\n✔ 2–4 weeks of content ready to execute\n✔ digital resource kit \nEarly bird is $111. Limited spots.\nVIP Upgrades\nFriday\, May 1 · La Grange IL\n10 seats per session · Two sessions available \nGet your tickets online at https://stan.store/Thesleevedchick/p/consistency-that-actually-sticks. \n#consistencythatactuallysticks #lagrangeil\n#chicagocontentcreator #smallbusinessowner\n#brandstrategy #contentmarketing\n#chicagobusiness #westernsuburbs
URL:https://lgba.com/event/consistency-that-actually-sticks-workshop/2026-05-01/1/
LOCATION:Calbay Content Studio\, 82 S. La Grange Rd (Suite 201)\, La Grange\, IL\, 60525\, United States
CATEGORIES:Business Education
ATTACH;FMTTYPE=image/jpeg:https://lgba.com/wp-content/uploads/350A047A-FBD1-4FAA-B0A8-EF4FE0AADF0C.jpeg
END:VEVENT
BEGIN:VEVENT
DTSTART;TZID=America/Chicago:20260501T130000
DTEND;TZID=America/Chicago:20260501T143000
DTSTAMP:20260423T152752
CREATED:20260408T190441Z
LAST-MODIFIED:20260408T190648Z
UID:10002845-1777640400-1777645800@lgba.com
SUMMARY:Consistency That Actually Sticks - Workshop
DESCRIPTION:We’re doing something different on May 1. \nA working session — not a lecture.  Three of us (social\, branding\, strategy) in a room with 10 people max\, walking through the exact frameworks we use with clients and helping you apply them to YOUR business. Live. In the room. \nYou’ll leave with:\n✔ Your brand voice defined\n✔ A content strategy mapped to your goals\n✔ 2–4 weeks of content ready to execute\n✔ digital resource kit \nEarly bird is $111. Limited spots.\nVIP Upgrades\nFriday\, May 1 · La Grange IL\n10 seats per session · Two sessions available \nGet your tickets online at https://stan.store/Thesleevedchick/p/consistency-that-actually-sticks. \n#consistencythatactuallysticks #lagrangeil\n#chicagocontentcreator #smallbusinessowner\n#brandstrategy #contentmarketing\n#chicagobusiness #westernsuburbs
URL:https://lgba.com/event/consistency-that-actually-sticks-workshop/2026-05-01/2/
LOCATION:Calbay Content Studio\, 82 S. La Grange Rd (Suite 201)\, La Grange\, IL\, 60525\, United States
CATEGORIES:Business Education
ATTACH;FMTTYPE=image/jpeg:https://lgba.com/wp-content/uploads/350A047A-FBD1-4FAA-B0A8-EF4FE0AADF0C.jpeg
END:VEVENT
END:VCALENDAR