BEGIN:VCALENDAR
VERSION:2.0
PRODID:-//La Grange Business Association - ECPv6.15.20//NONSGML v1.0//EN
CALSCALE:GREGORIAN
METHOD:PUBLISH
X-WR-CALNAME:La Grange Business Association
X-ORIGINAL-URL:https://lgba.com
X-WR-CALDESC:Events for La Grange Business Association
REFRESH-INTERVAL;VALUE=DURATION:PT1H
X-Robots-Tag:noindex
X-PUBLISHED-TTL:PT1H
BEGIN:VTIMEZONE
TZID:America/Chicago
BEGIN:DAYLIGHT
TZOFFSETFROM:-0600
TZOFFSETTO:-0500
TZNAME:CDT
DTSTART:20250309T080000
END:DAYLIGHT
BEGIN:STANDARD
TZOFFSETFROM:-0500
TZOFFSETTO:-0600
TZNAME:CST
DTSTART:20251102T070000
END:STANDARD
BEGIN:DAYLIGHT
TZOFFSETFROM:-0600
TZOFFSETTO:-0500
TZNAME:CDT
DTSTART:20260308T080000
END:DAYLIGHT
BEGIN:STANDARD
TZOFFSETFROM:-0500
TZOFFSETTO:-0600
TZNAME:CST
DTSTART:20261101T070000
END:STANDARD
BEGIN:DAYLIGHT
TZOFFSETFROM:-0600
TZOFFSETTO:-0500
TZNAME:CDT
DTSTART:20270314T080000
END:DAYLIGHT
BEGIN:STANDARD
TZOFFSETFROM:-0500
TZOFFSETTO:-0600
TZNAME:CST
DTSTART:20271107T070000
END:STANDARD
BEGIN:DAYLIGHT
TZOFFSETFROM:-0600
TZOFFSETTO:-0500
TZNAME:CDT
DTSTART:20280312T080000
END:DAYLIGHT
BEGIN:STANDARD
TZOFFSETFROM:-0500
TZOFFSETTO:-0600
TZNAME:CST
DTSTART:20281105T070000
END:STANDARD
BEGIN:DAYLIGHT
TZOFFSETFROM:-0600
TZOFFSETTO:-0500
TZNAME:CDT
DTSTART:20290311T080000
END:DAYLIGHT
BEGIN:STANDARD
TZOFFSETFROM:-0500
TZOFFSETTO:-0600
TZNAME:CST
DTSTART:20291104T070000
END:STANDARD
END:VTIMEZONE
BEGIN:VEVENT
DTSTART;TZID=America/Chicago:20260527T090000
DTEND;TZID=America/Chicago:20260527T150000
DTSTAMP:20260423T121358
CREATED:20260412T223135Z
LAST-MODIFIED:20260412T223135Z
UID:10002848-1779872400-1779894000@lgba.com
SUMMARY:Red Cross Blood Drive
DESCRIPTION:The La Grange American Legion Post 1941 hosts monthly Blood Drives with the Red Cross. The drives are on the 4th Wednesday every month. \n9:00 – 3:00 pm. Please register \nTo donate blood Please Register www.redcross.org
URL:https://lgba.com/event/red-cross-blood-drive/2026-05-27/
LOCATION:American Legion Post 1941\, 900 S. La Grange Road\, La Grange\, IL\, 60525\, United States
CATEGORIES:Blood Drive
ATTACH;FMTTYPE=image/webp:https://lgba.com/wp-content/uploads/americanredcrossblooddrive.webp
END:VEVENT
BEGIN:VEVENT
DTSTART;TZID=America/Chicago:20260624T090000
DTEND;TZID=America/Chicago:20260624T150000
DTSTAMP:20260423T121358
CREATED:20260412T223135Z
LAST-MODIFIED:20260412T223135Z
UID:10002849-1782291600-1782313200@lgba.com
SUMMARY:Red Cross Blood Drive
DESCRIPTION:The La Grange American Legion Post 1941 hosts monthly Blood Drives with the Red Cross. The drives are on the 4th Wednesday every month. \n9:00 – 3:00 pm. Please register \nTo donate blood Please Register www.redcross.org
URL:https://lgba.com/event/red-cross-blood-drive/2026-06-24/
LOCATION:American Legion Post 1941\, 900 S. La Grange Road\, La Grange\, IL\, 60525\, United States
CATEGORIES:Blood Drive
ATTACH;FMTTYPE=image/webp:https://lgba.com/wp-content/uploads/americanredcrossblooddrive.webp
END:VEVENT
BEGIN:VEVENT
DTSTART;TZID=America/Chicago:20260722T090000
DTEND;TZID=America/Chicago:20260722T150000
DTSTAMP:20260423T121358
CREATED:20260412T223135Z
LAST-MODIFIED:20260412T223135Z
UID:10002850-1784710800-1784732400@lgba.com
SUMMARY:Red Cross Blood Drive
DESCRIPTION:The La Grange American Legion Post 1941 hosts monthly Blood Drives with the Red Cross. The drives are on the 4th Wednesday every month. \n9:00 – 3:00 pm. Please register \nTo donate blood Please Register www.redcross.org
URL:https://lgba.com/event/red-cross-blood-drive/2026-07-22/
LOCATION:American Legion Post 1941\, 900 S. La Grange Road\, La Grange\, IL\, 60525\, United States
CATEGORIES:Blood Drive
ATTACH;FMTTYPE=image/webp:https://lgba.com/wp-content/uploads/americanredcrossblooddrive.webp
END:VEVENT
BEGIN:VEVENT
DTSTART;TZID=America/Chicago:20260826T090000
DTEND;TZID=America/Chicago:20260826T150000
DTSTAMP:20260423T121358
CREATED:20260412T223135Z
LAST-MODIFIED:20260412T223135Z
UID:10002851-1787734800-1787756400@lgba.com
SUMMARY:Red Cross Blood Drive
DESCRIPTION:The La Grange American Legion Post 1941 hosts monthly Blood Drives with the Red Cross. The drives are on the 4th Wednesday every month. \n9:00 – 3:00 pm. Please register \nTo donate blood Please Register www.redcross.org
URL:https://lgba.com/event/red-cross-blood-drive/2026-08-26/
LOCATION:American Legion Post 1941\, 900 S. La Grange Road\, La Grange\, IL\, 60525\, United States
CATEGORIES:Blood Drive
ATTACH;FMTTYPE=image/webp:https://lgba.com/wp-content/uploads/americanredcrossblooddrive.webp
END:VEVENT
BEGIN:VEVENT
DTSTART;TZID=America/Chicago:20260923T090000
DTEND;TZID=America/Chicago:20260923T150000
DTSTAMP:20260423T121358
CREATED:20260412T223135Z
LAST-MODIFIED:20260412T223135Z
UID:10002852-1790154000-1790175600@lgba.com
SUMMARY:Red Cross Blood Drive
DESCRIPTION:The La Grange American Legion Post 1941 hosts monthly Blood Drives with the Red Cross. The drives are on the 4th Wednesday every month. \n9:00 – 3:00 pm. Please register \nTo donate blood Please Register www.redcross.org
URL:https://lgba.com/event/red-cross-blood-drive/2026-09-23/
LOCATION:American Legion Post 1941\, 900 S. La Grange Road\, La Grange\, IL\, 60525\, United States
CATEGORIES:Blood Drive
ATTACH;FMTTYPE=image/webp:https://lgba.com/wp-content/uploads/americanredcrossblooddrive.webp
END:VEVENT
BEGIN:VEVENT
DTSTART;TZID=America/Chicago:20261028T090000
DTEND;TZID=America/Chicago:20261028T150000
DTSTAMP:20260423T121358
CREATED:20260412T223135Z
LAST-MODIFIED:20260412T223135Z
UID:10002853-1793178000-1793199600@lgba.com
SUMMARY:Red Cross Blood Drive
DESCRIPTION:The La Grange American Legion Post 1941 hosts monthly Blood Drives with the Red Cross. The drives are on the 4th Wednesday every month. \n9:00 – 3:00 pm. Please register \nTo donate blood Please Register www.redcross.org
URL:https://lgba.com/event/red-cross-blood-drive/2026-10-28/
LOCATION:American Legion Post 1941\, 900 S. La Grange Road\, La Grange\, IL\, 60525\, United States
CATEGORIES:Blood Drive
ATTACH;FMTTYPE=image/webp:https://lgba.com/wp-content/uploads/americanredcrossblooddrive.webp
END:VEVENT
BEGIN:VEVENT
DTSTART;TZID=America/Chicago:20261125T090000
DTEND;TZID=America/Chicago:20261125T150000
DTSTAMP:20260423T121358
CREATED:20260412T223135Z
LAST-MODIFIED:20260412T223135Z
UID:10002854-1795597200-1795618800@lgba.com
SUMMARY:Red Cross Blood Drive
DESCRIPTION:The La Grange American Legion Post 1941 hosts monthly Blood Drives with the Red Cross. The drives are on the 4th Wednesday every month. \n9:00 – 3:00 pm. Please register \nTo donate blood Please Register www.redcross.org
URL:https://lgba.com/event/red-cross-blood-drive/2026-11-25/
LOCATION:American Legion Post 1941\, 900 S. La Grange Road\, La Grange\, IL\, 60525\, United States
CATEGORIES:Blood Drive
ATTACH;FMTTYPE=image/webp:https://lgba.com/wp-content/uploads/americanredcrossblooddrive.webp
END:VEVENT
BEGIN:VEVENT
DTSTART;TZID=America/Chicago:20261223T090000
DTEND;TZID=America/Chicago:20261223T150000
DTSTAMP:20260423T121358
CREATED:20260412T223135Z
LAST-MODIFIED:20260412T223135Z
UID:10002855-1798016400-1798038000@lgba.com
SUMMARY:Red Cross Blood Drive
DESCRIPTION:The La Grange American Legion Post 1941 hosts monthly Blood Drives with the Red Cross. The drives are on the 4th Wednesday every month. \n9:00 – 3:00 pm. Please register \nTo donate blood Please Register www.redcross.org
URL:https://lgba.com/event/red-cross-blood-drive/2026-12-23/
LOCATION:American Legion Post 1941\, 900 S. La Grange Road\, La Grange\, IL\, 60525\, United States
CATEGORIES:Blood Drive
ATTACH;FMTTYPE=image/webp:https://lgba.com/wp-content/uploads/americanredcrossblooddrive.webp
END:VEVENT
BEGIN:VEVENT
DTSTART;TZID=America/Chicago:20270127T090000
DTEND;TZID=America/Chicago:20270127T150000
DTSTAMP:20260423T121358
CREATED:20260412T223135Z
LAST-MODIFIED:20260412T223135Z
UID:10002856-1801040400-1801062000@lgba.com
SUMMARY:Red Cross Blood Drive
DESCRIPTION:The La Grange American Legion Post 1941 hosts monthly Blood Drives with the Red Cross. The drives are on the 4th Wednesday every month. \n9:00 – 3:00 pm. Please register \nTo donate blood Please Register www.redcross.org
URL:https://lgba.com/event/red-cross-blood-drive/2027-01-27/
LOCATION:American Legion Post 1941\, 900 S. La Grange Road\, La Grange\, IL\, 60525\, United States
CATEGORIES:Blood Drive
ATTACH;FMTTYPE=image/webp:https://lgba.com/wp-content/uploads/americanredcrossblooddrive.webp
END:VEVENT
BEGIN:VEVENT
DTSTART;TZID=America/Chicago:20270224T090000
DTEND;TZID=America/Chicago:20270224T150000
DTSTAMP:20260423T121358
CREATED:20260412T223135Z
LAST-MODIFIED:20260412T223135Z
UID:10002857-1803459600-1803481200@lgba.com
SUMMARY:Red Cross Blood Drive
DESCRIPTION:The La Grange American Legion Post 1941 hosts monthly Blood Drives with the Red Cross. The drives are on the 4th Wednesday every month. \n9:00 – 3:00 pm. Please register \nTo donate blood Please Register www.redcross.org
URL:https://lgba.com/event/red-cross-blood-drive/2027-02-24/
LOCATION:American Legion Post 1941\, 900 S. La Grange Road\, La Grange\, IL\, 60525\, United States
CATEGORIES:Blood Drive
ATTACH;FMTTYPE=image/webp:https://lgba.com/wp-content/uploads/americanredcrossblooddrive.webp
END:VEVENT
BEGIN:VEVENT
DTSTART;TZID=America/Chicago:20270324T090000
DTEND;TZID=America/Chicago:20270324T150000
DTSTAMP:20260423T121358
CREATED:20260412T223135Z
LAST-MODIFIED:20260412T223135Z
UID:10002858-1805878800-1805900400@lgba.com
SUMMARY:Red Cross Blood Drive
DESCRIPTION:The La Grange American Legion Post 1941 hosts monthly Blood Drives with the Red Cross. The drives are on the 4th Wednesday every month. \n9:00 – 3:00 pm. Please register \nTo donate blood Please Register www.redcross.org
URL:https://lgba.com/event/red-cross-blood-drive/2027-03-24/
LOCATION:American Legion Post 1941\, 900 S. La Grange Road\, La Grange\, IL\, 60525\, United States
CATEGORIES:Blood Drive
ATTACH;FMTTYPE=image/webp:https://lgba.com/wp-content/uploads/americanredcrossblooddrive.webp
END:VEVENT
BEGIN:VEVENT
DTSTART;TZID=America/Chicago:20270428T090000
DTEND;TZID=America/Chicago:20270428T150000
DTSTAMP:20260423T121358
CREATED:20260412T223135Z
LAST-MODIFIED:20260412T223135Z
UID:10002859-1808902800-1808924400@lgba.com
SUMMARY:Red Cross Blood Drive
DESCRIPTION:The La Grange American Legion Post 1941 hosts monthly Blood Drives with the Red Cross. The drives are on the 4th Wednesday every month. \n9:00 – 3:00 pm. Please register \nTo donate blood Please Register www.redcross.org
URL:https://lgba.com/event/red-cross-blood-drive/2027-04-28/
LOCATION:American Legion Post 1941\, 900 S. La Grange Road\, La Grange\, IL\, 60525\, United States
CATEGORIES:Blood Drive
ATTACH;FMTTYPE=image/webp:https://lgba.com/wp-content/uploads/americanredcrossblooddrive.webp
END:VEVENT
BEGIN:VEVENT
DTSTART;TZID=America/Chicago:20270526T090000
DTEND;TZID=America/Chicago:20270526T150000
DTSTAMP:20260423T121358
CREATED:20260412T223135Z
LAST-MODIFIED:20260412T223135Z
UID:10002860-1811322000-1811343600@lgba.com
SUMMARY:Red Cross Blood Drive
DESCRIPTION:The La Grange American Legion Post 1941 hosts monthly Blood Drives with the Red Cross. The drives are on the 4th Wednesday every month. \n9:00 – 3:00 pm. Please register \nTo donate blood Please Register www.redcross.org
URL:https://lgba.com/event/red-cross-blood-drive/2027-05-26/
LOCATION:American Legion Post 1941\, 900 S. La Grange Road\, La Grange\, IL\, 60525\, United States
CATEGORIES:Blood Drive
ATTACH;FMTTYPE=image/webp:https://lgba.com/wp-content/uploads/americanredcrossblooddrive.webp
END:VEVENT
BEGIN:VEVENT
DTSTART;TZID=America/Chicago:20270623T090000
DTEND;TZID=America/Chicago:20270623T150000
DTSTAMP:20260423T121358
CREATED:20260412T223135Z
LAST-MODIFIED:20260412T223135Z
UID:10002861-1813741200-1813762800@lgba.com
SUMMARY:Red Cross Blood Drive
DESCRIPTION:The La Grange American Legion Post 1941 hosts monthly Blood Drives with the Red Cross. The drives are on the 4th Wednesday every month. \n9:00 – 3:00 pm. Please register \nTo donate blood Please Register www.redcross.org
URL:https://lgba.com/event/red-cross-blood-drive/2027-06-23/
LOCATION:American Legion Post 1941\, 900 S. La Grange Road\, La Grange\, IL\, 60525\, United States
CATEGORIES:Blood Drive
ATTACH;FMTTYPE=image/webp:https://lgba.com/wp-content/uploads/americanredcrossblooddrive.webp
END:VEVENT
BEGIN:VEVENT
DTSTART;TZID=America/Chicago:20270728T090000
DTEND;TZID=America/Chicago:20270728T150000
DTSTAMP:20260423T121358
CREATED:20260412T223135Z
LAST-MODIFIED:20260412T223135Z
UID:10002862-1816765200-1816786800@lgba.com
SUMMARY:Red Cross Blood Drive
DESCRIPTION:The La Grange American Legion Post 1941 hosts monthly Blood Drives with the Red Cross. The drives are on the 4th Wednesday every month. \n9:00 – 3:00 pm. Please register \nTo donate blood Please Register www.redcross.org
URL:https://lgba.com/event/red-cross-blood-drive/2027-07-28/
LOCATION:American Legion Post 1941\, 900 S. La Grange Road\, La Grange\, IL\, 60525\, United States
CATEGORIES:Blood Drive
ATTACH;FMTTYPE=image/webp:https://lgba.com/wp-content/uploads/americanredcrossblooddrive.webp
END:VEVENT
BEGIN:VEVENT
DTSTART;TZID=America/Chicago:20270825T090000
DTEND;TZID=America/Chicago:20270825T150000
DTSTAMP:20260423T121358
CREATED:20260412T223135Z
LAST-MODIFIED:20260412T223135Z
UID:10002863-1819184400-1819206000@lgba.com
SUMMARY:Red Cross Blood Drive
DESCRIPTION:The La Grange American Legion Post 1941 hosts monthly Blood Drives with the Red Cross. The drives are on the 4th Wednesday every month. \n9:00 – 3:00 pm. Please register \nTo donate blood Please Register www.redcross.org
URL:https://lgba.com/event/red-cross-blood-drive/2027-08-25/
LOCATION:American Legion Post 1941\, 900 S. La Grange Road\, La Grange\, IL\, 60525\, United States
CATEGORIES:Blood Drive
ATTACH;FMTTYPE=image/webp:https://lgba.com/wp-content/uploads/americanredcrossblooddrive.webp
END:VEVENT
BEGIN:VEVENT
DTSTART;TZID=America/Chicago:20270922T090000
DTEND;TZID=America/Chicago:20270922T150000
DTSTAMP:20260423T121358
CREATED:20260412T223135Z
LAST-MODIFIED:20260412T223135Z
UID:10002864-1821603600-1821625200@lgba.com
SUMMARY:Red Cross Blood Drive
DESCRIPTION:The La Grange American Legion Post 1941 hosts monthly Blood Drives with the Red Cross. The drives are on the 4th Wednesday every month. \n9:00 – 3:00 pm. Please register \nTo donate blood Please Register www.redcross.org
URL:https://lgba.com/event/red-cross-blood-drive/2027-09-22/
LOCATION:American Legion Post 1941\, 900 S. La Grange Road\, La Grange\, IL\, 60525\, United States
CATEGORIES:Blood Drive
ATTACH;FMTTYPE=image/webp:https://lgba.com/wp-content/uploads/americanredcrossblooddrive.webp
END:VEVENT
BEGIN:VEVENT
DTSTART;TZID=America/Chicago:20271027T090000
DTEND;TZID=America/Chicago:20271027T150000
DTSTAMP:20260423T121358
CREATED:20260412T223135Z
LAST-MODIFIED:20260412T223135Z
UID:10002865-1824627600-1824649200@lgba.com
SUMMARY:Red Cross Blood Drive
DESCRIPTION:The La Grange American Legion Post 1941 hosts monthly Blood Drives with the Red Cross. The drives are on the 4th Wednesday every month. \n9:00 – 3:00 pm. Please register \nTo donate blood Please Register www.redcross.org
URL:https://lgba.com/event/red-cross-blood-drive/2027-10-27/
LOCATION:American Legion Post 1941\, 900 S. La Grange Road\, La Grange\, IL\, 60525\, United States
CATEGORIES:Blood Drive
ATTACH;FMTTYPE=image/webp:https://lgba.com/wp-content/uploads/americanredcrossblooddrive.webp
END:VEVENT
BEGIN:VEVENT
DTSTART;TZID=America/Chicago:20271124T090000
DTEND;TZID=America/Chicago:20271124T150000
DTSTAMP:20260423T121358
CREATED:20260412T223135Z
LAST-MODIFIED:20260412T223135Z
UID:10002866-1827046800-1827068400@lgba.com
SUMMARY:Red Cross Blood Drive
DESCRIPTION:The La Grange American Legion Post 1941 hosts monthly Blood Drives with the Red Cross. The drives are on the 4th Wednesday every month. \n9:00 – 3:00 pm. Please register \nTo donate blood Please Register www.redcross.org
URL:https://lgba.com/event/red-cross-blood-drive/2027-11-24/
LOCATION:American Legion Post 1941\, 900 S. La Grange Road\, La Grange\, IL\, 60525\, United States
CATEGORIES:Blood Drive
ATTACH;FMTTYPE=image/webp:https://lgba.com/wp-content/uploads/americanredcrossblooddrive.webp
END:VEVENT
BEGIN:VEVENT
DTSTART;TZID=America/Chicago:20271222T090000
DTEND;TZID=America/Chicago:20271222T150000
DTSTAMP:20260423T121358
CREATED:20260412T223135Z
LAST-MODIFIED:20260412T223135Z
UID:10002867-1829466000-1829487600@lgba.com
SUMMARY:Red Cross Blood Drive
DESCRIPTION:The La Grange American Legion Post 1941 hosts monthly Blood Drives with the Red Cross. The drives are on the 4th Wednesday every month. \n9:00 – 3:00 pm. Please register \nTo donate blood Please Register www.redcross.org
URL:https://lgba.com/event/red-cross-blood-drive/2027-12-22/
LOCATION:American Legion Post 1941\, 900 S. La Grange Road\, La Grange\, IL\, 60525\, United States
CATEGORIES:Blood Drive
ATTACH;FMTTYPE=image/webp:https://lgba.com/wp-content/uploads/americanredcrossblooddrive.webp
END:VEVENT
BEGIN:VEVENT
DTSTART;TZID=America/Chicago:20280126T090000
DTEND;TZID=America/Chicago:20280126T150000
DTSTAMP:20260423T121358
CREATED:20260412T223135Z
LAST-MODIFIED:20260412T223135Z
UID:10002868-1832490000-1832511600@lgba.com
SUMMARY:Red Cross Blood Drive
DESCRIPTION:The La Grange American Legion Post 1941 hosts monthly Blood Drives with the Red Cross. The drives are on the 4th Wednesday every month. \n9:00 – 3:00 pm. Please register \nTo donate blood Please Register www.redcross.org
URL:https://lgba.com/event/red-cross-blood-drive/2028-01-26/
LOCATION:American Legion Post 1941\, 900 S. La Grange Road\, La Grange\, IL\, 60525\, United States
CATEGORIES:Blood Drive
ATTACH;FMTTYPE=image/webp:https://lgba.com/wp-content/uploads/americanredcrossblooddrive.webp
END:VEVENT
BEGIN:VEVENT
DTSTART;TZID=America/Chicago:20280223T090000
DTEND;TZID=America/Chicago:20280223T150000
DTSTAMP:20260423T121358
CREATED:20260412T223135Z
LAST-MODIFIED:20260412T223135Z
UID:10002869-1834909200-1834930800@lgba.com
SUMMARY:Red Cross Blood Drive
DESCRIPTION:The La Grange American Legion Post 1941 hosts monthly Blood Drives with the Red Cross. The drives are on the 4th Wednesday every month. \n9:00 – 3:00 pm. Please register \nTo donate blood Please Register www.redcross.org
URL:https://lgba.com/event/red-cross-blood-drive/2028-02-23/
LOCATION:American Legion Post 1941\, 900 S. La Grange Road\, La Grange\, IL\, 60525\, United States
CATEGORIES:Blood Drive
ATTACH;FMTTYPE=image/webp:https://lgba.com/wp-content/uploads/americanredcrossblooddrive.webp
END:VEVENT
BEGIN:VEVENT
DTSTART;TZID=America/Chicago:20280322T090000
DTEND;TZID=America/Chicago:20280322T150000
DTSTAMP:20260423T121359
CREATED:20260412T223135Z
LAST-MODIFIED:20260412T223135Z
UID:10002870-1837328400-1837350000@lgba.com
SUMMARY:Red Cross Blood Drive
DESCRIPTION:The La Grange American Legion Post 1941 hosts monthly Blood Drives with the Red Cross. The drives are on the 4th Wednesday every month. \n9:00 – 3:00 pm. Please register \nTo donate blood Please Register www.redcross.org
URL:https://lgba.com/event/red-cross-blood-drive/2028-03-22/
LOCATION:American Legion Post 1941\, 900 S. La Grange Road\, La Grange\, IL\, 60525\, United States
CATEGORIES:Blood Drive
ATTACH;FMTTYPE=image/webp:https://lgba.com/wp-content/uploads/americanredcrossblooddrive.webp
END:VEVENT
BEGIN:VEVENT
DTSTART;TZID=America/Chicago:20280426T090000
DTEND;TZID=America/Chicago:20280426T150000
DTSTAMP:20260423T121359
CREATED:20260412T223135Z
LAST-MODIFIED:20260412T223135Z
UID:10002871-1840352400-1840374000@lgba.com
SUMMARY:Red Cross Blood Drive
DESCRIPTION:The La Grange American Legion Post 1941 hosts monthly Blood Drives with the Red Cross. The drives are on the 4th Wednesday every month. \n9:00 – 3:00 pm. Please register \nTo donate blood Please Register www.redcross.org
URL:https://lgba.com/event/red-cross-blood-drive/2028-04-26/
LOCATION:American Legion Post 1941\, 900 S. La Grange Road\, La Grange\, IL\, 60525\, United States
CATEGORIES:Blood Drive
ATTACH;FMTTYPE=image/webp:https://lgba.com/wp-content/uploads/americanredcrossblooddrive.webp
END:VEVENT
BEGIN:VEVENT
DTSTART;TZID=America/Chicago:20280524T090000
DTEND;TZID=America/Chicago:20280524T150000
DTSTAMP:20260423T121359
CREATED:20260412T223135Z
LAST-MODIFIED:20260412T223135Z
UID:10002872-1842771600-1842793200@lgba.com
SUMMARY:Red Cross Blood Drive
DESCRIPTION:The La Grange American Legion Post 1941 hosts monthly Blood Drives with the Red Cross. The drives are on the 4th Wednesday every month. \n9:00 – 3:00 pm. Please register \nTo donate blood Please Register www.redcross.org
URL:https://lgba.com/event/red-cross-blood-drive/2028-05-24/
LOCATION:American Legion Post 1941\, 900 S. La Grange Road\, La Grange\, IL\, 60525\, United States
CATEGORIES:Blood Drive
ATTACH;FMTTYPE=image/webp:https://lgba.com/wp-content/uploads/americanredcrossblooddrive.webp
END:VEVENT
BEGIN:VEVENT
DTSTART;TZID=America/Chicago:20280628T090000
DTEND;TZID=America/Chicago:20280628T150000
DTSTAMP:20260423T121359
CREATED:20260412T223135Z
LAST-MODIFIED:20260412T223135Z
UID:10002873-1845795600-1845817200@lgba.com
SUMMARY:Red Cross Blood Drive
DESCRIPTION:The La Grange American Legion Post 1941 hosts monthly Blood Drives with the Red Cross. The drives are on the 4th Wednesday every month. \n9:00 – 3:00 pm. Please register \nTo donate blood Please Register www.redcross.org
URL:https://lgba.com/event/red-cross-blood-drive/2028-06-28/
LOCATION:American Legion Post 1941\, 900 S. La Grange Road\, La Grange\, IL\, 60525\, United States
CATEGORIES:Blood Drive
ATTACH;FMTTYPE=image/webp:https://lgba.com/wp-content/uploads/americanredcrossblooddrive.webp
END:VEVENT
BEGIN:VEVENT
DTSTART;TZID=America/Chicago:20280726T090000
DTEND;TZID=America/Chicago:20280726T150000
DTSTAMP:20260423T121359
CREATED:20260412T223135Z
LAST-MODIFIED:20260412T223135Z
UID:10002874-1848214800-1848236400@lgba.com
SUMMARY:Red Cross Blood Drive
DESCRIPTION:The La Grange American Legion Post 1941 hosts monthly Blood Drives with the Red Cross. The drives are on the 4th Wednesday every month. \n9:00 – 3:00 pm. Please register \nTo donate blood Please Register www.redcross.org
URL:https://lgba.com/event/red-cross-blood-drive/2028-07-26/
LOCATION:American Legion Post 1941\, 900 S. La Grange Road\, La Grange\, IL\, 60525\, United States
CATEGORIES:Blood Drive
ATTACH;FMTTYPE=image/webp:https://lgba.com/wp-content/uploads/americanredcrossblooddrive.webp
END:VEVENT
BEGIN:VEVENT
DTSTART;TZID=America/Chicago:20280823T090000
DTEND;TZID=America/Chicago:20280823T150000
DTSTAMP:20260423T121359
CREATED:20260412T223135Z
LAST-MODIFIED:20260412T223135Z
UID:10002875-1850634000-1850655600@lgba.com
SUMMARY:Red Cross Blood Drive
DESCRIPTION:The La Grange American Legion Post 1941 hosts monthly Blood Drives with the Red Cross. The drives are on the 4th Wednesday every month. \n9:00 – 3:00 pm. Please register \nTo donate blood Please Register www.redcross.org
URL:https://lgba.com/event/red-cross-blood-drive/2028-08-23/
LOCATION:American Legion Post 1941\, 900 S. La Grange Road\, La Grange\, IL\, 60525\, United States
CATEGORIES:Blood Drive
ATTACH;FMTTYPE=image/webp:https://lgba.com/wp-content/uploads/americanredcrossblooddrive.webp
END:VEVENT
BEGIN:VEVENT
DTSTART;TZID=America/Chicago:20280927T090000
DTEND;TZID=America/Chicago:20280927T150000
DTSTAMP:20260423T121359
CREATED:20260412T223135Z
LAST-MODIFIED:20260412T223135Z
UID:10002876-1853658000-1853679600@lgba.com
SUMMARY:Red Cross Blood Drive
DESCRIPTION:The La Grange American Legion Post 1941 hosts monthly Blood Drives with the Red Cross. The drives are on the 4th Wednesday every month. \n9:00 – 3:00 pm. Please register \nTo donate blood Please Register www.redcross.org
URL:https://lgba.com/event/red-cross-blood-drive/2028-09-27/
LOCATION:American Legion Post 1941\, 900 S. La Grange Road\, La Grange\, IL\, 60525\, United States
CATEGORIES:Blood Drive
ATTACH;FMTTYPE=image/webp:https://lgba.com/wp-content/uploads/americanredcrossblooddrive.webp
END:VEVENT
BEGIN:VEVENT
DTSTART;TZID=America/Chicago:20281025T090000
DTEND;TZID=America/Chicago:20281025T150000
DTSTAMP:20260423T121359
CREATED:20260412T223135Z
LAST-MODIFIED:20260412T223135Z
UID:10002877-1856077200-1856098800@lgba.com
SUMMARY:Red Cross Blood Drive
DESCRIPTION:The La Grange American Legion Post 1941 hosts monthly Blood Drives with the Red Cross. The drives are on the 4th Wednesday every month. \n9:00 – 3:00 pm. Please register \nTo donate blood Please Register www.redcross.org
URL:https://lgba.com/event/red-cross-blood-drive/2028-10-25/
LOCATION:American Legion Post 1941\, 900 S. La Grange Road\, La Grange\, IL\, 60525\, United States
CATEGORIES:Blood Drive
ATTACH;FMTTYPE=image/webp:https://lgba.com/wp-content/uploads/americanredcrossblooddrive.webp
END:VEVENT
END:VCALENDAR