BEGIN:VCALENDAR
VERSION:2.0
PRODID:-//La Grange Business Association - ECPv6.15.20//NONSGML v1.0//EN
CALSCALE:GREGORIAN
METHOD:PUBLISH
X-WR-CALNAME:La Grange Business Association
X-ORIGINAL-URL:https://lgba.com
X-WR-CALDESC:Events for La Grange Business Association
REFRESH-INTERVAL;VALUE=DURATION:PT1H
X-Robots-Tag:noindex
X-PUBLISHED-TTL:PT1H
BEGIN:VTIMEZONE
TZID:America/Chicago
BEGIN:DAYLIGHT
TZOFFSETFROM:-0600
TZOFFSETTO:-0500
TZNAME:CDT
DTSTART:20250309T080000
END:DAYLIGHT
BEGIN:STANDARD
TZOFFSETFROM:-0500
TZOFFSETTO:-0600
TZNAME:CST
DTSTART:20251102T070000
END:STANDARD
BEGIN:DAYLIGHT
TZOFFSETFROM:-0600
TZOFFSETTO:-0500
TZNAME:CDT
DTSTART:20260308T080000
END:DAYLIGHT
BEGIN:STANDARD
TZOFFSETFROM:-0500
TZOFFSETTO:-0600
TZNAME:CST
DTSTART:20261101T070000
END:STANDARD
BEGIN:DAYLIGHT
TZOFFSETFROM:-0600
TZOFFSETTO:-0500
TZNAME:CDT
DTSTART:20270314T080000
END:DAYLIGHT
BEGIN:STANDARD
TZOFFSETFROM:-0500
TZOFFSETTO:-0600
TZNAME:CST
DTSTART:20271107T070000
END:STANDARD
END:VTIMEZONE
BEGIN:VEVENT
DTSTART;TZID=America/Chicago:20260521T180000
DTEND;TZID=America/Chicago:20260521T210000
DTSTAMP:20260423T134207
CREATED:20260323T150114Z
LAST-MODIFIED:20260323T150114Z
UID:10002738-1779386400-1779397200@lgba.com
SUMMARY:Live Music by Brother John Kattk
DESCRIPTION:Brother John has been a resident musician at Buddy Guy’s Legends in Chicago for over 30 years.  Through his work with Chicago blues greats Buddy Guy & Otis Rush\, he has jammed with Eric Clapton\, Steve Miller\, auditioned for the Black Crowes (in 1998\, but they hired Jimmy Page instead)\, and acquired ringing endorsements from many other musicians of renown. For example: Led Zeppelin vocalist Robert Plant had seen John play with Otis Rush at the Jazz Café in London. When Plant and Kattke met in person at the United Center in Chicago\, Plant told Kattke: “You play a mean guitar!” George Benson came to the jam session that Kattke hosts at Buddy Guy’s Legends in Chicago. After hearing the opening set that John played with his band\, Benson told him: “You’re fearless! I thought I was fearless! You’re fearless!”
URL:https://lgba.com/event/live-music-by-brother-john-kattk/2026-05-21/
LOCATION:Milk Money Brewing\, 75 LaGrange Rd\, La Grange\, IL\, 60525\, United States
CATEGORIES:Entertainment,Goblet Society,Live Music
ATTACH;FMTTYPE=image/jpeg:https://lgba.com/wp-content/uploads/Otis-Rush-Tribute.jpg
END:VEVENT
BEGIN:VEVENT
DTSTART;TZID=America/Chicago:20260723T180000
DTEND;TZID=America/Chicago:20260723T210000
DTSTAMP:20260423T134207
CREATED:20260323T150114Z
LAST-MODIFIED:20260323T150114Z
UID:10002739-1784829600-1784840400@lgba.com
SUMMARY:Live Music by Brother John Kattk
DESCRIPTION:Brother John has been a resident musician at Buddy Guy’s Legends in Chicago for over 30 years.  Through his work with Chicago blues greats Buddy Guy & Otis Rush\, he has jammed with Eric Clapton\, Steve Miller\, auditioned for the Black Crowes (in 1998\, but they hired Jimmy Page instead)\, and acquired ringing endorsements from many other musicians of renown. For example: Led Zeppelin vocalist Robert Plant had seen John play with Otis Rush at the Jazz Café in London. When Plant and Kattke met in person at the United Center in Chicago\, Plant told Kattke: “You play a mean guitar!” George Benson came to the jam session that Kattke hosts at Buddy Guy’s Legends in Chicago. After hearing the opening set that John played with his band\, Benson told him: “You’re fearless! I thought I was fearless! You’re fearless!”
URL:https://lgba.com/event/live-music-by-brother-john-kattk/2026-07-23/
LOCATION:Milk Money Brewing\, 75 LaGrange Rd\, La Grange\, IL\, 60525\, United States
CATEGORIES:Entertainment,Goblet Society,Live Music
ATTACH;FMTTYPE=image/jpeg:https://lgba.com/wp-content/uploads/Otis-Rush-Tribute.jpg
END:VEVENT
END:VCALENDAR