BEGIN:VCALENDAR
VERSION:2.0
PRODID:-//La Grange Business Association - ECPv6.15.20//NONSGML v1.0//EN
CALSCALE:GREGORIAN
METHOD:PUBLISH
X-WR-CALNAME:La Grange Business Association
X-ORIGINAL-URL:https://lgba.com
X-WR-CALDESC:Events for La Grange Business Association
REFRESH-INTERVAL;VALUE=DURATION:PT1H
X-Robots-Tag:noindex
X-PUBLISHED-TTL:PT1H
BEGIN:VTIMEZONE
TZID:America/Chicago
BEGIN:DAYLIGHT
TZOFFSETFROM:-0600
TZOFFSETTO:-0500
TZNAME:CDT
DTSTART:20250309T080000
END:DAYLIGHT
BEGIN:STANDARD
TZOFFSETFROM:-0500
TZOFFSETTO:-0600
TZNAME:CST
DTSTART:20251102T070000
END:STANDARD
BEGIN:DAYLIGHT
TZOFFSETFROM:-0600
TZOFFSETTO:-0500
TZNAME:CDT
DTSTART:20260308T080000
END:DAYLIGHT
BEGIN:STANDARD
TZOFFSETFROM:-0500
TZOFFSETTO:-0600
TZNAME:CST
DTSTART:20261101T070000
END:STANDARD
BEGIN:DAYLIGHT
TZOFFSETFROM:-0600
TZOFFSETTO:-0500
TZNAME:CDT
DTSTART:20270314T080000
END:DAYLIGHT
BEGIN:STANDARD
TZOFFSETFROM:-0500
TZOFFSETTO:-0600
TZNAME:CST
DTSTART:20271107T070000
END:STANDARD
END:VTIMEZONE
BEGIN:VEVENT
DTSTART;TZID=America/Chicago:20260604T180000
DTEND;TZID=America/Chicago:20260604T210000
DTSTAMP:20260423T121407
CREATED:20260323T143209Z
LAST-MODIFIED:20260323T143209Z
UID:10002723-1780596000-1780606800@lgba.com
SUMMARY:Live Music by Brad Hides
DESCRIPTION:Playing all the best songs and biggest hits from classic rock\, 90’s alternative\, and modern rock/pop!
URL:https://lgba.com/event/live-music-by-brad-hides/2026-06-04/
LOCATION:Milk Money Brewing\, 75 LaGrange Rd\, La Grange\, IL\, 60525\, United States
CATEGORIES:Entertainment,Goblet Society,Live Music
ATTACH;FMTTYPE=image/jpeg:https://lgba.com/wp-content/uploads/bradhides.jpg
END:VEVENT
BEGIN:VEVENT
DTSTART;TZID=America/Chicago:20260806T180000
DTEND;TZID=America/Chicago:20260806T210000
DTSTAMP:20260423T121407
CREATED:20260323T143209Z
LAST-MODIFIED:20260323T143209Z
UID:10002724-1786039200-1786050000@lgba.com
SUMMARY:Live Music by Brad Hides
DESCRIPTION:Playing all the best songs and biggest hits from classic rock\, 90’s alternative\, and modern rock/pop!
URL:https://lgba.com/event/live-music-by-brad-hides/2026-08-06/
LOCATION:Milk Money Brewing\, 75 LaGrange Rd\, La Grange\, IL\, 60525\, United States
CATEGORIES:Entertainment,Goblet Society,Live Music
ATTACH;FMTTYPE=image/jpeg:https://lgba.com/wp-content/uploads/bradhides.jpg
END:VEVENT
BEGIN:VEVENT
DTSTART;TZID=America/Chicago:20261001T180000
DTEND;TZID=America/Chicago:20261001T210000
DTSTAMP:20260423T121407
CREATED:20260323T143209Z
LAST-MODIFIED:20260323T143209Z
UID:10002725-1790877600-1790888400@lgba.com
SUMMARY:Live Music by Brad Hides
DESCRIPTION:Playing all the best songs and biggest hits from classic rock\, 90’s alternative\, and modern rock/pop!
URL:https://lgba.com/event/live-music-by-brad-hides/2026-10-01/
LOCATION:Milk Money Brewing\, 75 LaGrange Rd\, La Grange\, IL\, 60525\, United States
CATEGORIES:Entertainment,Goblet Society,Live Music
ATTACH;FMTTYPE=image/jpeg:https://lgba.com/wp-content/uploads/bradhides.jpg
END:VEVENT
BEGIN:VEVENT
DTSTART;TZID=America/Chicago:20261203T180000
DTEND;TZID=America/Chicago:20261203T210000
DTSTAMP:20260423T121407
CREATED:20260323T143209Z
LAST-MODIFIED:20260323T143209Z
UID:10002726-1796320800-1796331600@lgba.com
SUMMARY:Live Music by Brad Hides
DESCRIPTION:Playing all the best songs and biggest hits from classic rock\, 90’s alternative\, and modern rock/pop!
URL:https://lgba.com/event/live-music-by-brad-hides/2026-12-03/
LOCATION:Milk Money Brewing\, 75 LaGrange Rd\, La Grange\, IL\, 60525\, United States
CATEGORIES:Entertainment,Goblet Society,Live Music
ATTACH;FMTTYPE=image/jpeg:https://lgba.com/wp-content/uploads/bradhides.jpg
END:VEVENT
END:VCALENDAR