BEGIN:VCALENDAR
VERSION:2.0
PRODID:-//La Grange Business Association - ECPv6.15.20//NONSGML v1.0//EN
CALSCALE:GREGORIAN
METHOD:PUBLISH
X-ORIGINAL-URL:https://lgba.com
X-WR-CALDESC:Events for La Grange Business Association
REFRESH-INTERVAL;VALUE=DURATION:PT1H
X-Robots-Tag:noindex
X-PUBLISHED-TTL:PT1H
BEGIN:VTIMEZONE
TZID:America/Chicago
BEGIN:DAYLIGHT
TZOFFSETFROM:-0600
TZOFFSETTO:-0500
TZNAME:CDT
DTSTART:20250309T080000
END:DAYLIGHT
BEGIN:STANDARD
TZOFFSETFROM:-0500
TZOFFSETTO:-0600
TZNAME:CST
DTSTART:20251102T070000
END:STANDARD
BEGIN:DAYLIGHT
TZOFFSETFROM:-0600
TZOFFSETTO:-0500
TZNAME:CDT
DTSTART:20260308T080000
END:DAYLIGHT
BEGIN:STANDARD
TZOFFSETFROM:-0500
TZOFFSETTO:-0600
TZNAME:CST
DTSTART:20261101T070000
END:STANDARD
BEGIN:DAYLIGHT
TZOFFSETFROM:-0600
TZOFFSETTO:-0500
TZNAME:CDT
DTSTART:20270314T080000
END:DAYLIGHT
BEGIN:STANDARD
TZOFFSETFROM:-0500
TZOFFSETTO:-0600
TZNAME:CST
DTSTART:20271107T070000
END:STANDARD
END:VTIMEZONE
BEGIN:VEVENT
DTSTART;TZID=America/Chicago:20260601T190000
DTEND;TZID=America/Chicago:20260601T190000
DTSTAMP:20260423T152758
CREATED:20251117T152332Z
LAST-MODIFIED:20251117T152332Z
UID:10000427-1780340400-1780340400@lgba.com
SUMMARY:Bingo Mondays
DESCRIPTION:Bingo Mondays at the La Grange American Legion.  $15 for 10 games\, additional raffle games\, pull tabs.  Kitchen & Bar Open.  $10\,000 Progressive Jackpot.  Doors open 6pm\, Bingo at 7pm.   Open to the public. American Legion Post 1941\, 900 S. La Grange rd\, 60525  www.AL1941.org.
URL:https://lgba.com/event/bingo-mondays/2026-06-01/
LOCATION:American Legion Post 1941\, 900 S. La Grange Road\, La Grange\, IL\, 60525\, United States
CATEGORIES:Community,Fundraiser,Non-Profit
END:VEVENT
BEGIN:VEVENT
DTSTART;TZID=America/Chicago:20260602T120000
DTEND;TZID=America/Chicago:20260602T130000
DTSTAMP:20260423T152758
CREATED:20260325T192306Z
LAST-MODIFIED:20260325T192306Z
UID:10002710-1780401600-1780405200@lgba.com
SUMMARY:ARE YOU A MAVEN?
DESCRIPTION:Posey Law Group is proud to introduce PLG Maven\, a small business leadership program for female founders. \nPLG Maven is an 8-week journey designed exclusively for women entrepreneurs who are committed to success without compromise. \nEach week\, you will learn directly from an expert in legal\, financial\, and marketing strategy who will guide you through the essential pillars of building a successful small business. To support you along the way\, the PLG Maven Small Business Guide and accompanying worksheets will help you build a stronger foundation and scale your vision with confidence.\nYou’ll gain actionable insights and connect with a dynamic community of other women entrepreneurs. \nSign up at PLGMaven.com or scan the QR code for the next PLG Maven Cohort\, which will kick off on April 21\, 2026. Secure your spot now with early bird pricing!
URL:https://lgba.com/event/are-you-a-maven/2026-06-02/
LOCATION:IL
CATEGORIES:Community,Educational,Networking
END:VEVENT
BEGIN:VEVENT
DTSTART;TZID=America/Chicago:20260602T130000
DTEND;TZID=America/Chicago:20260602T153000
DTSTAMP:20260423T152758
CREATED:20260331T153354Z
LAST-MODIFIED:20260331T153354Z
UID:10002772-1780405200-1780414200@lgba.com
SUMMARY:Learn to Love Watercolor 6-week Art Class (4/7 - 5/12)
DESCRIPTION:Dates: April  7\, 14\, 21\, 28\, May 5 & 12\nMember $150* | Non-Member $180\n*members need to log in on website for member discount \nMax Students: 15\nSKU#: PKPVLU36 \nReady to take your watercolor skills to the next level? This class is designed for intermediate and advanced artists looking to refine their technique and composition. Work from your own references while discovering the magic of a limited color palette to create luminous\, expressive paintings. Through value studies and a deeper understanding of the Principles and Elements of Art\, you’ll gain confidence in your creative choices. Let go of hesitation and immerse yourself in the beauty of watercolor!
URL:https://lgba.com/event/learn-to-love-watercolor-6-week-art-class-4-7-5-12/2026-06-02/
LOCATION:La Grange Art League\, 122 Calendar Drive\, La Grange\, IL\, 60525\, United States
ATTACH;FMTTYPE=image/webp:https://lgba.com/wp-content/uploads/PXL_20250722_215034833_3.webp
END:VEVENT
BEGIN:VEVENT
DTSTART;TZID=America/Chicago:20260603T190000
DTEND;TZID=America/Chicago:20260603T210000
DTSTAMP:20260423T152758
CREATED:20260319T003945Z
LAST-MODIFIED:20260319T003945Z
UID:10002154-1780513200-1780520400@lgba.com
SUMMARY:Trivia Night
DESCRIPTION:Join us every Wednesday for trivia night! Reservations: www.bhsociallagrange.com
URL:https://lgba.com/event/trivia-night-3/2026-06-03/
LOCATION:Barrel House Social\, 100 W. Burlington\, La Grange\, IL\, 60525\, United States
CATEGORIES:Entertainment,Featured Event
ATTACH;FMTTYPE=image/png:https://lgba.com/wp-content/uploads/BHS-Trivia-Poster-.png
END:VEVENT
BEGIN:VEVENT
DTSTART;TZID=America/Chicago:20260604T070000
DTEND;TZID=America/Chicago:20260604T130000
DTSTAMP:20260423T152758
CREATED:20260112T210253Z
LAST-MODIFIED:20260112T224210Z
UID:10001852-1780556400-1780578000@lgba.com
SUMMARY:La Grange Farmers Market
DESCRIPTION:From farm-fresh produce to local favorites\, Thursdays in Downtown La Grange are all about great flavors\, friendly faces\, and community connection. Join us May 21 through October 29\, and make the market part of your weekly tradition. \n\nFind out more by visiting https://lgba.com/la-grange-farmers-market/.
URL:https://lgba.com/event/15965/2026-06-04/
LOCATION:La Grange Village Hall\, 53 La Grange Road\, La Grange\, IL\, 60525\, United States
CATEGORIES:Farmers Market,Featured Event,Health & Wellness
ATTACH;FMTTYPE=image/jpeg:https://lgba.com/wp-content/uploads/Farmers-Market-La-Grange.jpg
END:VEVENT
BEGIN:VEVENT
DTSTART;TZID=America/Chicago:20260604T180000
DTEND;TZID=America/Chicago:20260604T210000
DTSTAMP:20260423T152758
CREATED:20260323T143209Z
LAST-MODIFIED:20260323T143209Z
UID:10002723-1780596000-1780606800@lgba.com
SUMMARY:Live Music by Brad Hides
DESCRIPTION:Playing all the best songs and biggest hits from classic rock\, 90’s alternative\, and modern rock/pop!
URL:https://lgba.com/event/live-music-by-brad-hides/2026-06-04/
LOCATION:Milk Money Brewing\, 75 LaGrange Rd\, La Grange\, IL\, 60525\, United States
CATEGORIES:Entertainment,Goblet Society,Live Music
ATTACH;FMTTYPE=image/jpeg:https://lgba.com/wp-content/uploads/bradhides.jpg
END:VEVENT
BEGIN:VEVENT
DTSTART;TZID=America/Chicago:20260605T083000
DTEND;TZID=America/Chicago:20260605T093000
DTSTAMP:20260423T152758
CREATED:20251125T230812Z
LAST-MODIFIED:20251125T230813Z
UID:10001005-1780648200-1780651800@lgba.com
SUMMARY:Coffee and Conversations
DESCRIPTION:A monthly gathering that helps forge new business relationships and renew existing bonds in a relaxed and casual atmosphere. Start your day in the company of fellow Members and grow your circle of contacts. It’s quick and energizing – just the jolt you need to start your day. Enjoy a delicious cup of coffee and then mix\, meet\, sip and strategize. \nCome and meet those who might be sources of referrals to you; professionals with whom you can make knowledgeable referrals; or just business folks to talk shop with. Get the connections you need. That’s what we call multi-tasking!  \nFree to LGBA members. Nonmembers $10.
URL:https://lgba.com/event/coffee-and-conversations-2-2/2026-06-05/
LOCATION:Blueberry Hill\, 49 S La Grange Road\, La Grange\, IL\, 60525\, United States
CATEGORIES:LGBA Members Only,Networking
ATTACH;FMTTYPE=image/webp:https://lgba.com/wp-content/uploads/DALL·E-2024-12-10-13.52.42-A-cartoon-style-illustration-of-a-cozy-networking-event-with-a-coffee-shop-vibe.-The-scene-features-a-wooden-table-with-cartoonishly-styled-steaming-c.webp
ORGANIZER;CN="La Grange Business Association":MAILTO:info@Lgba.com
END:VEVENT
BEGIN:VEVENT
DTSTART;TZID=America/Chicago:20260608T190000
DTEND;TZID=America/Chicago:20260608T190000
DTSTAMP:20260423T152758
CREATED:20251117T152332Z
LAST-MODIFIED:20251117T152332Z
UID:10000428-1780945200-1780945200@lgba.com
SUMMARY:Bingo Mondays
DESCRIPTION:Bingo Mondays at the La Grange American Legion.  $15 for 10 games\, additional raffle games\, pull tabs.  Kitchen & Bar Open.  $10\,000 Progressive Jackpot.  Doors open 6pm\, Bingo at 7pm.   Open to the public. American Legion Post 1941\, 900 S. La Grange rd\, 60525  www.AL1941.org.
URL:https://lgba.com/event/bingo-mondays/2026-06-08/
LOCATION:American Legion Post 1941\, 900 S. La Grange Road\, La Grange\, IL\, 60525\, United States
CATEGORIES:Community,Fundraiser,Non-Profit
END:VEVENT
BEGIN:VEVENT
DTSTART;TZID=America/Chicago:20260609T120000
DTEND;TZID=America/Chicago:20260609T130000
DTSTAMP:20260423T152758
CREATED:20260325T192306Z
LAST-MODIFIED:20260325T192306Z
UID:10002711-1781006400-1781010000@lgba.com
SUMMARY:ARE YOU A MAVEN?
DESCRIPTION:Posey Law Group is proud to introduce PLG Maven\, a small business leadership program for female founders. \nPLG Maven is an 8-week journey designed exclusively for women entrepreneurs who are committed to success without compromise. \nEach week\, you will learn directly from an expert in legal\, financial\, and marketing strategy who will guide you through the essential pillars of building a successful small business. To support you along the way\, the PLG Maven Small Business Guide and accompanying worksheets will help you build a stronger foundation and scale your vision with confidence.\nYou’ll gain actionable insights and connect with a dynamic community of other women entrepreneurs. \nSign up at PLGMaven.com or scan the QR code for the next PLG Maven Cohort\, which will kick off on April 21\, 2026. Secure your spot now with early bird pricing!
URL:https://lgba.com/event/are-you-a-maven/2026-06-09/
LOCATION:IL
CATEGORIES:Community,Educational,Networking
END:VEVENT
BEGIN:VEVENT
DTSTART;TZID=America/Chicago:20260609T130000
DTEND;TZID=America/Chicago:20260609T153000
DTSTAMP:20260423T152758
CREATED:20260331T153354Z
LAST-MODIFIED:20260331T153354Z
UID:10002773-1781010000-1781019000@lgba.com
SUMMARY:Learn to Love Watercolor 6-week Art Class (4/7 - 5/12)
DESCRIPTION:Dates: April  7\, 14\, 21\, 28\, May 5 & 12\nMember $150* | Non-Member $180\n*members need to log in on website for member discount \nMax Students: 15\nSKU#: PKPVLU36 \nReady to take your watercolor skills to the next level? This class is designed for intermediate and advanced artists looking to refine their technique and composition. Work from your own references while discovering the magic of a limited color palette to create luminous\, expressive paintings. Through value studies and a deeper understanding of the Principles and Elements of Art\, you’ll gain confidence in your creative choices. Let go of hesitation and immerse yourself in the beauty of watercolor!
URL:https://lgba.com/event/learn-to-love-watercolor-6-week-art-class-4-7-5-12/2026-06-09/
LOCATION:La Grange Art League\, 122 Calendar Drive\, La Grange\, IL\, 60525\, United States
ATTACH;FMTTYPE=image/webp:https://lgba.com/wp-content/uploads/PXL_20250722_215034833_3.webp
END:VEVENT
BEGIN:VEVENT
DTSTART;TZID=America/Chicago:20260610T190000
DTEND;TZID=America/Chicago:20260610T210000
DTSTAMP:20260423T152758
CREATED:20260319T003945Z
LAST-MODIFIED:20260319T003945Z
UID:10002155-1781118000-1781125200@lgba.com
SUMMARY:Trivia Night
DESCRIPTION:Join us every Wednesday for trivia night! Reservations: www.bhsociallagrange.com
URL:https://lgba.com/event/trivia-night-3/2026-06-10/
LOCATION:Barrel House Social\, 100 W. Burlington\, La Grange\, IL\, 60525\, United States
CATEGORIES:Entertainment,Featured Event
ATTACH;FMTTYPE=image/png:https://lgba.com/wp-content/uploads/BHS-Trivia-Poster-.png
END:VEVENT
BEGIN:VEVENT
DTSTART;TZID=America/Chicago:20260611T070000
DTEND;TZID=America/Chicago:20260611T130000
DTSTAMP:20260423T152758
CREATED:20260112T210253Z
LAST-MODIFIED:20260112T224210Z
UID:10001853-1781161200-1781182800@lgba.com
SUMMARY:La Grange Farmers Market
DESCRIPTION:From farm-fresh produce to local favorites\, Thursdays in Downtown La Grange are all about great flavors\, friendly faces\, and community connection. Join us May 21 through October 29\, and make the market part of your weekly tradition. \n\nFind out more by visiting https://lgba.com/la-grange-farmers-market/.
URL:https://lgba.com/event/15965/2026-06-11/
LOCATION:La Grange Village Hall\, 53 La Grange Road\, La Grange\, IL\, 60525\, United States
CATEGORIES:Farmers Market,Featured Event,Health & Wellness
ATTACH;FMTTYPE=image/jpeg:https://lgba.com/wp-content/uploads/Farmers-Market-La-Grange.jpg
END:VEVENT
BEGIN:VEVENT
DTSTART;TZID=America/Chicago:20260611T080000
DTEND;TZID=America/Chicago:20260611T093000
DTSTAMP:20260423T152758
CREATED:20250903T180116Z
LAST-MODIFIED:20250903T180730Z
UID:10000112-1781164800-1781170200@lgba.com
SUMMARY:LGBA Member Meeting
DESCRIPTION:Join us at Palmer’s Place for our monthly Member Meeting.  The event starts off at 8:00am with networking\, followed by our meeting at 8:30am.  Members will get a chance to speak and let us know what’s going on with their business. \nIf the weather’s nice\, we’ll be on the back patio!  No meeting in December.
URL:https://lgba.com/event/lgba-member-meeting/2026-06-11/
LOCATION:Palmer Place Restaurant and Biergarten\, 56 S. La Grange Road\, La Grange\, IL\, 60525\, United States
CATEGORIES:LGBA Member Meeting,LGBA Members Only,Networking
ATTACH;FMTTYPE=image/png:https://lgba.com/wp-content/uploads/LBGA_Logo.png
END:VEVENT
BEGIN:VEVENT
DTSTART;TZID=America/Chicago:20260611T180000
DTEND;TZID=America/Chicago:20260611T210000
DTSTAMP:20260423T152758
CREATED:20260323T145057Z
LAST-MODIFIED:20260323T145057Z
UID:10002732-1781200800-1781211600@lgba.com
SUMMARY:Live Music by Chuck Wilson
DESCRIPTION:Guitarist and singer/songwriter in the Chicagoland area. Member of Lost Pyramids & Good Time Heroes & Lazy River Riders
URL:https://lgba.com/event/live-music-by-chuck-wilson-2/2026-06-11/
LOCATION:Milk Money Brewing\, 75 LaGrange Rd\, La Grange\, IL\, 60525\, United States
CATEGORIES:Entertainment,Goblet Society,Live Music
ATTACH;FMTTYPE=image/jpeg:https://lgba.com/wp-content/uploads/chuckwilson-1.jpg
END:VEVENT
BEGIN:VEVENT
DTSTART;TZID=America/Chicago:20260613T180000
DTEND;TZID=America/Chicago:20260613T180000
DTSTAMP:20260423T152758
CREATED:20260323T141527Z
LAST-MODIFIED:20260323T141757Z
UID:10002717-1781373600-1781373600@lgba.com
SUMMARY:Live Music by Meritage
DESCRIPTION:Join us on the patio at Palmer Place in beautiful Downtown LaGrange!!!
URL:https://lgba.com/event/live-music-by-meritage/2026-06-13/
LOCATION:Palmer Place Restaurant and Biergarten\, 56 S. La Grange Road\, La Grange\, IL\, 60525\, United States
CATEGORIES:Entertainment,Live Music
ATTACH;FMTTYPE=image/jpeg:https://lgba.com/wp-content/uploads/648816328_1886935622238672_7244069701049982726_n.jpg
END:VEVENT
BEGIN:VEVENT
DTSTART;TZID=America/Chicago:20260615T190000
DTEND;TZID=America/Chicago:20260615T190000
DTSTAMP:20260423T152758
CREATED:20251117T152332Z
LAST-MODIFIED:20251117T152332Z
UID:10000429-1781550000-1781550000@lgba.com
SUMMARY:Bingo Mondays
DESCRIPTION:Bingo Mondays at the La Grange American Legion.  $15 for 10 games\, additional raffle games\, pull tabs.  Kitchen & Bar Open.  $10\,000 Progressive Jackpot.  Doors open 6pm\, Bingo at 7pm.   Open to the public. American Legion Post 1941\, 900 S. La Grange rd\, 60525  www.AL1941.org.
URL:https://lgba.com/event/bingo-mondays/2026-06-15/
LOCATION:American Legion Post 1941\, 900 S. La Grange Road\, La Grange\, IL\, 60525\, United States
CATEGORIES:Community,Fundraiser,Non-Profit
END:VEVENT
BEGIN:VEVENT
DTSTART;TZID=America/Chicago:20260616T130000
DTEND;TZID=America/Chicago:20260616T153000
DTSTAMP:20260423T152758
CREATED:20260331T153354Z
LAST-MODIFIED:20260331T153354Z
UID:10002774-1781614800-1781623800@lgba.com
SUMMARY:Learn to Love Watercolor 6-week Art Class (4/7 - 5/12)
DESCRIPTION:Dates: April  7\, 14\, 21\, 28\, May 5 & 12\nMember $150* | Non-Member $180\n*members need to log in on website for member discount \nMax Students: 15\nSKU#: PKPVLU36 \nReady to take your watercolor skills to the next level? This class is designed for intermediate and advanced artists looking to refine their technique and composition. Work from your own references while discovering the magic of a limited color palette to create luminous\, expressive paintings. Through value studies and a deeper understanding of the Principles and Elements of Art\, you’ll gain confidence in your creative choices. Let go of hesitation and immerse yourself in the beauty of watercolor!
URL:https://lgba.com/event/learn-to-love-watercolor-6-week-art-class-4-7-5-12/2026-06-16/
LOCATION:La Grange Art League\, 122 Calendar Drive\, La Grange\, IL\, 60525\, United States
ATTACH;FMTTYPE=image/webp:https://lgba.com/wp-content/uploads/PXL_20250722_215034833_3.webp
END:VEVENT
BEGIN:VEVENT
DTSTART;TZID=America/Chicago:20260617T130000
DTEND;TZID=America/Chicago:20260617T130000
DTSTAMP:20260423T152758
CREATED:20260323T163807Z
LAST-MODIFIED:20260323T163807Z
UID:10002749-1781701200-1781701200@lgba.com
SUMMARY:Teenage Mutant Ninja Turtles
DESCRIPTION:
URL:https://lgba.com/event/teenage-mutant-ninja-turtles/2026-06-17/1/
LOCATION:Classic Cinemas – La Grange
CATEGORIES:Entertainment
ATTACH;FMTTYPE=image/webp:https://lgba.com/wp-content/uploads/teenagemutantninjaturtles.webp
END:VEVENT
BEGIN:VEVENT
DTSTART;TZID=America/Chicago:20260617T190000
DTEND;TZID=America/Chicago:20260617T190000
DTSTAMP:20260423T152758
CREATED:20260323T163807Z
LAST-MODIFIED:20260323T163807Z
UID:10002750-1781722800-1781722800@lgba.com
SUMMARY:Teenage Mutant Ninja Turtles
DESCRIPTION:
URL:https://lgba.com/event/teenage-mutant-ninja-turtles/2026-06-17/2/
LOCATION:Classic Cinemas – La Grange
CATEGORIES:Entertainment
ATTACH;FMTTYPE=image/webp:https://lgba.com/wp-content/uploads/teenagemutantninjaturtles.webp
END:VEVENT
BEGIN:VEVENT
DTSTART;TZID=America/Chicago:20260617T190000
DTEND;TZID=America/Chicago:20260617T210000
DTSTAMP:20260423T152758
CREATED:20260319T003945Z
LAST-MODIFIED:20260319T003945Z
UID:10002156-1781722800-1781730000@lgba.com
SUMMARY:Trivia Night
DESCRIPTION:Join us every Wednesday for trivia night! Reservations: www.bhsociallagrange.com
URL:https://lgba.com/event/trivia-night-3/2026-06-17/
LOCATION:Barrel House Social\, 100 W. Burlington\, La Grange\, IL\, 60525\, United States
CATEGORIES:Entertainment,Featured Event
ATTACH;FMTTYPE=image/png:https://lgba.com/wp-content/uploads/BHS-Trivia-Poster-.png
END:VEVENT
BEGIN:VEVENT
DTSTART;TZID=America/Chicago:20260618T070000
DTEND;TZID=America/Chicago:20260618T130000
DTSTAMP:20260423T152758
CREATED:20260112T210253Z
LAST-MODIFIED:20260112T224210Z
UID:10001854-1781766000-1781787600@lgba.com
SUMMARY:La Grange Farmers Market
DESCRIPTION:From farm-fresh produce to local favorites\, Thursdays in Downtown La Grange are all about great flavors\, friendly faces\, and community connection. Join us May 21 through October 29\, and make the market part of your weekly tradition. \n\nFind out more by visiting https://lgba.com/la-grange-farmers-market/.
URL:https://lgba.com/event/15965/2026-06-18/
LOCATION:La Grange Village Hall\, 53 La Grange Road\, La Grange\, IL\, 60525\, United States
CATEGORIES:Farmers Market,Featured Event,Health & Wellness
ATTACH;FMTTYPE=image/jpeg:https://lgba.com/wp-content/uploads/Farmers-Market-La-Grange.jpg
END:VEVENT
BEGIN:VEVENT
DTSTART;TZID=America/Chicago:20260618T180000
DTEND;TZID=America/Chicago:20260618T210000
DTSTAMP:20260423T152758
CREATED:20260323T145423Z
LAST-MODIFIED:20260323T145423Z
UID:10002735-1781805600-1781816400@lgba.com
SUMMARY:Live Music by Matt Strom
DESCRIPTION:Navy Diver Veteran / Singer Songwriter\, trying to figure out this music thing one song at a time.
URL:https://lgba.com/event/live-music-by-matt-strom/2026-06-18/
LOCATION:Milk Money Brewing\, 75 LaGrange Rd\, La Grange\, IL\, 60525\, United States
CATEGORIES:Entertainment,Goblet Society,Live Music
ATTACH;FMTTYPE=image/jpeg:https://lgba.com/wp-content/uploads/mattstrom.jpg
END:VEVENT
BEGIN:VEVENT
DTSTART;TZID=America/Chicago:20260620T110000
DTEND;TZID=America/Chicago:20260620T230000
DTSTAMP:20260423T152758
CREATED:20260323T140626Z
LAST-MODIFIED:20260323T140626Z
UID:10002713-1781953200-1781996400@lgba.com
SUMMARY:Annual Go Green Greater La Grange
DESCRIPTION:Join us in celebrating another year of environmental work within our community. Your continued financial support has allowed us to continue to enrich and develop our Green Leadership Summer Program as well as host multiple social collection events throughout the community. Last year alone our volunteers helped divert nearly 50\,000 pounds of material from our community landfill through these events alone. Your dollar goes a long way in helping to keep our organization growing. Thank you and we hope to see you there!
URL:https://lgba.com/event/annual-go-green-greater-la-grange/
LOCATION:Milk Money Brewing\, 75 LaGrange Rd\, La Grange\, IL\, 60525\, United States
CATEGORIES:Environmental,Fundraiser
ATTACH;FMTTYPE=image/jpeg:https://lgba.com/wp-content/uploads/651169462_1384412880153535_2970350169718650561_n.jpg
ORGANIZER;CN="Go Green La Grange":MAILTO:gogreenlagrange1@gmail.com
END:VEVENT
BEGIN:VEVENT
DTSTART;TZID=America/Chicago:20260622T083000
DTEND;TZID=America/Chicago:20260626T113000
DTSTAMP:20260423T152758
CREATED:20260224T225207Z
LAST-MODIFIED:20260224T225207Z
UID:10002090-1782117000-1782473400@lgba.com
SUMMARY:Passport Around the World Creative Enrichment Camp
DESCRIPTION:Passport Around the World – Creative Enrichment Camp \nFor children entering Grades 1–3 (Fall 2026)\n\n\n Monday\, June 22 – Friday\, June 26\n 8:30 AM – 11:30 AM\n Small Group (Max 10 Students)\n\n\nGet ready to “travel” the world through art\, stories\, games\, and hands-on cultural exploration! Each day\, campers will visit Peru\, New Zealand\, India\, France\, and Kenya\, discovering traditions\, animals\, landscapes\, and artistic styles from around the globe.\n\n\n Camp Includes:\n A featured children’s book each day\n In-depth art projects (weaving\, clay\, watercolor\, sponge painting & more)\n Movement-based games\n Personal passport journal\n Daily snack (please notify the La Grange Art League of any allergies)\n End-of-week gallery-style showcase\n\n\n Cost:\nNon-Member: $275\nMember: $250 (Members must log in on the website to receive discount)\n $50 supply & snack fee due to instructor (cash or check) on the first day of camp\n\n\nSKU# ALPASS0626\n\n\n Sign up on our website today — spots are limited!\n\n\nDesigned for curious\, creative kids\, this camp builds imagination\, confidence\, and a love of learning about our world. \nYour child will leave with new skills\, new perspectives\, and a suitcase full of artwork from around the world!\n\n\n#SummerArtCamp #CreativeKids #ArtCamp #PassportAroundTheWorld #YouthArt #LaGrangeArtLeague #CulturalExploration #HandsOnLearning #ElementaryArt #SmallGroupLearning
URL:https://lgba.com/event/passport-around-the-world-creative-enrichment-camp/
LOCATION:La Grange Art League\, 122 Calendar Drive\, La Grange\, IL\, 60525\, United States
CATEGORIES:Art,Educational,Summer camps
ATTACH;FMTTYPE=image/jpeg:https://lgba.com/wp-content/uploads/638299517_1757116755605055_1588438814325193632_n.jpg
END:VEVENT
BEGIN:VEVENT
DTSTART;TZID=America/Chicago:20260622T190000
DTEND;TZID=America/Chicago:20260622T190000
DTSTAMP:20260423T152758
CREATED:20251117T152332Z
LAST-MODIFIED:20251117T152332Z
UID:10000430-1782154800-1782154800@lgba.com
SUMMARY:Bingo Mondays
DESCRIPTION:Bingo Mondays at the La Grange American Legion.  $15 for 10 games\, additional raffle games\, pull tabs.  Kitchen & Bar Open.  $10\,000 Progressive Jackpot.  Doors open 6pm\, Bingo at 7pm.   Open to the public. American Legion Post 1941\, 900 S. La Grange rd\, 60525  www.AL1941.org.
URL:https://lgba.com/event/bingo-mondays/2026-06-22/
LOCATION:American Legion Post 1941\, 900 S. La Grange Road\, La Grange\, IL\, 60525\, United States
CATEGORIES:Community,Fundraiser,Non-Profit
END:VEVENT
BEGIN:VEVENT
DTSTART;TZID=America/Chicago:20260623T130000
DTEND;TZID=America/Chicago:20260623T153000
DTSTAMP:20260423T152758
CREATED:20260331T153354Z
LAST-MODIFIED:20260331T153354Z
UID:10002775-1782219600-1782228600@lgba.com
SUMMARY:Learn to Love Watercolor 6-week Art Class (4/7 - 5/12)
DESCRIPTION:Dates: April  7\, 14\, 21\, 28\, May 5 & 12\nMember $150* | Non-Member $180\n*members need to log in on website for member discount \nMax Students: 15\nSKU#: PKPVLU36 \nReady to take your watercolor skills to the next level? This class is designed for intermediate and advanced artists looking to refine their technique and composition. Work from your own references while discovering the magic of a limited color palette to create luminous\, expressive paintings. Through value studies and a deeper understanding of the Principles and Elements of Art\, you’ll gain confidence in your creative choices. Let go of hesitation and immerse yourself in the beauty of watercolor!
URL:https://lgba.com/event/learn-to-love-watercolor-6-week-art-class-4-7-5-12/2026-06-23/
LOCATION:La Grange Art League\, 122 Calendar Drive\, La Grange\, IL\, 60525\, United States
ATTACH;FMTTYPE=image/webp:https://lgba.com/wp-content/uploads/PXL_20250722_215034833_3.webp
END:VEVENT
BEGIN:VEVENT
DTSTART;TZID=America/Chicago:20260624T090000
DTEND;TZID=America/Chicago:20260624T150000
DTSTAMP:20260423T152758
CREATED:20260412T223135Z
LAST-MODIFIED:20260412T223135Z
UID:10002849-1782291600-1782313200@lgba.com
SUMMARY:Red Cross Blood Drive
DESCRIPTION:The La Grange American Legion Post 1941 hosts monthly Blood Drives with the Red Cross. The drives are on the 4th Wednesday every month. \n9:00 – 3:00 pm. Please register \nTo donate blood Please Register www.redcross.org
URL:https://lgba.com/event/red-cross-blood-drive/2026-06-24/
LOCATION:American Legion Post 1941\, 900 S. La Grange Road\, La Grange\, IL\, 60525\, United States
CATEGORIES:Blood Drive
ATTACH;FMTTYPE=image/webp:https://lgba.com/wp-content/uploads/americanredcrossblooddrive.webp
END:VEVENT
BEGIN:VEVENT
DTSTART;TZID=America/Chicago:20260624T123000
DTEND;TZID=America/Chicago:20260624T131500
DTSTAMP:20260423T152758
CREATED:20260122T215214Z
LAST-MODIFIED:20260122T215632Z
UID:10001988-1782304200-1782306900@lgba.com
SUMMARY:Mindful Movements:  45-minute sessions (4th Wednesdays of the Month)
DESCRIPTION:Feeling stressed? Ready to move your body and calm your mind?\n\n\n\n\nMindful Movement is a free program for adults 18+ years old of all fitness levels that brings together physical activity\, mental wellness\, and social connection through guided group sessions. \nWe’re offering multiple sessions in accessible spaces across Lyons Township—because wellness should be within everyone’s reach. \nMindful Movement is presented by OptWell and Lyons Township Mental Health Commission. \nLa Bella Events 5412 LaGrange Road\, Countryside\, IL \nWhen: 4th Wednesdays of month | 12:30 – 1:15 PM \nJanuary 28 – December 23\, 2026 \nSpecial Features: \n\nSessions conducted in both English & Spanish\nAccessible for all – can be done seated or standing\nNo floor work required\n\nBonus for Ages 60+: Sign up for the Congregate Meals Program and enjoy a $3 lunch from 11:30 AM – 1:30 PM! Call 708-603-2269 with 48-hour advance RSVP.
URL:https://lgba.com/event/mindful-movements-45-minute-sessions-4th-wednesdays-of-the-month/2026-06-24/
LOCATION:LaBella Events\, 5412 LaGrange Road\, Countryside\, IL\, United States
CATEGORIES:Community,Educational,Get Active,Health & Wellness,Non-Profit,Senior Living
ATTACH;FMTTYPE=image/jpeg:https://lgba.com/wp-content/uploads/MM-ACC-1024x768-1.jpg
END:VEVENT
BEGIN:VEVENT
DTSTART;TZID=America/Chicago:20260624T190000
DTEND;TZID=America/Chicago:20260624T210000
DTSTAMP:20260423T152758
CREATED:20260319T003945Z
LAST-MODIFIED:20260319T003945Z
UID:10002157-1782327600-1782334800@lgba.com
SUMMARY:Trivia Night
DESCRIPTION:Join us every Wednesday for trivia night! Reservations: www.bhsociallagrange.com
URL:https://lgba.com/event/trivia-night-3/2026-06-24/
LOCATION:Barrel House Social\, 100 W. Burlington\, La Grange\, IL\, 60525\, United States
CATEGORIES:Entertainment,Featured Event
ATTACH;FMTTYPE=image/png:https://lgba.com/wp-content/uploads/BHS-Trivia-Poster-.png
END:VEVENT
BEGIN:VEVENT
DTSTART;TZID=America/Chicago:20260625T070000
DTEND;TZID=America/Chicago:20260625T130000
DTSTAMP:20260423T152758
CREATED:20260112T210253Z
LAST-MODIFIED:20260112T224210Z
UID:10001855-1782370800-1782392400@lgba.com
SUMMARY:La Grange Farmers Market
DESCRIPTION:From farm-fresh produce to local favorites\, Thursdays in Downtown La Grange are all about great flavors\, friendly faces\, and community connection. Join us May 21 through October 29\, and make the market part of your weekly tradition. \n\nFind out more by visiting https://lgba.com/la-grange-farmers-market/.
URL:https://lgba.com/event/15965/2026-06-25/
LOCATION:La Grange Village Hall\, 53 La Grange Road\, La Grange\, IL\, 60525\, United States
CATEGORIES:Farmers Market,Featured Event,Health & Wellness
ATTACH;FMTTYPE=image/jpeg:https://lgba.com/wp-content/uploads/Farmers-Market-La-Grange.jpg
END:VEVENT
END:VCALENDAR