BEGIN:VCALENDAR
VERSION:2.0
PRODID:-//La Grange Business Association - ECPv6.15.20//NONSGML v1.0//EN
CALSCALE:GREGORIAN
METHOD:PUBLISH
X-WR-CALNAME:La Grange Business Association
X-ORIGINAL-URL:https://lgba.com
X-WR-CALDESC:Events for La Grange Business Association
REFRESH-INTERVAL;VALUE=DURATION:PT1H
X-Robots-Tag:noindex
X-PUBLISHED-TTL:PT1H
BEGIN:VTIMEZONE
TZID:America/Chicago
BEGIN:DAYLIGHT
TZOFFSETFROM:-0600
TZOFFSETTO:-0500
TZNAME:CDT
DTSTART:20250309T080000
END:DAYLIGHT
BEGIN:STANDARD
TZOFFSETFROM:-0500
TZOFFSETTO:-0600
TZNAME:CST
DTSTART:20251102T070000
END:STANDARD
BEGIN:DAYLIGHT
TZOFFSETFROM:-0600
TZOFFSETTO:-0500
TZNAME:CDT
DTSTART:20260308T080000
END:DAYLIGHT
BEGIN:STANDARD
TZOFFSETFROM:-0500
TZOFFSETTO:-0600
TZNAME:CST
DTSTART:20261101T070000
END:STANDARD
BEGIN:DAYLIGHT
TZOFFSETFROM:-0600
TZOFFSETTO:-0500
TZNAME:CDT
DTSTART:20270314T080000
END:DAYLIGHT
BEGIN:STANDARD
TZOFFSETFROM:-0500
TZOFFSETTO:-0600
TZNAME:CST
DTSTART:20271107T070000
END:STANDARD
END:VTIMEZONE
BEGIN:VEVENT
DTSTART;TZID=America/Chicago:20260329T100000
DTEND;TZID=America/Chicago:20260329T130000
DTSTAMP:20260423T135555
CREATED:20260319T004124Z
LAST-MODIFIED:20260319T004124Z
UID:10002701-1774778400-1774789200@lgba.com
SUMMARY:Photos with the Easter Bunny
DESCRIPTION:Hop on over for Photos with the Easter Bunny! \nJoin us for a fun\, family-friendly morning and snap a photo with the Easter Bunny! Bring your phones\, your smiles\, and the kids for a sweet spring memory. \nNo appointment needed. Just stop by the main showroom floor anytime during the event. \nHosted by Battistoni | Beam | Polivka Orthodontics and Hortons Home Lighting
URL:https://lgba.com/event/photos-with-the-easter-bunny/
LOCATION:Horton’s Home Lighting and Horton’s Ace Hardware\, 60 S. La Grange Road\, La Grange\, IL\, 60525\, United States
CATEGORIES:Holiday
ATTACH;FMTTYPE=image/jpeg:https://lgba.com/wp-content/uploads/easter.jpg
ORGANIZER;CN="Battistoni | Beam | Polivka Orthodontics":MAILTO:info@awesomebraces.com
END:VEVENT
BEGIN:VEVENT
DTSTART;TZID=America/Chicago:20260330T190000
DTEND;TZID=America/Chicago:20260330T190000
DTSTAMP:20260423T135555
CREATED:20251117T152332Z
LAST-MODIFIED:20251117T152332Z
UID:10000418-1774897200-1774897200@lgba.com
SUMMARY:Bingo Mondays
DESCRIPTION:Bingo Mondays at the La Grange American Legion.  $15 for 10 games\, additional raffle games\, pull tabs.  Kitchen & Bar Open.  $10\,000 Progressive Jackpot.  Doors open 6pm\, Bingo at 7pm.   Open to the public. American Legion Post 1941\, 900 S. La Grange rd\, 60525  www.AL1941.org.
URL:https://lgba.com/event/bingo-mondays/2026-03-30/
LOCATION:American Legion Post 1941\, 900 S. La Grange Road\, La Grange\, IL\, 60525\, United States
CATEGORIES:Community,Fundraiser,Non-Profit
END:VEVENT
BEGIN:VEVENT
DTSTART;TZID=America/Chicago:20260330T190000
DTEND;TZID=America/Chicago:20260330T190000
DTSTAMP:20260423T135555
CREATED:20260312T152242Z
LAST-MODIFIED:20260323T163133Z
UID:10002744-1774897200-1774897200@lgba.com
SUMMARY:Terrified Cinema
DESCRIPTION:Ready to be scared out of your mind?\n\n\nAnother Classified Cinema turns TERRIFIED.\nGrab tickets now… they go fast. \nhttps://classiccinemas.com/…/terrified-cinema…/2341…
URL:https://lgba.com/event/terrified-cinema/2026-03-30/
LOCATION:Classic Cinemas – La Grange
CATEGORIES:Entertainment
ATTACH;FMTTYPE=image/jpeg:https://lgba.com/wp-content/uploads/650837922_1432018038937001_7461649464517221608_n.jpg
END:VEVENT
BEGIN:VEVENT
DTSTART;TZID=America/Chicago:20260401T190000
DTEND;TZID=America/Chicago:20260401T210000
DTSTAMP:20260423T135555
CREATED:20260319T003945Z
LAST-MODIFIED:20260319T003945Z
UID:10002145-1775070000-1775077200@lgba.com
SUMMARY:Trivia Night
DESCRIPTION:Join us every Wednesday for trivia night! Reservations: www.bhsociallagrange.com
URL:https://lgba.com/event/trivia-night-3/2026-04-01/
LOCATION:Barrel House Social\, 100 W. Burlington\, La Grange\, IL\, 60525\, United States
CATEGORIES:Entertainment,Featured Event
ATTACH;FMTTYPE=image/png:https://lgba.com/wp-content/uploads/BHS-Trivia-Poster-.png
END:VEVENT
BEGIN:VEVENT
DTSTART;TZID=America/Chicago:20260402T093000
DTEND;TZID=America/Chicago:20260402T103000
DTSTAMP:20260423T135555
CREATED:20260122T214845Z
LAST-MODIFIED:20260122T214845Z
UID:10001974-1775122200-1775125800@lgba.com
SUMMARY:Mindful Movement 1-Hour Session
DESCRIPTION:Feeling stressed? Ready to move your body and calm your mind?\n\n\n\n\nMindful Movement is a free program for adults 18+ years old of all fitness levels that brings together physical activity\, mental wellness\, and social connection through guided group sessions. \nWe’re offering multiple sessions in accessible spaces across Lyons Township—because wellness should be within everyone’s reach. \nMindful Movement is presented by OptWell and Lyons Township Mental Health Commission.
URL:https://lgba.com/event/mindful-movement-1-hour-session/2026-04-02/
LOCATION:First Congregational Church of Western Springs\, 1106 Chestnut Street\, Western Springs\, IL\, United States
CATEGORIES:Community,Get Active,Health & Wellness,Non-Profit
ATTACH;FMTTYPE=image/png:https://lgba.com/wp-content/uploads/first-cong.png
END:VEVENT
BEGIN:VEVENT
DTSTART;TZID=America/Chicago:20260402T180000
DTEND;TZID=America/Chicago:20260402T180000
DTSTAMP:20260423T135555
CREATED:20260309T155732Z
LAST-MODIFIED:20260309T155732Z
UID:10002675-1775152800-1775152800@lgba.com
SUMMARY:Maundry Thursday Dinner is Worship
DESCRIPTION:Experience worship through the sacred act of sharing a meal. As you remember the Last Supper\, communion is woven into dinner\, prayer\, and storytelling\, inviting you to encounter Christ’s command to love in a deeply tangible way.\n\nAll are welcome to Dinner Is Worship on Maundy Thursday\, April 2\, at 6:00 PM. Please sign up to attend through the button below.
URL:https://lgba.com/event/maundry-thursday-dinner-is-worship/
LOCATION:Grace Lutheran Church of La Grange\, 200 N. Catherine Avenue\, La Grange\, IL\, 60525\, United States
CATEGORIES:Religious
ATTACH;FMTTYPE=image/jpeg:https://lgba.com/wp-content/uploads/dinnerisworship.jpg
ORGANIZER;CN="Grace Lutheran Church of La Grange":MAILTO:administrator@gracelutheran-lg.org
END:VEVENT
BEGIN:VEVENT
DTSTART;TZID=America/Chicago:20260402T180000
DTEND;TZID=America/Chicago:20260402T210000
DTSTAMP:20260423T135555
CREATED:20260331T145849Z
LAST-MODIFIED:20260331T145851Z
UID:10002722-1775152800-1775163600@lgba.com
SUMMARY:Live Music by Brad Hides
DESCRIPTION:Playing all the best songs and biggest hits from classic rock\, 90’s alternative\, and modern rock/pop!
URL:https://lgba.com/event/live-music-by-brad-hides-2/
LOCATION:Milk Money Brewing\, 75 LaGrange Rd\, La Grange\, IL\, 60525\, United States
CATEGORIES:Entertainment,Goblet Society,Live Music
ATTACH;FMTTYPE=image/jpeg:https://lgba.com/wp-content/uploads/bradhides.jpg
END:VEVENT
BEGIN:VEVENT
DTSTART;TZID=America/Chicago:20260403T083000
DTEND;TZID=America/Chicago:20260403T093000
DTSTAMP:20260423T135555
CREATED:20251125T230812Z
LAST-MODIFIED:20251125T230813Z
UID:10001003-1775205000-1775208600@lgba.com
SUMMARY:Coffee and Conversations
DESCRIPTION:A monthly gathering that helps forge new business relationships and renew existing bonds in a relaxed and casual atmosphere. Start your day in the company of fellow Members and grow your circle of contacts. It’s quick and energizing – just the jolt you need to start your day. Enjoy a delicious cup of coffee and then mix\, meet\, sip and strategize. \nCome and meet those who might be sources of referrals to you; professionals with whom you can make knowledgeable referrals; or just business folks to talk shop with. Get the connections you need. That’s what we call multi-tasking!  \nFree to LGBA members. Nonmembers $10.
URL:https://lgba.com/event/coffee-and-conversations-2-2/2026-04-03/
LOCATION:Blueberry Hill\, 49 S La Grange Road\, La Grange\, IL\, 60525\, United States
CATEGORIES:LGBA Members Only,Networking
ATTACH;FMTTYPE=image/webp:https://lgba.com/wp-content/uploads/DALL·E-2024-12-10-13.52.42-A-cartoon-style-illustration-of-a-cozy-networking-event-with-a-coffee-shop-vibe.-The-scene-features-a-wooden-table-with-cartoonishly-styled-steaming-c.webp
ORGANIZER;CN="La Grange Business Association":MAILTO:info@Lgba.com
END:VEVENT
BEGIN:VEVENT
DTSTART;TZID=America/Chicago:20260403T110000
DTEND;TZID=America/Chicago:20260403T123000
DTSTAMP:20260423T135555
CREATED:20260330T142643Z
LAST-MODIFIED:20260330T142643Z
UID:10002754-1775214000-1775219400@lgba.com
SUMMARY:Family Good Friday Worship
DESCRIPTION:On Good Friday\, April 3\, from 11:00 AM–12:30 PM\, step into a child-focused\, interactive Good Friday experience with Pastor Heidi and Miss Rebecca. You’ll journey through Holy Week—moving from fear and sadness toward a glimpse of Easter’s hope and joy. Worship is followed by pizza lunch and a hands-on activity. Sign up to attend through the button below.
URL:https://lgba.com/event/family-good-friday-worship/
LOCATION:Grace Lutheran Church of La Grange\, 200 N. Catherine Avenue\, La Grange\, IL\, 60525\, United States
CATEGORIES:Religious
ATTACH;FMTTYPE=image/jpeg:https://lgba.com/wp-content/uploads/gracelutheran.jpg
ORGANIZER;CN="Grace Lutheran Church of La Grange":MAILTO:administrator@gracelutheran-lg.org
END:VEVENT
BEGIN:VEVENT
DTSTART;TZID=America/Chicago:20260404T100000
DTEND;TZID=America/Chicago:20260404T140000
DTSTAMP:20260423T135555
CREATED:20260402T191012Z
LAST-MODIFIED:20260402T191012Z
UID:10002752-1775296800-1775311200@lgba.com
SUMMARY:Easter Special Brunch 🐰🍃🌸
DESCRIPTION:This + Easter?! 🐰🍃🐤🌸 feels like something the Easter Bunny would order for brunch. \nOur Easter brunch specials are here:\nHoneyfire Pork Belly Deviled Eggs + Carrot Blossom Fizz \nApril 4 & 5\, 10 AM to 2 PM\, both locations \nCome grab a table\, hang a little\, celebrate Easter with us
URL:https://lgba.com/event/easter-special-brunch-%f0%9f%90%b0%f0%9f%8d%83%f0%9f%8c%b8/2026-04-04/
LOCATION:Wooden Paddle\, 23 Calendar Avenue\, La Grange\, IL\, 60525\, United States
CATEGORIES:Dining,Holiday,Special Menu
ATTACH;FMTTYPE=image/png:https://lgba.com/wp-content/uploads/1-1.png
END:VEVENT
BEGIN:VEVENT
DTSTART;TZID=America/Chicago:20260404T140000
DTEND;TZID=America/Chicago:20260404T153000
DTSTAMP:20260423T135555
CREATED:20260323T140249Z
LAST-MODIFIED:20260323T140249Z
UID:10002712-1775311200-1775316600@lgba.com
SUMMARY:Pizza with Benny the Bunny
DESCRIPTION: Benny the Bunny is back in town and is hosting a Pizza Party at Antonino’s! \nBring the kids in for a fun-filled day where they become little pizza chefs! \n create your own pizza  We bake it fresh for you\, and you eat it! Benny hopping around taking pictures Goodie bags for all the little ones \nSit back\, relax\, and let us take care of the fun (and the mess )\n Saturday\, April 4th 2pm-3:30pm\nReserve your spot today! ($29.95 per person)Cheese or pepperoni pizza Fountain drink & Benny’s favorite dessert! \nSpots will fill up\, don’t miss it!Call 708.579.9191 to reserve your seats!
URL:https://lgba.com/event/pizza-with-benny-the-bunny/
LOCATION:Antonino’s Ristorante\, 701 W. Hillgrove Avenue\, La Grange\, IL\, 60525\, United States
CATEGORIES:Dining,Holiday
ATTACH;FMTTYPE=image/jpeg:https://lgba.com/wp-content/uploads/654829627_1542718007369477_2594635369846052716_n.jpg
END:VEVENT
BEGIN:VEVENT
DTSTART;TZID=America/Chicago:20260405T090000
DTEND;TZID=America/Chicago:20260405T090000
DTSTAMP:20260423T135555
CREATED:20260309T155900Z
LAST-MODIFIED:20260309T155900Z
UID:10002676-1775379600-1775379600@lgba.com
SUMMARY:Easter Sunday Traditional Worship
DESCRIPTION:Celebrate the joy of resurrection morning. After the long journey through Lent’s wilderness\, come rejoice in new life\, hope\, and the promise of Easter.
URL:https://lgba.com/event/easter-sunday-traditional-worship/
LOCATION:Grace Lutheran Church of La Grange\, 200 N. Catherine Avenue\, La Grange\, IL\, 60525\, United States
CATEGORIES:Religious
ATTACH;FMTTYPE=image/jpeg:https://lgba.com/wp-content/uploads/gracelutheran.jpg
ORGANIZER;CN="Grace Lutheran Church of La Grange":MAILTO:administrator@gracelutheran-lg.org
END:VEVENT
BEGIN:VEVENT
DTSTART;TZID=America/Chicago:20260405T093000
DTEND;TZID=America/Chicago:20260405T093000
DTSTAMP:20260423T135555
CREATED:20260309T161152Z
LAST-MODIFIED:20260309T161152Z
UID:10002681-1775381400-1775381400@lgba.com
SUMMARY:Easter Sunday Worship
DESCRIPTION:Lunch to follow
URL:https://lgba.com/event/easter-sunday-worship/
LOCATION:Westminster Presbyterian Church (OPC)
CATEGORIES:Holiday,Religious
ATTACH;FMTTYPE=image/jpeg:https://lgba.com/wp-content/uploads/westerminstereaster.jpg
END:VEVENT
BEGIN:VEVENT
DTSTART;TZID=America/Chicago:20260405T094500
DTEND;TZID=America/Chicago:20260405T094500
DTSTAMP:20260423T135555
CREATED:20260402T174023Z
LAST-MODIFIED:20260402T174023Z
UID:10002827-1775382300-1775382300@lgba.com
SUMMARY:Easter Egg Hunt
DESCRIPTION:On Easter morning we will be worshipping in the sanctuary during both the 8:30 and 10:15 services. Between the two services\, (at 9:45) our kids will be outside for the annual Easter Egg hunt!
URL:https://lgba.com/event/easter-egg-hunt-2/
LOCATION:First United Methodist Church of La Grange\, 117 S. Ashland Avenue\, La Grange\, IL\, 60525\, United States
CATEGORIES:Holiday
ATTACH;FMTTYPE=image/jpeg:https://lgba.com/wp-content/uploads/img-6688_orig.jpeg
END:VEVENT
BEGIN:VEVENT
DTSTART;TZID=America/Chicago:20260405T100000
DTEND;TZID=America/Chicago:20260405T100000
DTSTAMP:20260423T135555
CREATED:20260402T174325Z
LAST-MODIFIED:20260402T174325Z
UID:10002828-1775383200-1775383200@lgba.com
SUMMARY:Easter Egg Hunt
DESCRIPTION:Please join us for one or more of our Holy Week services\, culminating in the festive Eucharist on Easter Morning at 10am with special flowers and music. No matter who you are\, you are welcome here! Here’s the full schedule: \nPalm Sunday (March 29th) – 8am and 10am\, with a bagpiper at the 10am!\nMaundy Thursday (April 2nd) – 7pm\, with optional foot-washing\nGood Friday (April 3rd) – 7pm\nEaster Vigil (April 4th) – 9pm\nEaster Morning (April 5th) – 8am and 10am\, with an Easter Egg Hunt after the 10am! \nPlease note that incense will be used at the Easter Vigil and 10am Easter Morning services only. We will livestream all services except those at 8am.
URL:https://lgba.com/event/easter-egg-hunt-3/
LOCATION:Emmanuel Episcopal Church\, 203 S. Kensington Avenue\, La Grange\, IL\, 60525\, United States
CATEGORIES:Holiday
ATTACH;FMTTYPE=image/jpeg:https://lgba.com/wp-content/uploads/emman.jpeg
ORGANIZER;CN="Emmanuel Episcopal Church":MAILTO:https://www.emmanuel-lagrange.org/
END:VEVENT
BEGIN:VEVENT
DTSTART;TZID=America/Chicago:20260405T100000
DTEND;TZID=America/Chicago:20260405T140000
DTSTAMP:20260423T135555
CREATED:20260402T172955Z
LAST-MODIFIED:20260402T172955Z
UID:10002826-1775383200-1775397600@lgba.com
SUMMARY:Easter Brunch
DESCRIPTION:This + Easter?!  feels like something the Easter Bunny would order for brunch.\n\n\nOur Easter brunch specials are here: Honeyfire Pork Belly Deviled Eggs + Carrot Blossom Fizz\n\n\nApril 4 & 5\, 10 AM to 2 PM\, both locations\n\n\nCome grab a table\, hang a little\, celebrate Easter with us!\n\n\nBook A Table   https://woodenpaddle.com/reservations/
URL:https://lgba.com/event/easter-brunch-2/
LOCATION:Wooden Paddle\, 23 Calendar Avenue\, La Grange\, IL\, 60525\, United States
CATEGORIES:Dining,Holiday
ATTACH;FMTTYPE=image/jpeg:https://lgba.com/wp-content/uploads/656294743_18576324625041980_6816510806521096978_n.jpg
END:VEVENT
BEGIN:VEVENT
DTSTART;TZID=America/Chicago:20260405T100000
DTEND;TZID=America/Chicago:20260405T140000
DTSTAMP:20260423T135555
CREATED:20260402T191012Z
LAST-MODIFIED:20260402T191012Z
UID:10002753-1775383200-1775397600@lgba.com
SUMMARY:Easter Special Brunch 🐰🍃🌸
DESCRIPTION:This + Easter?! 🐰🍃🐤🌸 feels like something the Easter Bunny would order for brunch. \nOur Easter brunch specials are here:\nHoneyfire Pork Belly Deviled Eggs + Carrot Blossom Fizz \nApril 4 & 5\, 10 AM to 2 PM\, both locations \nCome grab a table\, hang a little\, celebrate Easter with us
URL:https://lgba.com/event/easter-special-brunch-%f0%9f%90%b0%f0%9f%8d%83%f0%9f%8c%b8/2026-04-05/
LOCATION:Wooden Paddle\, 23 Calendar Avenue\, La Grange\, IL\, 60525\, United States
CATEGORIES:Dining,Holiday,Special Menu
ATTACH;FMTTYPE=image/png:https://lgba.com/wp-content/uploads/1-1.png
END:VEVENT
BEGIN:VEVENT
DTSTART;TZID=America/Chicago:20260405T100000
DTEND;TZID=America/Chicago:20260405T143000
DTSTAMP:20260423T135555
CREATED:20260402T141814Z
LAST-MODIFIED:20260402T141814Z
UID:10002824-1775383200-1775399400@lgba.com
SUMMARY:Easter Brunch
DESCRIPTION:Please join us for Easter brunch this Sunday April 5th from 10 a.m. til 2:30 p.m. We’ll be serving our regular full brunch menu plus these delicious specials! Be sure to hop on over and join us and please make reservations\, it’s filling up fast!
URL:https://lgba.com/event/easter-brunch/
LOCATION:Milkstop Cafe\, 700 W. Burlington Avenue\, La Grange\, IL\, 60525\, United States
CATEGORIES:Dining,Holiday
ATTACH;FMTTYPE=image/jpeg:https://lgba.com/wp-content/uploads/660066187_1583147110227196_7233838482096907362_n.jpg
END:VEVENT
BEGIN:VEVENT
DTSTART;TZID=America/Chicago:20260405T102000
DTEND;TZID=America/Chicago:20260405T102000
DTSTAMP:20260423T135555
CREATED:20260402T175008Z
LAST-MODIFIED:20260402T175008Z
UID:10002830-1775384400-1775384400@lgba.com
SUMMARY:Easter Egg Hunt
DESCRIPTION:Celebrate Easter with a joyful egg hunt made just for little ones! Children 3rd grade and under are invited to dash\, discover\, and delight in this colorful Easter tradition. Two opportunities are available—join the hunt at 10:20 AM or 12:00 PM\, following either worship service. Bring your basket and your biggest Easter smile—it’s going to be egg-stra special!
URL:https://lgba.com/event/easter-egg-hunt-5/2026-04-05/1/
LOCATION:Grace Lutheran Church of La Grange\, 200 N. Catherine Avenue\, La Grange\, IL\, 60525\, United States
CATEGORIES:Holiday
ATTACH;FMTTYPE=image/png:https://lgba.com/wp-content/uploads/easter_egg_hunt_4x5.png
ORGANIZER;CN="Grace Lutheran Church of La Grange":MAILTO:administrator@gracelutheran-lg.org
END:VEVENT
BEGIN:VEVENT
DTSTART;TZID=America/Chicago:20260405T110000
DTEND;TZID=America/Chicago:20260405T110000
DTSTAMP:20260423T135555
CREATED:20260330T142831Z
LAST-MODIFIED:20260330T142831Z
UID:10002755-1775386800-1775386800@lgba.com
SUMMARY:Easter Sunday Contemporary Worship
DESCRIPTION:Celebrate the joy of resurrection morning. After the long journey through Lent’s wilderness\, come rejoice in new life\, hope\, and the promise of Easter.
URL:https://lgba.com/event/easter-sunday-contemporary-worship/
LOCATION:Grace Lutheran Church of La Grange\, 200 N. Catherine Avenue\, La Grange\, IL\, 60525\, United States
CATEGORIES:Holiday,Religious
ATTACH;FMTTYPE=image/jpeg:https://lgba.com/wp-content/uploads/gracelutheran.jpg
ORGANIZER;CN="Grace Lutheran Church of La Grange":MAILTO:administrator@gracelutheran-lg.org
END:VEVENT
BEGIN:VEVENT
DTSTART;TZID=America/Chicago:20260405T110000
DTEND;TZID=America/Chicago:20260405T110000
DTSTAMP:20260423T135555
CREATED:20260402T174628Z
LAST-MODIFIED:20260402T174628Z
UID:10002829-1775386800-1775386800@lgba.com
SUMMARY:Easter Egg Hunt
DESCRIPTION:
URL:https://lgba.com/event/easter-egg-hunt-4/
LOCATION:First Presbyterian Church\, 150 S. Ashland Avenue\, La Grange\, IL\, 60525\, United States
CATEGORIES:Holiday
ATTACH;FMTTYPE=image/webp:https://lgba.com/wp-content/uploads/firstpres.webp
END:VEVENT
BEGIN:VEVENT
DTSTART;TZID=America/Chicago:20260405T110000
DTEND;TZID=America/Chicago:20260405T170000
DTSTAMP:20260423T135555
CREATED:20260402T142120Z
LAST-MODIFIED:20260402T142303Z
UID:10002825-1775386800-1775408400@lgba.com
SUMMARY:Easter Menu
DESCRIPTION:Kids under the age of 12 eat for free off the kids menu!\n#ᴇᴀsᴛᴇʀsᴜɴᴅᴀʏ #fourteensixteen #westsubrubs #eastermenu #finedining
URL:https://lgba.com/event/easter-menu/
LOCATION:fourteensixteen\, 14 W. Calendar Avenue\, La Grange\, IL\, 60525
CATEGORIES:Dining,Holiday
ATTACH;FMTTYPE=image/jpeg:https://lgba.com/wp-content/uploads/654238559_18442072402118875_8162736851595428820_n.jpg
END:VEVENT
BEGIN:VEVENT
DTSTART;TZID=America/Chicago:20260405T120000
DTEND;TZID=America/Chicago:20260405T120000
DTSTAMP:20260423T135555
CREATED:20260402T175008Z
LAST-MODIFIED:20260402T175008Z
UID:10002831-1775390400-1775390400@lgba.com
SUMMARY:Easter Egg Hunt
DESCRIPTION:Celebrate Easter with a joyful egg hunt made just for little ones! Children 3rd grade and under are invited to dash\, discover\, and delight in this colorful Easter tradition. Two opportunities are available—join the hunt at 10:20 AM or 12:00 PM\, following either worship service. Bring your basket and your biggest Easter smile—it’s going to be egg-stra special!
URL:https://lgba.com/event/easter-egg-hunt-5/2026-04-05/2/
LOCATION:Grace Lutheran Church of La Grange\, 200 N. Catherine Avenue\, La Grange\, IL\, 60525\, United States
CATEGORIES:Holiday
ATTACH;FMTTYPE=image/png:https://lgba.com/wp-content/uploads/easter_egg_hunt_4x5.png
ORGANIZER;CN="Grace Lutheran Church of La Grange":MAILTO:administrator@gracelutheran-lg.org
END:VEVENT
BEGIN:VEVENT
DTSTART;TZID=America/Chicago:20260406T190000
DTEND;TZID=America/Chicago:20260406T190000
DTSTAMP:20260423T135555
CREATED:20251117T152332Z
LAST-MODIFIED:20251117T152332Z
UID:10000419-1775502000-1775502000@lgba.com
SUMMARY:Bingo Mondays
DESCRIPTION:Bingo Mondays at the La Grange American Legion.  $15 for 10 games\, additional raffle games\, pull tabs.  Kitchen & Bar Open.  $10\,000 Progressive Jackpot.  Doors open 6pm\, Bingo at 7pm.   Open to the public. American Legion Post 1941\, 900 S. La Grange rd\, 60525  www.AL1941.org.
URL:https://lgba.com/event/bingo-mondays/2026-04-06/
LOCATION:American Legion Post 1941\, 900 S. La Grange Road\, La Grange\, IL\, 60525\, United States
CATEGORIES:Community,Fundraiser,Non-Profit
END:VEVENT
BEGIN:VEVENT
DTSTART;TZID=America/Chicago:20260407T130000
DTEND;TZID=America/Chicago:20260407T153000
DTSTAMP:20260423T135555
CREATED:20260331T153354Z
LAST-MODIFIED:20260331T153354Z
UID:10002764-1775566800-1775575800@lgba.com
SUMMARY:Learn to Love Watercolor 6-week Art Class (4/7 - 5/12)
DESCRIPTION:Dates: April  7\, 14\, 21\, 28\, May 5 & 12\nMember $150* | Non-Member $180\n*members need to log in on website for member discount \nMax Students: 15\nSKU#: PKPVLU36 \nReady to take your watercolor skills to the next level? This class is designed for intermediate and advanced artists looking to refine their technique and composition. Work from your own references while discovering the magic of a limited color palette to create luminous\, expressive paintings. Through value studies and a deeper understanding of the Principles and Elements of Art\, you’ll gain confidence in your creative choices. Let go of hesitation and immerse yourself in the beauty of watercolor!
URL:https://lgba.com/event/learn-to-love-watercolor-6-week-art-class-4-7-5-12/2026-04-07/
LOCATION:La Grange Art League\, 122 Calendar Drive\, La Grange\, IL\, 60525\, United States
ATTACH;FMTTYPE=image/webp:https://lgba.com/wp-content/uploads/PXL_20250722_215034833_3.webp
END:VEVENT
BEGIN:VEVENT
DTSTART;TZID=America/Chicago:20260407T193000
DTEND;TZID=America/Chicago:20260407T213000
DTSTAMP:20260423T135555
CREATED:20260319T004034Z
LAST-MODIFIED:20260319T004034Z
UID:10002691-1775590200-1775597400@lgba.com
SUMMARY:Spring Menu Party™ - A Private Tasting Event
DESCRIPTION:The best party in the ‘burbs is back for Round 12! Grab your group and make plans now — they’ll thank you later. \nThis time it’s our Spring Menu Party™: a private tasting where you get to enjoy Chef Juan’s brand new spring menu(six courses) before it’s released to the public. \nSo… oh my god… are you ✨better than everyone else?!✨ \nEvery party gets a theme\, and this time it’s Spring Festival 🌸🌿 Think colorful\, vibrant\, easy spring vibes. Dress up if you want… there might be a few prizes waiting. \nLimited tickets available ➡️ https://woodenpaddle.com/springmenuparty \nTickets: $69 per person \nDates: April 7\, Tuesday\, 7:30–9:30 PM
URL:https://lgba.com/event/spring-menu-party-a-private-tasting-event/
LOCATION:Wooden Paddle\, 23 Calendar Avenue\, La Grange\, IL\, 60525\, United States
CATEGORIES:Dining,Entertainment,Featured Event,Special Menu,Tasting
ATTACH;FMTTYPE=image/png:https://lgba.com/wp-content/uploads/menu-party.png
END:VEVENT
BEGIN:VEVENT
DTSTART;TZID=America/Chicago:20260408T183000
DTEND;TZID=America/Chicago:20260408T200000
DTSTAMP:20260423T135555
CREATED:20260407T191511Z
LAST-MODIFIED:20260407T191511Z
UID:10002840-1775673000-1775678400@lgba.com
SUMMARY:Guinness Ripple Event
DESCRIPTION:Join us for a special Ripple Event on April 8th from 6:30-8 PM during our regular trivia night! Unleash your inner trivia master while enjoying a customized Guinness with any photo of your choosing! Don’t miss out! \n\n\nReservations: www.bhsociallagrange.com\n#TriviaNight #RippleEffect #TriviaNightFun #RippleEvent #GuinnessLovers #TriviaTime #GuinnessRippleEvent #Guinness #GuinnessEvent #GuinnessTime #TriviaCommunity
URL:https://lgba.com/event/guinness-ripple-event/
LOCATION:Barrel House Social\, 100 W. Burlington\, La Grange\, IL\, 60525\, United States
CATEGORIES:Dining,Goblet Society
ATTACH;FMTTYPE=image/jpeg:https://lgba.com/wp-content/uploads/661053696_1758873108860437_4600271565277810521_n.jpg
END:VEVENT
BEGIN:VEVENT
DTSTART;TZID=America/Chicago:20260408T190000
DTEND;TZID=America/Chicago:20260408T210000
DTSTAMP:20260423T135555
CREATED:20260319T003945Z
LAST-MODIFIED:20260319T003945Z
UID:10002146-1775674800-1775682000@lgba.com
SUMMARY:Trivia Night
DESCRIPTION:Join us every Wednesday for trivia night! Reservations: www.bhsociallagrange.com
URL:https://lgba.com/event/trivia-night-3/2026-04-08/
LOCATION:Barrel House Social\, 100 W. Burlington\, La Grange\, IL\, 60525\, United States
CATEGORIES:Entertainment,Featured Event
ATTACH;FMTTYPE=image/png:https://lgba.com/wp-content/uploads/BHS-Trivia-Poster-.png
END:VEVENT
BEGIN:VEVENT
DTSTART;TZID=America/Chicago:20260409T080000
DTEND;TZID=America/Chicago:20260409T093000
DTSTAMP:20260423T135555
CREATED:20250903T180116Z
LAST-MODIFIED:20250903T180730Z
UID:10000110-1775721600-1775727000@lgba.com
SUMMARY:LGBA Member Meeting
DESCRIPTION:Join us at Palmer’s Place for our monthly Member Meeting.  The event starts off at 8:00am with networking\, followed by our meeting at 8:30am.  Members will get a chance to speak and let us know what’s going on with their business. \nIf the weather’s nice\, we’ll be on the back patio!  No meeting in December.
URL:https://lgba.com/event/lgba-member-meeting/2026-04-09/
LOCATION:Palmer Place Restaurant and Biergarten\, 56 S. La Grange Road\, La Grange\, IL\, 60525\, United States
CATEGORIES:LGBA Member Meeting,LGBA Members Only,Networking
ATTACH;FMTTYPE=image/png:https://lgba.com/wp-content/uploads/LBGA_Logo.png
END:VEVENT
BEGIN:VEVENT
DTSTART;TZID=America/Chicago:20260409T093000
DTEND;TZID=America/Chicago:20260409T103000
DTSTAMP:20260423T135555
CREATED:20260122T214845Z
LAST-MODIFIED:20260122T214845Z
UID:10001975-1775727000-1775730600@lgba.com
SUMMARY:Mindful Movement 1-Hour Session
DESCRIPTION:Feeling stressed? Ready to move your body and calm your mind?\n\n\n\n\nMindful Movement is a free program for adults 18+ years old of all fitness levels that brings together physical activity\, mental wellness\, and social connection through guided group sessions. \nWe’re offering multiple sessions in accessible spaces across Lyons Township—because wellness should be within everyone’s reach. \nMindful Movement is presented by OptWell and Lyons Township Mental Health Commission.
URL:https://lgba.com/event/mindful-movement-1-hour-session/2026-04-09/
LOCATION:First Congregational Church of Western Springs\, 1106 Chestnut Street\, Western Springs\, IL\, United States
CATEGORIES:Community,Get Active,Health & Wellness,Non-Profit
ATTACH;FMTTYPE=image/png:https://lgba.com/wp-content/uploads/first-cong.png
END:VEVENT
END:VCALENDAR