BEGIN:VCALENDAR
VERSION:2.0
PRODID:-//La Grange Business Association - ECPv6.15.20//NONSGML v1.0//EN
CALSCALE:GREGORIAN
METHOD:PUBLISH
X-WR-CALNAME:La Grange Business Association
X-ORIGINAL-URL:https://lgba.com
X-WR-CALDESC:Events for La Grange Business Association
REFRESH-INTERVAL;VALUE=DURATION:PT1H
X-Robots-Tag:noindex
X-PUBLISHED-TTL:PT1H
BEGIN:VTIMEZONE
TZID:America/Chicago
BEGIN:DAYLIGHT
TZOFFSETFROM:-0600
TZOFFSETTO:-0500
TZNAME:CDT
DTSTART:20250309T080000
END:DAYLIGHT
BEGIN:STANDARD
TZOFFSETFROM:-0500
TZOFFSETTO:-0600
TZNAME:CST
DTSTART:20251102T070000
END:STANDARD
BEGIN:DAYLIGHT
TZOFFSETFROM:-0600
TZOFFSETTO:-0500
TZNAME:CDT
DTSTART:20260308T080000
END:DAYLIGHT
BEGIN:STANDARD
TZOFFSETFROM:-0500
TZOFFSETTO:-0600
TZNAME:CST
DTSTART:20261101T070000
END:STANDARD
BEGIN:DAYLIGHT
TZOFFSETFROM:-0600
TZOFFSETTO:-0500
TZNAME:CDT
DTSTART:20270314T080000
END:DAYLIGHT
BEGIN:STANDARD
TZOFFSETFROM:-0500
TZOFFSETTO:-0600
TZNAME:CST
DTSTART:20271107T070000
END:STANDARD
END:VTIMEZONE
BEGIN:VEVENT
DTSTART;TZID=America/Chicago:20260425T090000
DTEND;TZID=America/Chicago:20260425T100000
DTSTAMP:20260423T134430
CREATED:20260122T215409Z
LAST-MODIFIED:20260122T215555Z
UID:10001997-1777107600-1777111200@lgba.com
SUMMARY:Mindful Movement:  1-Hour Session (Selected Saturday Mornings)
DESCRIPTION:Feeling stressed? Ready to move your body and calm your mind?\n\n\n\n\nMindful Movement is a free program for adults 18+ years old of all fitness levels that brings together physical activity\, mental wellness\, and social connection through guided group sessions. \nWe’re offering multiple sessions in accessible spaces across Lyons Township—because wellness should be within everyone’s reach. \nMindful Movement is presented by OptWell and Lyons Township Mental Health Commission. \nLyons Township Community Room \n6404 Joliet Road\, Countryside \nWhen: Saturday January 31 and April 25 | 9:00 – 10:00 AM \nSpecial Notes: \n\nAccessible for all – chairs provided upon request\nBring a yoga mat if you have one and a water bottle to stay hydrated
URL:https://lgba.com/event/mindful-movement-1-hour-session-selected-saturday-mornings/2026-04-25/
LOCATION:Lyons Township Community Room\, 6404 Joliet Road\, Countryside\, United States
CATEGORIES:Community,Educational,Get Active,Health & Wellness,Senior Living
ATTACH;FMTTYPE=image/png:https://lgba.com/wp-content/uploads/MM-Countryside-Oct-25_8122-1-1-scaled-e1766021720459-1024x837-1.png
END:VEVENT
END:VCALENDAR