BEGIN:VCALENDAR
VERSION:2.0
PRODID:-//La Grange Business Association - ECPv6.15.20//NONSGML v1.0//EN
CALSCALE:GREGORIAN
METHOD:PUBLISH
X-ORIGINAL-URL:https://lgba.com
X-WR-CALDESC:Events for La Grange Business Association
REFRESH-INTERVAL;VALUE=DURATION:PT1H
X-Robots-Tag:noindex
X-PUBLISHED-TTL:PT1H
BEGIN:VTIMEZONE
TZID:America/Chicago
BEGIN:DAYLIGHT
TZOFFSETFROM:-0600
TZOFFSETTO:-0500
TZNAME:CDT
DTSTART:20240310T080000
END:DAYLIGHT
BEGIN:STANDARD
TZOFFSETFROM:-0500
TZOFFSETTO:-0600
TZNAME:CST
DTSTART:20241103T070000
END:STANDARD
BEGIN:DAYLIGHT
TZOFFSETFROM:-0600
TZOFFSETTO:-0500
TZNAME:CDT
DTSTART:20250309T080000
END:DAYLIGHT
BEGIN:STANDARD
TZOFFSETFROM:-0500
TZOFFSETTO:-0600
TZNAME:CST
DTSTART:20251102T070000
END:STANDARD
BEGIN:DAYLIGHT
TZOFFSETFROM:-0600
TZOFFSETTO:-0500
TZNAME:CDT
DTSTART:20260308T080000
END:DAYLIGHT
BEGIN:STANDARD
TZOFFSETFROM:-0500
TZOFFSETTO:-0600
TZNAME:CST
DTSTART:20261101T070000
END:STANDARD
BEGIN:DAYLIGHT
TZOFFSETFROM:-0600
TZOFFSETTO:-0500
TZNAME:CDT
DTSTART:20270314T080000
END:DAYLIGHT
BEGIN:STANDARD
TZOFFSETFROM:-0500
TZOFFSETTO:-0600
TZNAME:CST
DTSTART:20271107T070000
END:STANDARD
END:VTIMEZONE
BEGIN:VEVENT
DTSTART;TZID=America/Chicago:20260422T123000
DTEND;TZID=America/Chicago:20260422T131500
DTSTAMP:20260423T134555
CREATED:20260122T215214Z
LAST-MODIFIED:20260122T215632Z
UID:10001986-1776861000-1776863700@lgba.com
SUMMARY:Mindful Movements:  45-minute sessions (4th Wednesdays of the Month)
DESCRIPTION:Feeling stressed? Ready to move your body and calm your mind?\n\n\n\n\nMindful Movement is a free program for adults 18+ years old of all fitness levels that brings together physical activity\, mental wellness\, and social connection through guided group sessions. \nWe’re offering multiple sessions in accessible spaces across Lyons Township—because wellness should be within everyone’s reach. \nMindful Movement is presented by OptWell and Lyons Township Mental Health Commission. \nLa Bella Events 5412 LaGrange Road\, Countryside\, IL \nWhen: 4th Wednesdays of month | 12:30 – 1:15 PM \nJanuary 28 – December 23\, 2026 \nSpecial Features: \n\nSessions conducted in both English & Spanish\nAccessible for all – can be done seated or standing\nNo floor work required\n\nBonus for Ages 60+: Sign up for the Congregate Meals Program and enjoy a $3 lunch from 11:30 AM – 1:30 PM! Call 708-603-2269 with 48-hour advance RSVP.
URL:https://lgba.com/event/mindful-movements-45-minute-sessions-4th-wednesdays-of-the-month/2026-04-22/
LOCATION:LaBella Events\, 5412 LaGrange Road\, Countryside\, IL\, United States
CATEGORIES:Community,Educational,Get Active,Health & Wellness,Non-Profit,Senior Living
ATTACH;FMTTYPE=image/jpeg:https://lgba.com/wp-content/uploads/MM-ACC-1024x768-1.jpg
END:VEVENT
BEGIN:VEVENT
DTSTART;TZID=America/Chicago:20260325T123000
DTEND;TZID=America/Chicago:20260325T131500
DTSTAMP:20260423T134555
CREATED:20260122T215214Z
LAST-MODIFIED:20260122T215632Z
UID:10001985-1774441800-1774444500@lgba.com
SUMMARY:Mindful Movements:  45-minute sessions (4th Wednesdays of the Month)
DESCRIPTION:Feeling stressed? Ready to move your body and calm your mind?\n\n\n\n\nMindful Movement is a free program for adults 18+ years old of all fitness levels that brings together physical activity\, mental wellness\, and social connection through guided group sessions. \nWe’re offering multiple sessions in accessible spaces across Lyons Township—because wellness should be within everyone’s reach. \nMindful Movement is presented by OptWell and Lyons Township Mental Health Commission. \nLa Bella Events 5412 LaGrange Road\, Countryside\, IL \nWhen: 4th Wednesdays of month | 12:30 – 1:15 PM \nJanuary 28 – December 23\, 2026 \nSpecial Features: \n\nSessions conducted in both English & Spanish\nAccessible for all – can be done seated or standing\nNo floor work required\n\nBonus for Ages 60+: Sign up for the Congregate Meals Program and enjoy a $3 lunch from 11:30 AM – 1:30 PM! Call 708-603-2269 with 48-hour advance RSVP.
URL:https://lgba.com/event/mindful-movements-45-minute-sessions-4th-wednesdays-of-the-month/2026-03-25/
LOCATION:LaBella Events\, 5412 LaGrange Road\, Countryside\, IL\, United States
CATEGORIES:Community,Educational,Get Active,Health & Wellness,Non-Profit,Senior Living
ATTACH;FMTTYPE=image/jpeg:https://lgba.com/wp-content/uploads/MM-ACC-1024x768-1.jpg
END:VEVENT
BEGIN:VEVENT
DTSTART;TZID=America/Chicago:20260313T120000
DTEND;TZID=America/Chicago:20260313T140000
DTSTAMP:20260423T134555
CREATED:20260216T203507Z
LAST-MODIFIED:20260216T203507Z
UID:10002018-1773403200-1773410400@lgba.com
SUMMARY:St. Patrick's Day Social
DESCRIPTION:Why come to our Senior Social? \n\n\nIt’s the perfect way to get out\, connect\, and have some fun! Meet new friends\, play bingo\, win prizes\, and enjoy a delicious lunch from a local restaurant. \n\n\nGreat company\, great food\, and a great time! We’d love to see you there! https://bit.ly/4avLj0Z\n\n\n\nJoin us for a celebration filled with the “Luck of the Irish” as we gather for our annual St. Patrick’s Day Social! Put on your finest green attire and enjoy an afternoon of cheerful fun\, friendship and festive Irish flair.
URL:https://lgba.com/event/st-patricks-day-social/
LOCATION:Recreation Center\, 536 East Avenue\, La Grange\, IL\, 60525\, United States
CATEGORIES:Holiday,Non-Profit,Senior Living
ATTACH;FMTTYPE=image/jpeg:https://lgba.com/wp-content/uploads/stpatricksday.jpg
END:VEVENT
BEGIN:VEVENT
DTSTART;TZID=America/Chicago:20260311T140000
DTEND;TZID=America/Chicago:20260311T150000
DTSTAMP:20260423T134555
CREATED:20260309T161425Z
LAST-MODIFIED:20260309T161425Z
UID:10002682-1773237600-1773241200@lgba.com
SUMMARY:Qi Gong Exercise
DESCRIPTION:
URL:https://lgba.com/event/qi-gong-exercise/
LOCATION:Aging Care Connections\, 111 W. Harris Avenue\, La Grange\, IL\, 60525
CATEGORIES:Get Active,Senior Living
ATTACH;FMTTYPE=image/jpeg:https://lgba.com/wp-content/uploads/qigong.jpg
END:VEVENT
BEGIN:VEVENT
DTSTART;TZID=America/Chicago:20260311T113000
DTEND;TZID=America/Chicago:20260311T113000
DTSTAMP:20260423T134555
CREATED:20260309T161630Z
LAST-MODIFIED:20260309T161630Z
UID:10002683-1773228600-1773228600@lgba.com
SUMMARY:Lunch\, Finance Presentation\, and iCash
DESCRIPTION:Enjoy a delicious lunch while learning about financial institutions\, types of bank accounts\, and how to protect and insure your money.
URL:https://lgba.com/event/lunch-finance-presentation-and-icash/
LOCATION:La Bella Events\, 5412 La Grange Road\, Countryside\, IL\, United States
CATEGORIES:Educational,Senior Living
ATTACH;FMTTYPE=image/jpeg:https://lgba.com/wp-content/uploads/aging-lunch.jpg
END:VEVENT
BEGIN:VEVENT
DTSTART;TZID=America/Chicago:20260225T123000
DTEND;TZID=America/Chicago:20260225T131500
DTSTAMP:20260423T134555
CREATED:20260122T215214Z
LAST-MODIFIED:20260122T215632Z
UID:10001984-1772022600-1772025300@lgba.com
SUMMARY:Mindful Movements:  45-minute sessions (4th Wednesdays of the Month)
DESCRIPTION:Feeling stressed? Ready to move your body and calm your mind?\n\n\n\n\nMindful Movement is a free program for adults 18+ years old of all fitness levels that brings together physical activity\, mental wellness\, and social connection through guided group sessions. \nWe’re offering multiple sessions in accessible spaces across Lyons Township—because wellness should be within everyone’s reach. \nMindful Movement is presented by OptWell and Lyons Township Mental Health Commission. \nLa Bella Events 5412 LaGrange Road\, Countryside\, IL \nWhen: 4th Wednesdays of month | 12:30 – 1:15 PM \nJanuary 28 – December 23\, 2026 \nSpecial Features: \n\nSessions conducted in both English & Spanish\nAccessible for all – can be done seated or standing\nNo floor work required\n\nBonus for Ages 60+: Sign up for the Congregate Meals Program and enjoy a $3 lunch from 11:30 AM – 1:30 PM! Call 708-603-2269 with 48-hour advance RSVP.
URL:https://lgba.com/event/mindful-movements-45-minute-sessions-4th-wednesdays-of-the-month/2026-02-25/
LOCATION:LaBella Events\, 5412 LaGrange Road\, Countryside\, IL\, United States
CATEGORIES:Community,Educational,Get Active,Health & Wellness,Non-Profit,Senior Living
ATTACH;FMTTYPE=image/jpeg:https://lgba.com/wp-content/uploads/MM-ACC-1024x768-1.jpg
END:VEVENT
BEGIN:VEVENT
DTSTART;TZID=America/Chicago:20260213T120000
DTEND;TZID=America/Chicago:20260213T140000
DTSTAMP:20260423T134555
CREATED:20260209T161045Z
LAST-MODIFIED:20260209T161045Z
UID:10002009-1770984000-1770991200@lgba.com
SUMMARY:Mardi Gras Senior Social
DESCRIPTION:Mardi Gras Senior Social! \n\n\nJoin us for a fun-filled Mardi Gras celebration! Enjoy a delicious meal\, exciting bingo\, and great company! All in the spirit of the season.\n\n\nDon’t miss out on this fantastic opportunity for food\, fun\, and friends!
URL:https://lgba.com/event/mardi-gras-senior-social/
LOCATION:Recreation Center\, 536 East Avenue\, La Grange\, IL\, 60525\, United States
CATEGORIES:Community,Senior Living
ATTACH;FMTTYPE=image/jpeg:https://lgba.com/wp-content/uploads/626878999_1356582516273841_8283180007718348484_n.jpg
END:VEVENT
BEGIN:VEVENT
DTSTART;TZID=America/Chicago:20260131T090000
DTEND;TZID=America/Chicago:20260131T100000
DTSTAMP:20260423T134555
CREATED:20260122T215409Z
LAST-MODIFIED:20260122T215555Z
UID:10001996-1769850000-1769853600@lgba.com
SUMMARY:Mindful Movement:  1-Hour Session (Selected Saturday Mornings)
DESCRIPTION:Feeling stressed? Ready to move your body and calm your mind?\n\n\n\n\nMindful Movement is a free program for adults 18+ years old of all fitness levels that brings together physical activity\, mental wellness\, and social connection through guided group sessions. \nWe’re offering multiple sessions in accessible spaces across Lyons Township—because wellness should be within everyone’s reach. \nMindful Movement is presented by OptWell and Lyons Township Mental Health Commission. \nLyons Township Community Room \n6404 Joliet Road\, Countryside \nWhen: Saturday January 31 and April 25 | 9:00 – 10:00 AM \nSpecial Notes: \n\nAccessible for all – chairs provided upon request\nBring a yoga mat if you have one and a water bottle to stay hydrated
URL:https://lgba.com/event/mindful-movement-1-hour-session-selected-saturday-mornings/2026-01-31/
LOCATION:Lyons Township Community Room\, 6404 Joliet Road\, Countryside\, United States
CATEGORIES:Community,Educational,Get Active,Health & Wellness,Senior Living
ATTACH;FMTTYPE=image/png:https://lgba.com/wp-content/uploads/MM-Countryside-Oct-25_8122-1-1-scaled-e1766021720459-1024x837-1.png
END:VEVENT
BEGIN:VEVENT
DTSTART;TZID=America/Chicago:20260128T123000
DTEND;TZID=America/Chicago:20260128T131500
DTSTAMP:20260423T134555
CREATED:20260122T215214Z
LAST-MODIFIED:20260122T215632Z
UID:10001983-1769603400-1769606100@lgba.com
SUMMARY:Mindful Movements:  45-minute sessions (4th Wednesdays of the Month)
DESCRIPTION:Feeling stressed? Ready to move your body and calm your mind?\n\n\n\n\nMindful Movement is a free program for adults 18+ years old of all fitness levels that brings together physical activity\, mental wellness\, and social connection through guided group sessions. \nWe’re offering multiple sessions in accessible spaces across Lyons Township—because wellness should be within everyone’s reach. \nMindful Movement is presented by OptWell and Lyons Township Mental Health Commission. \nLa Bella Events 5412 LaGrange Road\, Countryside\, IL \nWhen: 4th Wednesdays of month | 12:30 – 1:15 PM \nJanuary 28 – December 23\, 2026 \nSpecial Features: \n\nSessions conducted in both English & Spanish\nAccessible for all – can be done seated or standing\nNo floor work required\n\nBonus for Ages 60+: Sign up for the Congregate Meals Program and enjoy a $3 lunch from 11:30 AM – 1:30 PM! Call 708-603-2269 with 48-hour advance RSVP.
URL:https://lgba.com/event/mindful-movements-45-minute-sessions-4th-wednesdays-of-the-month/2026-01-28/
LOCATION:LaBella Events\, 5412 LaGrange Road\, Countryside\, IL\, United States
CATEGORIES:Community,Educational,Get Active,Health & Wellness,Non-Profit,Senior Living
ATTACH;FMTTYPE=image/jpeg:https://lgba.com/wp-content/uploads/MM-ACC-1024x768-1.jpg
END:VEVENT
BEGIN:VEVENT
DTSTART;TZID=America/Chicago:20260126T130000
DTEND;TZID=America/Chicago:20260126T130000
DTSTAMP:20260423T134555
CREATED:20260114T171328Z
LAST-MODIFIED:20260114T171328Z
UID:10001889-1769432400-1769432400@lgba.com
SUMMARY:Find Your Balance:  Nourish and Strengthen Your Body
DESCRIPTION:Blending fitness and flavor \n\nYou’re invited to Bethlehem Woods Village to engage in stability exercises with instructor\, Mary Avila\, while enjoying delicious smoothies that energize and nourish your body. \n\nEach session is crafted to inspire and empower you to take charge of your health. Take this opportunity to learn\, grow and thrive all within a supportive community setting. Get ready to transform your lifestyle and ﬁnd the perfect balance in life and wellness. \n\nMonday\, January 26\, 2026 — Heart healthyMonday\, February 23\, 2026 — Go green with meMonday\, March 23\, 2026 — Spring citrus glow \n\nCall 708-832-6165 to RSVP or learn more today!
URL:https://lgba.com/event/find-your-balance-nourish-and-strengthen-your-body/
LOCATION:Ascension Living Bethlehem Woods Village\, 1571 Ogden Avenue\, La Grange Park\, IL\, 60526\, United States
CATEGORIES:Get Active,Health & Wellness,Senior Living
ATTACH;FMTTYPE=image/jpeg:https://lgba.com/wp-content/uploads/ascension.jpg
END:VEVENT
BEGIN:VEVENT
DTSTART;TZID=America/Chicago:20251212T133000
DTEND;TZID=America/Chicago:20251212T133000
DTSTAMP:20260423T134555
CREATED:20251210T181524Z
LAST-MODIFIED:20251210T181524Z
UID:10001827-1765546200-1765546200@lgba.com
SUMMARY:Sweet Holiday Sips:  Chocolate\, wine\, and more!
DESCRIPTION:Discover the joys of community living this holiday season\nExperience the enchantment of the holiday season at Bethlehem Woods Village! Dive into the festive lights and sounds of our beautiful campus. Enjoy a presentation by McKenzie Shaw and Jayne Miller\, highlighting the benefits of community living.\nEvent highlights:\n• Engaging presentation: Discover the advantages of community living and how it can enhance your lifestyle beyond the holiday season.\n• Happy hour: Stay after the presentation to mingle and enjoy good company during our residents’ happy hour.\n• Gourmet delights: Indulge in a variety of decadent chocolates\, delectable wines\, and delicious appetizers.\nCelebrate the season with us in a warm and inviting atmosphere. Don’t miss out on this delightful culinary and community experience!\nCall 708-832-6165 to RSVP or learn more today!
URL:https://lgba.com/event/sweet-holiday-sips-chocolate-wine-and-more/
LOCATION:Ascension Living Bethlehem Woods Village\, 1571 Ogden Avenue\, La Grange Park\, IL\, 60526\, United States
CATEGORIES:Community,Health & Wellness,Senior Living
ATTACH;FMTTYPE=image/jpeg:https://lgba.com/wp-content/uploads/chocolate.jpg
END:VEVENT
BEGIN:VEVENT
DTSTART;TZID=America/Chicago:20251111T110000
DTEND;TZID=America/Chicago:20251111T110000
DTSTAMP:20260423T134555
CREATED:20251110T211036Z
LAST-MODIFIED:20251110T211102Z
UID:10000372-1762858800-1762858800@lgba.com
SUMMARY:Discover Your Ideal Senior Living Experience
DESCRIPTION:Exclusive lunch and learn with Gina Knight\nJoin us for this exclusive opportunity to explore your senior living options and make informed decisions about your future.\nWhat to expect:\n• “Should I Stay or Should I Go?” presentation by Gina Knight\, President\, Kastle Keeper: Learn about the benefits of senior living communities\, uncover the secrets to safely age in place\, and understand why it’s never too soon to consider a move.\n• “Finding the Right Fit” presentation by McKenzie Shawn and Jayne Miller: Explore a range of senior living options and find the best fit for you with expert guidance from the Bethlehem Woods Village team.\n• Interactive session: Join engaging discussions and enjoy a complimentary lunch.\nWe look forward to welcoming you to this enlightening and supportive event!\nCall 708-832-6165 to RSVP or learn more today!
URL:https://lgba.com/event/discover-your-ideal-senior-living-experience/
LOCATION:Ascension Living Bethlehem Woods Village\, 1571 Ogden Avenue\, La Grange Park\, IL\, 60526\, United States
CATEGORIES:Community,Educational,Health & Wellness,Senior Living
ATTACH;FMTTYPE=image/jpeg:https://lgba.com/wp-content/uploads/ascensi.jpg
END:VEVENT
BEGIN:VEVENT
DTSTART;TZID=America/Chicago:20251009T130000
DTEND;TZID=America/Chicago:20251009T130000
DTSTAMP:20260423T134555
CREATED:20251008T013123Z
LAST-MODIFIED:20251008T013123Z
UID:10000281-1760014800-1760014800@lgba.com
SUMMARY:Understanding Local Senior Living Options
DESCRIPTION:An introduction to independent and assisted living\, as well as care options available at Cantata Adult Life Services located in Brookfield. Refreshments will be provided. Please register at http://bit.ly/4mJ2pfP
URL:https://lgba.com/event/understanding-local-senior-living-options/
LOCATION:La Grange Public Library\, 10 W. Cossitt\, La Grange\, IL\, 60525\, United States
CATEGORIES:Educational,Health & Wellness,Senior Living
ATTACH;FMTTYPE=image/jpeg:https://lgba.com/wp-content/uploads/living-senior.jpg
END:VEVENT
END:VCALENDAR