BEGIN:VCALENDAR
VERSION:2.0
PRODID:-//La Grange Business Association - ECPv6.15.20//NONSGML v1.0//EN
CALSCALE:GREGORIAN
METHOD:PUBLISH
X-WR-CALNAME:La Grange Business Association
X-ORIGINAL-URL:https://lgba.com
X-WR-CALDESC:Events for La Grange Business Association
REFRESH-INTERVAL;VALUE=DURATION:PT1H
X-Robots-Tag:noindex
X-PUBLISHED-TTL:PT1H
BEGIN:VTIMEZONE
TZID:America/Chicago
BEGIN:DAYLIGHT
TZOFFSETFROM:-0600
TZOFFSETTO:-0500
TZNAME:CDT
DTSTART:20250309T080000
END:DAYLIGHT
BEGIN:STANDARD
TZOFFSETFROM:-0500
TZOFFSETTO:-0600
TZNAME:CST
DTSTART:20251102T070000
END:STANDARD
BEGIN:DAYLIGHT
TZOFFSETFROM:-0600
TZOFFSETTO:-0500
TZNAME:CDT
DTSTART:20260308T080000
END:DAYLIGHT
BEGIN:STANDARD
TZOFFSETFROM:-0500
TZOFFSETTO:-0600
TZNAME:CST
DTSTART:20261101T070000
END:STANDARD
BEGIN:DAYLIGHT
TZOFFSETFROM:-0600
TZOFFSETTO:-0500
TZNAME:CDT
DTSTART:20270314T080000
END:DAYLIGHT
BEGIN:STANDARD
TZOFFSETFROM:-0500
TZOFFSETTO:-0600
TZNAME:CST
DTSTART:20271107T070000
END:STANDARD
END:VTIMEZONE
BEGIN:VEVENT
DTSTART;TZID=America/Chicago:20260519T173000
DTEND;TZID=America/Chicago:20260519T173000
DTSTAMP:20260423T152502
CREATED:20260312T153213Z
LAST-MODIFIED:20260312T153242Z
UID:10002697-1779211800-1779211800@lgba.com
SUMMARY:Les Misérables dinner + theater
DESCRIPTION:Call or visit Marco’s Kitchen to purchase tickets: 708-603-2129. \nDETAILS: \nJoin us for a four-course dinner at 4 pm. At 5:30\, you’ll board the Champagne Shuttle to the Cadillac Palace Theater where you’ll be ushered to your excellent seats for the 7 pm performance of the world-famous Les Misérables.  After the show\, board the Chocolate Express Motor Coach for our return to beautiful La Grange. \nTHE FEE: \n$360 per person – 16 and over please \nIncludes four-course dinner\, sales tax\, & gratuity. RT Luxury Motor Coach transportation\, excellent orchestra-level show tickets.
URL:https://lgba.com/event/les-miserables-dinner-theater/
LOCATION:Marco’s Kitchen\, 26 S. La Grange Road\, La Grange\, IL\, 60525\, United States
CATEGORIES:Dining,Entertainment,On Stage
ATTACH;FMTTYPE=image/png:https://lgba.com/wp-content/uploads/Screen-Shot-2026-03-12-at-10.32.39-AM.png
END:VEVENT
END:VCALENDAR