BEGIN:VCALENDAR
VERSION:2.0
PRODID:-//La Grange Business Association - ECPv6.15.20//NONSGML v1.0//EN
CALSCALE:GREGORIAN
METHOD:PUBLISH
X-WR-CALNAME:La Grange Business Association
X-ORIGINAL-URL:https://lgba.com
X-WR-CALDESC:Events for La Grange Business Association
REFRESH-INTERVAL;VALUE=DURATION:PT1H
X-Robots-Tag:noindex
X-PUBLISHED-TTL:PT1H
BEGIN:VTIMEZONE
TZID:America/Chicago
BEGIN:DAYLIGHT
TZOFFSETFROM:-0600
TZOFFSETTO:-0500
TZNAME:CDT
DTSTART:20250309T080000
END:DAYLIGHT
BEGIN:STANDARD
TZOFFSETFROM:-0500
TZOFFSETTO:-0600
TZNAME:CST
DTSTART:20251102T070000
END:STANDARD
BEGIN:DAYLIGHT
TZOFFSETFROM:-0600
TZOFFSETTO:-0500
TZNAME:CDT
DTSTART:20260308T080000
END:DAYLIGHT
BEGIN:STANDARD
TZOFFSETFROM:-0500
TZOFFSETTO:-0600
TZNAME:CST
DTSTART:20261101T070000
END:STANDARD
BEGIN:DAYLIGHT
TZOFFSETFROM:-0600
TZOFFSETTO:-0500
TZNAME:CDT
DTSTART:20270314T080000
END:DAYLIGHT
BEGIN:STANDARD
TZOFFSETFROM:-0500
TZOFFSETTO:-0600
TZNAME:CST
DTSTART:20271107T070000
END:STANDARD
END:VTIMEZONE
BEGIN:VEVENT
DTSTART;TZID=America/Chicago:20260501T100000
DTEND;TZID=America/Chicago:20260501T113000
DTSTAMP:20260423T152728
CREATED:20260408T190441Z
LAST-MODIFIED:20260408T190648Z
UID:10002844-1777629600-1777635000@lgba.com
SUMMARY:Consistency That Actually Sticks - Workshop
DESCRIPTION:We’re doing something different on May 1. \nA working session — not a lecture.  Three of us (social\, branding\, strategy) in a room with 10 people max\, walking through the exact frameworks we use with clients and helping you apply them to YOUR business. Live. In the room. \nYou’ll leave with:\n✔ Your brand voice defined\n✔ A content strategy mapped to your goals\n✔ 2–4 weeks of content ready to execute\n✔ digital resource kit \nEarly bird is $111. Limited spots.\nVIP Upgrades\nFriday\, May 1 · La Grange IL\n10 seats per session · Two sessions available \nGet your tickets online at https://stan.store/Thesleevedchick/p/consistency-that-actually-sticks. \n#consistencythatactuallysticks #lagrangeil\n#chicagocontentcreator #smallbusinessowner\n#brandstrategy #contentmarketing\n#chicagobusiness #westernsuburbs
URL:https://lgba.com/event/consistency-that-actually-sticks-workshop/2026-05-01/1/
LOCATION:Calbay Content Studio\, 82 S. La Grange Rd (Suite 201)\, La Grange\, IL\, 60525\, United States
CATEGORIES:Business Education
ATTACH;FMTTYPE=image/jpeg:https://lgba.com/wp-content/uploads/350A047A-FBD1-4FAA-B0A8-EF4FE0AADF0C.jpeg
END:VEVENT
BEGIN:VEVENT
DTSTART;TZID=America/Chicago:20260501T130000
DTEND;TZID=America/Chicago:20260501T143000
DTSTAMP:20260423T152728
CREATED:20260408T190441Z
LAST-MODIFIED:20260408T190648Z
UID:10002845-1777640400-1777645800@lgba.com
SUMMARY:Consistency That Actually Sticks - Workshop
DESCRIPTION:We’re doing something different on May 1. \nA working session — not a lecture.  Three of us (social\, branding\, strategy) in a room with 10 people max\, walking through the exact frameworks we use with clients and helping you apply them to YOUR business. Live. In the room. \nYou’ll leave with:\n✔ Your brand voice defined\n✔ A content strategy mapped to your goals\n✔ 2–4 weeks of content ready to execute\n✔ digital resource kit \nEarly bird is $111. Limited spots.\nVIP Upgrades\nFriday\, May 1 · La Grange IL\n10 seats per session · Two sessions available \nGet your tickets online at https://stan.store/Thesleevedchick/p/consistency-that-actually-sticks. \n#consistencythatactuallysticks #lagrangeil\n#chicagocontentcreator #smallbusinessowner\n#brandstrategy #contentmarketing\n#chicagobusiness #westernsuburbs
URL:https://lgba.com/event/consistency-that-actually-sticks-workshop/2026-05-01/2/
LOCATION:Calbay Content Studio\, 82 S. La Grange Rd (Suite 201)\, La Grange\, IL\, 60525\, United States
CATEGORIES:Business Education
ATTACH;FMTTYPE=image/jpeg:https://lgba.com/wp-content/uploads/350A047A-FBD1-4FAA-B0A8-EF4FE0AADF0C.jpeg
END:VEVENT
END:VCALENDAR