BEGIN:VCALENDAR
VERSION:2.0
PRODID:-//La Grange Business Association - ECPv6.15.20//NONSGML v1.0//EN
CALSCALE:GREGORIAN
METHOD:PUBLISH
X-ORIGINAL-URL:https://lgba.com
X-WR-CALDESC:Events for La Grange Business Association
REFRESH-INTERVAL;VALUE=DURATION:PT1H
X-Robots-Tag:noindex
X-PUBLISHED-TTL:PT1H
BEGIN:VTIMEZONE
TZID:America/Chicago
BEGIN:DAYLIGHT
TZOFFSETFROM:-0600
TZOFFSETTO:-0500
TZNAME:CDT
DTSTART:20250309T080000
END:DAYLIGHT
BEGIN:STANDARD
TZOFFSETFROM:-0500
TZOFFSETTO:-0600
TZNAME:CST
DTSTART:20251102T070000
END:STANDARD
BEGIN:DAYLIGHT
TZOFFSETFROM:-0600
TZOFFSETTO:-0500
TZNAME:CDT
DTSTART:20260308T080000
END:DAYLIGHT
BEGIN:STANDARD
TZOFFSETFROM:-0500
TZOFFSETTO:-0600
TZNAME:CST
DTSTART:20261101T070000
END:STANDARD
BEGIN:DAYLIGHT
TZOFFSETFROM:-0600
TZOFFSETTO:-0500
TZNAME:CDT
DTSTART:20270314T080000
END:DAYLIGHT
BEGIN:STANDARD
TZOFFSETFROM:-0500
TZOFFSETTO:-0600
TZNAME:CST
DTSTART:20271107T070000
END:STANDARD
END:VTIMEZONE
BEGIN:VEVENT
DTSTART;TZID=America/Chicago:20260528T070000
DTEND;TZID=America/Chicago:20260528T130000
DTSTAMP:20260423T135345
CREATED:20260112T210253Z
LAST-MODIFIED:20260112T224210Z
UID:10001851-1779951600-1779973200@lgba.com
SUMMARY:La Grange Farmers Market
DESCRIPTION:From farm-fresh produce to local favorites\, Thursdays in Downtown La Grange are all about great flavors\, friendly faces\, and community connection. Join us May 21 through October 29\, and make the market part of your weekly tradition. \n\nFind out more by visiting https://lgba.com/la-grange-farmers-market/.
URL:https://lgba.com/event/15965/2026-05-28/
LOCATION:La Grange Village Hall\, 53 La Grange Road\, La Grange\, IL\, 60525\, United States
CATEGORIES:Farmers Market,Featured Event,Health & Wellness
ATTACH;FMTTYPE=image/jpeg:https://lgba.com/wp-content/uploads/Farmers-Market-La-Grange.jpg
END:VEVENT
BEGIN:VEVENT
DTSTART;TZID=America/Chicago:20260528T093000
DTEND;TZID=America/Chicago:20260528T103000
DTSTAMP:20260423T135345
CREATED:20260122T214845Z
LAST-MODIFIED:20260122T214845Z
UID:10001982-1779960600-1779964200@lgba.com
SUMMARY:Mindful Movement 1-Hour Session
DESCRIPTION:Feeling stressed? Ready to move your body and calm your mind?\n\n\n\n\nMindful Movement is a free program for adults 18+ years old of all fitness levels that brings together physical activity\, mental wellness\, and social connection through guided group sessions. \nWe’re offering multiple sessions in accessible spaces across Lyons Township—because wellness should be within everyone’s reach. \nMindful Movement is presented by OptWell and Lyons Township Mental Health Commission.
URL:https://lgba.com/event/mindful-movement-1-hour-session/2026-05-28/
LOCATION:First Congregational Church of Western Springs\, 1106 Chestnut Street\, Western Springs\, IL\, United States
CATEGORIES:Community,Get Active,Health & Wellness,Non-Profit
ATTACH;FMTTYPE=image/png:https://lgba.com/wp-content/uploads/first-cong.png
END:VEVENT
BEGIN:VEVENT
DTSTART;TZID=America/Chicago:20260528T180000
DTEND;TZID=America/Chicago:20260528T210000
DTSTAMP:20260423T135345
CREATED:20260323T150351Z
LAST-MODIFIED:20260323T150810Z
UID:10002740-1779991200-1780002000@lgba.com
SUMMARY:Live Music by Kristi Alsip
DESCRIPTION:I’ve always gravitated toward acoustic performance…raw versions of tunes we all know\, as well as hidden gems that we haven’t heard in ages.  I play stripped-down covers from Fleetwood Mac\, Pat Benatar\, The Cranberries\, Lady Gaga\, Maroon 5\, Oasis\, Amy Winehouse\, and more.
URL:https://lgba.com/event/live-music-by-kristi-alsip/2026-05-28/
LOCATION:Milk Money Brewing\, 75 LaGrange Rd\, La Grange\, IL\, 60525\, United States
CATEGORIES:Entertainment,Goblet Society,Live Music
ATTACH;FMTTYPE=image/avif:https://lgba.com/wp-content/uploads/1000064301_edited.avif
END:VEVENT
END:VCALENDAR