BEGIN:VCALENDAR
VERSION:2.0
PRODID:-//La Grange Business Association - ECPv6.15.20//NONSGML v1.0//EN
CALSCALE:GREGORIAN
METHOD:PUBLISH
X-WR-CALNAME:La Grange Business Association
X-ORIGINAL-URL:https://lgba.com
X-WR-CALDESC:Events for La Grange Business Association
REFRESH-INTERVAL;VALUE=DURATION:PT1H
X-Robots-Tag:noindex
X-PUBLISHED-TTL:PT1H
BEGIN:VTIMEZONE
TZID:America/Chicago
BEGIN:DAYLIGHT
TZOFFSETFROM:-0600
TZOFFSETTO:-0500
TZNAME:CDT
DTSTART:20250309T080000
END:DAYLIGHT
BEGIN:STANDARD
TZOFFSETFROM:-0500
TZOFFSETTO:-0600
TZNAME:CST
DTSTART:20251102T070000
END:STANDARD
BEGIN:DAYLIGHT
TZOFFSETFROM:-0600
TZOFFSETTO:-0500
TZNAME:CDT
DTSTART:20260308T080000
END:DAYLIGHT
BEGIN:STANDARD
TZOFFSETFROM:-0500
TZOFFSETTO:-0600
TZNAME:CST
DTSTART:20261101T070000
END:STANDARD
BEGIN:DAYLIGHT
TZOFFSETFROM:-0600
TZOFFSETTO:-0500
TZNAME:CDT
DTSTART:20270314T080000
END:DAYLIGHT
BEGIN:STANDARD
TZOFFSETFROM:-0500
TZOFFSETTO:-0600
TZNAME:CST
DTSTART:20271107T070000
END:STANDARD
END:VTIMEZONE
BEGIN:VEVENT
DTSTART;TZID=America/Chicago:20260419T080000
DTEND;TZID=America/Chicago:20260419T080000
DTSTAMP:20260423T152510
CREATED:20260302T200507Z
LAST-MODIFIED:20260330T144259Z
UID:10002139-1776585600-1776585600@lgba.com
SUMMARY:Run for 102 - 1M Fun Run & 5K
DESCRIPTION:Join us SUNDAY\, APRIL 19 at 8 AM for La Grange School District 102’s annual Race to the Finish 5K and 1 Mile Run/Walk taking place at Ogden Avenue School.\nVisit www.runfor102.org to register!
URL:https://lgba.com/event/run-for-102-1m-fun-run-5k/
LOCATION:Ogden Avenue Elementary School\, 501 Ogden Avenue\, La Grange\, IL\, United States
CATEGORIES:Get Active
ATTACH;FMTTYPE=image/jpeg:https://lgba.com/wp-content/uploads/runfor-102.jpg
END:VEVENT
BEGIN:VEVENT
DTSTART;TZID=America/Chicago:20260419T143000
DTEND;TZID=America/Chicago:20260419T143000
DTSTAMP:20260423T152510
CREATED:20260330T144427Z
LAST-MODIFIED:20260330T144427Z
UID:10002760-1776609000-1776609000@lgba.com
SUMMARY:Healthy Feet\, Ankles\, and Knees
DESCRIPTION:Build a stronger foundation from the ground up with Nicki.\n\nThis 90-minute workshop combines education and movement to improve mobility\, strength\, and alignment in your feet\, ankles\, and knees. You’ll gain a deeper understanding of how these areas work together to support balance\, stability\, and overall movement.\n\nBring your questions and curiosity\, and get ready to move better.\n\nSunday\, April 19th | 2:30 PMMembers: $45 | Non-Members: $55
URL:https://lgba.com/event/healthy-feet-ankles-and-knees/
LOCATION:Club Pilates\, 18 W. Burlington Ave. - First Floor\, La Grange\, 60525
CATEGORIES:Get Active,Health & Wellness
ATTACH;FMTTYPE=image/jpeg:https://lgba.com/wp-content/uploads/club-pilates-1.jpg
ORGANIZER;CN="Club Pilates":MAILTO:cpy6marketing@gmail.com
END:VEVENT
END:VCALENDAR