BEGIN:VCALENDAR
VERSION:2.0
PRODID:-//La Grange Business Association - ECPv6.15.20//NONSGML v1.0//EN
CALSCALE:GREGORIAN
METHOD:PUBLISH
X-WR-CALNAME:La Grange Business Association
X-ORIGINAL-URL:https://lgba.com
X-WR-CALDESC:Events for La Grange Business Association
REFRESH-INTERVAL;VALUE=DURATION:PT1H
X-Robots-Tag:noindex
X-PUBLISHED-TTL:PT1H
BEGIN:VTIMEZONE
TZID:America/Chicago
BEGIN:DAYLIGHT
TZOFFSETFROM:-0600
TZOFFSETTO:-0500
TZNAME:CDT
DTSTART:20250309T080000
END:DAYLIGHT
BEGIN:STANDARD
TZOFFSETFROM:-0500
TZOFFSETTO:-0600
TZNAME:CST
DTSTART:20251102T070000
END:STANDARD
BEGIN:DAYLIGHT
TZOFFSETFROM:-0600
TZOFFSETTO:-0500
TZNAME:CDT
DTSTART:20260308T080000
END:DAYLIGHT
BEGIN:STANDARD
TZOFFSETFROM:-0500
TZOFFSETTO:-0600
TZNAME:CST
DTSTART:20261101T070000
END:STANDARD
BEGIN:DAYLIGHT
TZOFFSETFROM:-0600
TZOFFSETTO:-0500
TZNAME:CDT
DTSTART:20270314T080000
END:DAYLIGHT
BEGIN:STANDARD
TZOFFSETFROM:-0500
TZOFFSETTO:-0600
TZNAME:CST
DTSTART:20271107T070000
END:STANDARD
END:VTIMEZONE
BEGIN:VEVENT
DTSTART;TZID=America/Chicago:20260417T073000
DTEND;TZID=America/Chicago:20260417T093000
DTSTAMP:20260423T135132
CREATED:20260310T011834Z
LAST-MODIFIED:20260310T011834Z
UID:10002688-1776411000-1776418200@lgba.com
SUMMARY:LGBA Networking Event
DESCRIPTION:Join us for a Networking Event at Blueberry Hill\, where we’ll be honoring Chris and his team for 25 years of business in La Grange! \nCoffee will be provided.  No cost for LGBA Members.
URL:https://lgba.com/event/lgba-networking-event/
LOCATION:Blueberry Hill\, 49 S La Grange Road\, La Grange\, IL\, 60525\, United States
CATEGORIES:LGBA Member Meeting,Networking
ORGANIZER;CN="La Grange Business Association":MAILTO:info@Lgba.com
END:VEVENT
END:VCALENDAR