BEGIN:VCALENDAR
VERSION:2.0
PRODID:-//La Grange Business Association - ECPv6.15.20//NONSGML v1.0//EN
CALSCALE:GREGORIAN
METHOD:PUBLISH
X-ORIGINAL-URL:https://lgba.com
X-WR-CALDESC:Events for La Grange Business Association
REFRESH-INTERVAL;VALUE=DURATION:PT1H
X-Robots-Tag:noindex
X-PUBLISHED-TTL:PT1H
BEGIN:VTIMEZONE
TZID:America/Chicago
BEGIN:DAYLIGHT
TZOFFSETFROM:-0600
TZOFFSETTO:-0500
TZNAME:CDT
DTSTART:20250309T080000
END:DAYLIGHT
BEGIN:STANDARD
TZOFFSETFROM:-0500
TZOFFSETTO:-0600
TZNAME:CST
DTSTART:20251102T070000
END:STANDARD
BEGIN:DAYLIGHT
TZOFFSETFROM:-0600
TZOFFSETTO:-0500
TZNAME:CDT
DTSTART:20260308T080000
END:DAYLIGHT
BEGIN:STANDARD
TZOFFSETFROM:-0500
TZOFFSETTO:-0600
TZNAME:CST
DTSTART:20261101T070000
END:STANDARD
BEGIN:DAYLIGHT
TZOFFSETFROM:-0600
TZOFFSETTO:-0500
TZNAME:CDT
DTSTART:20270314T080000
END:DAYLIGHT
BEGIN:STANDARD
TZOFFSETFROM:-0500
TZOFFSETTO:-0600
TZNAME:CST
DTSTART:20271107T070000
END:STANDARD
END:VTIMEZONE
BEGIN:VEVENT
DTSTART;TZID=America/Chicago:20260410T180000
DTEND;TZID=America/Chicago:20260410T200000
DTSTAMP:20260423T121438
CREATED:20260309T160046Z
LAST-MODIFIED:20260309T160046Z
UID:10002677-1775844000-1775851200@lgba.com
SUMMARY:Parent Child Dance
DESCRIPTION:Come and enjoy a fun and dance-filled spring dance with your little one! Dance to your favorite tunes\, play games\, enjoy food and refreshments\, make a craft\, and leave at the end of the evening with a keepsake photo. Each additional child is $35. Registration deadline is Friday\, April 3rd.
URL:https://lgba.com/event/parent-child-dance/
LOCATION:Park District of La Grange\, 536 East Avenue\, La Grange\, IL\, 60525\, United States
CATEGORIES:Community
ATTACH;FMTTYPE=image/jpeg:https://lgba.com/wp-content/uploads/parentchild.jpg
END:VEVENT
BEGIN:VEVENT
DTSTART;TZID=America/Chicago:20260410T200000
DTEND;TZID=America/Chicago:20260410T200000
DTSTAMP:20260423T121438
CREATED:20260309T160510Z
LAST-MODIFIED:20260309T160510Z
UID:10002678-1775851200-1775851200@lgba.com
SUMMARY:Concert Night at the Legion
DESCRIPTION:American Legion Post 1941 is hosting a Santana Tribute concert featuring the Fuze Band. This is a veteran’s fundraiser. The event runs from 6:30pm to 11:00pm with Fuze starting at 8:00pm. There will be food and a cash bar. The address is 900 S. La Grange Rd\, La Grange\, IL 60525. Tickets are $24 online or $30 at the door. For more details and to purchase advance tickets\, go to https://events.ticketleap.com/…/santana-tribute-show
URL:https://lgba.com/event/concert-night-at-the-legion/
LOCATION:American Legion Post 1941\, 900 S. La Grange Road\, La Grange\, IL\, 60525\, United States
CATEGORIES:Entertainment,Live Music
ATTACH;FMTTYPE=image/jpeg:https://lgba.com/wp-content/uploads/santanatribute.jpg
END:VEVENT
END:VCALENDAR