BEGIN:VCALENDAR
VERSION:2.0
PRODID:-//La Grange Business Association - ECPv6.15.20//NONSGML v1.0//EN
CALSCALE:GREGORIAN
METHOD:PUBLISH
X-ORIGINAL-URL:https://lgba.com
X-WR-CALDESC:Events for La Grange Business Association
REFRESH-INTERVAL;VALUE=DURATION:PT1H
X-Robots-Tag:noindex
X-PUBLISHED-TTL:PT1H
BEGIN:VTIMEZONE
TZID:America/Chicago
BEGIN:DAYLIGHT
TZOFFSETFROM:-0600
TZOFFSETTO:-0500
TZNAME:CDT
DTSTART:20250309T080000
END:DAYLIGHT
BEGIN:STANDARD
TZOFFSETFROM:-0500
TZOFFSETTO:-0600
TZNAME:CST
DTSTART:20251102T070000
END:STANDARD
BEGIN:DAYLIGHT
TZOFFSETFROM:-0600
TZOFFSETTO:-0500
TZNAME:CDT
DTSTART:20260308T080000
END:DAYLIGHT
BEGIN:STANDARD
TZOFFSETFROM:-0500
TZOFFSETTO:-0600
TZNAME:CST
DTSTART:20261101T070000
END:STANDARD
BEGIN:DAYLIGHT
TZOFFSETFROM:-0600
TZOFFSETTO:-0500
TZNAME:CDT
DTSTART:20270314T080000
END:DAYLIGHT
BEGIN:STANDARD
TZOFFSETFROM:-0500
TZOFFSETTO:-0600
TZNAME:CST
DTSTART:20271107T070000
END:STANDARD
END:VTIMEZONE
BEGIN:VEVENT
DTSTART;TZID=America/Chicago:20260402T093000
DTEND;TZID=America/Chicago:20260402T103000
DTSTAMP:20260423T121447
CREATED:20260122T214845Z
LAST-MODIFIED:20260122T214845Z
UID:10001974-1775122200-1775125800@lgba.com
SUMMARY:Mindful Movement 1-Hour Session
DESCRIPTION:Feeling stressed? Ready to move your body and calm your mind?\n\n\n\n\nMindful Movement is a free program for adults 18+ years old of all fitness levels that brings together physical activity\, mental wellness\, and social connection through guided group sessions. \nWe’re offering multiple sessions in accessible spaces across Lyons Township—because wellness should be within everyone’s reach. \nMindful Movement is presented by OptWell and Lyons Township Mental Health Commission.
URL:https://lgba.com/event/mindful-movement-1-hour-session/2026-04-02/
LOCATION:First Congregational Church of Western Springs\, 1106 Chestnut Street\, Western Springs\, IL\, United States
CATEGORIES:Community,Get Active,Health & Wellness,Non-Profit
ATTACH;FMTTYPE=image/png:https://lgba.com/wp-content/uploads/first-cong.png
END:VEVENT
BEGIN:VEVENT
DTSTART;TZID=America/Chicago:20260402T180000
DTEND;TZID=America/Chicago:20260402T180000
DTSTAMP:20260423T121447
CREATED:20260309T155732Z
LAST-MODIFIED:20260309T155732Z
UID:10002675-1775152800-1775152800@lgba.com
SUMMARY:Maundry Thursday Dinner is Worship
DESCRIPTION:Experience worship through the sacred act of sharing a meal. As you remember the Last Supper\, communion is woven into dinner\, prayer\, and storytelling\, inviting you to encounter Christ’s command to love in a deeply tangible way.\n\nAll are welcome to Dinner Is Worship on Maundy Thursday\, April 2\, at 6:00 PM. Please sign up to attend through the button below.
URL:https://lgba.com/event/maundry-thursday-dinner-is-worship/
LOCATION:Grace Lutheran Church of La Grange\, 200 N. Catherine Avenue\, La Grange\, IL\, 60525\, United States
CATEGORIES:Religious
ATTACH;FMTTYPE=image/jpeg:https://lgba.com/wp-content/uploads/dinnerisworship.jpg
ORGANIZER;CN="Grace Lutheran Church of La Grange":MAILTO:administrator@gracelutheran-lg.org
END:VEVENT
BEGIN:VEVENT
DTSTART;TZID=America/Chicago:20260402T180000
DTEND;TZID=America/Chicago:20260402T210000
DTSTAMP:20260423T121447
CREATED:20260331T145849Z
LAST-MODIFIED:20260331T145851Z
UID:10002722-1775152800-1775163600@lgba.com
SUMMARY:Live Music by Brad Hides
DESCRIPTION:Playing all the best songs and biggest hits from classic rock\, 90’s alternative\, and modern rock/pop!
URL:https://lgba.com/event/live-music-by-brad-hides-2/
LOCATION:Milk Money Brewing\, 75 LaGrange Rd\, La Grange\, IL\, 60525\, United States
CATEGORIES:Entertainment,Goblet Society,Live Music
ATTACH;FMTTYPE=image/jpeg:https://lgba.com/wp-content/uploads/bradhides.jpg
END:VEVENT
END:VCALENDAR