BEGIN:VCALENDAR
VERSION:2.0
PRODID:-//La Grange Business Association - ECPv6.15.20//NONSGML v1.0//EN
CALSCALE:GREGORIAN
METHOD:PUBLISH
X-WR-CALNAME:La Grange Business Association
X-ORIGINAL-URL:https://lgba.com
X-WR-CALDESC:Events for La Grange Business Association
REFRESH-INTERVAL;VALUE=DURATION:PT1H
X-Robots-Tag:noindex
X-PUBLISHED-TTL:PT1H
BEGIN:VTIMEZONE
TZID:America/Chicago
BEGIN:DAYLIGHT
TZOFFSETFROM:-0600
TZOFFSETTO:-0500
TZNAME:CDT
DTSTART:20250309T080000
END:DAYLIGHT
BEGIN:STANDARD
TZOFFSETFROM:-0500
TZOFFSETTO:-0600
TZNAME:CST
DTSTART:20251102T070000
END:STANDARD
BEGIN:DAYLIGHT
TZOFFSETFROM:-0600
TZOFFSETTO:-0500
TZNAME:CDT
DTSTART:20260308T080000
END:DAYLIGHT
BEGIN:STANDARD
TZOFFSETFROM:-0500
TZOFFSETTO:-0600
TZNAME:CST
DTSTART:20261101T070000
END:STANDARD
BEGIN:DAYLIGHT
TZOFFSETFROM:-0600
TZOFFSETTO:-0500
TZNAME:CDT
DTSTART:20270314T080000
END:DAYLIGHT
BEGIN:STANDARD
TZOFFSETFROM:-0500
TZOFFSETTO:-0600
TZNAME:CST
DTSTART:20271107T070000
END:STANDARD
END:VTIMEZONE
BEGIN:VEVENT
DTSTART;TZID=America/Chicago:20260328T100000
DTEND;TZID=America/Chicago:20260328T100000
DTSTAMP:20260423T135247
CREATED:20260302T195633Z
LAST-MODIFIED:20260302T195633Z
UID:10002135-1774692000-1774692000@lgba.com
SUMMARY:Easter Egg Hunt
DESCRIPTION:
URL:https://lgba.com/event/easter-egg-hunt/
LOCATION:Sedgwick Park
CATEGORIES:Holiday
ATTACH;FMTTYPE=image/jpeg:https://lgba.com/wp-content/uploads/egghunt.jpg
END:VEVENT
BEGIN:VEVENT
DTSTART;TZID=America/Chicago:20260328T110000
DTEND;TZID=America/Chicago:20260328T133000
DTSTAMP:20260423T135247
CREATED:20260309T155549Z
LAST-MODIFIED:20260309T155549Z
UID:10002674-1774695600-1774704600@lgba.com
SUMMARY:Dog / Puppy Adoptions
DESCRIPTION:All our available pets are listed at our website. Adoption Applications can be completed online at our website.Walk-ins are welcomed.
URL:https://lgba.com/event/dog-puppy-adoptions-2/
LOCATION:Pet Supplies Plus\, 15 N. La Grange Road\, La Grange\, Illinois\, 60525
CATEGORIES:Non-Profit
ATTACH;FMTTYPE=image/jpeg:https://lgba.com/wp-content/uploads/magmutts.jpg
END:VEVENT
END:VCALENDAR