BEGIN:VCALENDAR
VERSION:2.0
PRODID:-//La Grange Business Association - ECPv6.15.20//NONSGML v1.0//EN
CALSCALE:GREGORIAN
METHOD:PUBLISH
X-WR-CALNAME:La Grange Business Association
X-ORIGINAL-URL:https://lgba.com
X-WR-CALDESC:Events for La Grange Business Association
REFRESH-INTERVAL;VALUE=DURATION:PT1H
X-Robots-Tag:noindex
X-PUBLISHED-TTL:PT1H
BEGIN:VTIMEZONE
TZID:America/Chicago
BEGIN:DAYLIGHT
TZOFFSETFROM:-0600
TZOFFSETTO:-0500
TZNAME:CDT
DTSTART:20250309T080000
END:DAYLIGHT
BEGIN:STANDARD
TZOFFSETFROM:-0500
TZOFFSETTO:-0600
TZNAME:CST
DTSTART:20251102T070000
END:STANDARD
BEGIN:DAYLIGHT
TZOFFSETFROM:-0600
TZOFFSETTO:-0500
TZNAME:CDT
DTSTART:20260308T080000
END:DAYLIGHT
BEGIN:STANDARD
TZOFFSETFROM:-0500
TZOFFSETTO:-0600
TZNAME:CST
DTSTART:20261101T070000
END:STANDARD
BEGIN:DAYLIGHT
TZOFFSETFROM:-0600
TZOFFSETTO:-0500
TZNAME:CDT
DTSTART:20270314T080000
END:DAYLIGHT
BEGIN:STANDARD
TZOFFSETFROM:-0500
TZOFFSETTO:-0600
TZNAME:CST
DTSTART:20271107T070000
END:STANDARD
END:VTIMEZONE
BEGIN:VEVENT
DTSTART;TZID=America/Chicago:20260327T190000
DTEND;TZID=America/Chicago:20260327T190000
DTSTAMP:20260423T135245
CREATED:20260309T154941Z
LAST-MODIFIED:20260309T154941Z
UID:10002672-1774638000-1774638000@lgba.com
SUMMARY:Out of the Shadows
DESCRIPTION:Join us for a moving shadow display of the Stations of the Cross
URL:https://lgba.com/event/out-of-the-shadows/
LOCATION:St. Cletus Church\, 600 W. 55th Street\, La Grange\, IL\, 60525\, United States
CATEGORIES:Religious
ATTACH;FMTTYPE=image/jpeg:https://lgba.com/wp-content/uploads/outoftheshadows.jpg
END:VEVENT
BEGIN:VEVENT
DTSTART;TZID=America/Chicago:20260327T193000
DTEND;TZID=America/Chicago:20260327T193000
DTSTAMP:20260423T135245
CREATED:20260309T155235Z
LAST-MODIFIED:20260309T155235Z
UID:10002673-1774639800-1774639800@lgba.com
SUMMARY:Tween & Teen Flashlight Egg Hunt
DESCRIPTION:Get ready for an adventure when the sun goes down! Grab your flashlight and your basket for a thrilling nighttime Easter egg hunt! Eggs will be hidden across the park and you’ll need to use your beam to spot them. It’s a race against the dark and a hunt for glowing\, hidden prizes. Don’t forget to wear your running shoes – and sign up with a friend! Early bird registration ends March 13th. Registration deadline is March 20th.
URL:https://lgba.com/event/tween-teen-flashlight-egg-hunt/
LOCATION:Sedgewick Park\, 700 S. 12th Avenue\, La Grange\, IL\, 60525\, United States
CATEGORIES:Holiday
ATTACH;FMTTYPE=image/jpeg:https://lgba.com/wp-content/uploads/Tween-and-Teen.jpg
END:VEVENT
END:VCALENDAR