BEGIN:VCALENDAR
VERSION:2.0
PRODID:-//La Grange Business Association - ECPv6.15.20//NONSGML v1.0//EN
CALSCALE:GREGORIAN
METHOD:PUBLISH
X-ORIGINAL-URL:https://lgba.com
X-WR-CALDESC:Events for La Grange Business Association
REFRESH-INTERVAL;VALUE=DURATION:PT1H
X-Robots-Tag:noindex
X-PUBLISHED-TTL:PT1H
BEGIN:VTIMEZONE
TZID:America/Chicago
BEGIN:DAYLIGHT
TZOFFSETFROM:-0600
TZOFFSETTO:-0500
TZNAME:CDT
DTSTART:20250309T080000
END:DAYLIGHT
BEGIN:STANDARD
TZOFFSETFROM:-0500
TZOFFSETTO:-0600
TZNAME:CST
DTSTART:20251102T070000
END:STANDARD
BEGIN:DAYLIGHT
TZOFFSETFROM:-0600
TZOFFSETTO:-0500
TZNAME:CDT
DTSTART:20260308T080000
END:DAYLIGHT
BEGIN:STANDARD
TZOFFSETFROM:-0500
TZOFFSETTO:-0600
TZNAME:CST
DTSTART:20261101T070000
END:STANDARD
BEGIN:DAYLIGHT
TZOFFSETFROM:-0600
TZOFFSETTO:-0500
TZNAME:CDT
DTSTART:20270314T080000
END:DAYLIGHT
BEGIN:STANDARD
TZOFFSETFROM:-0500
TZOFFSETTO:-0600
TZNAME:CST
DTSTART:20271107T070000
END:STANDARD
END:VTIMEZONE
BEGIN:VEVENT
DTSTART;TZID=America/Chicago:20260324T190000
DTEND;TZID=America/Chicago:20260324T190000
DTSTAMP:20260423T135334
CREATED:20260114T170754Z
LAST-MODIFIED:20260114T170939Z
UID:10001887-1774378800-1774378800@lgba.com
SUMMARY:Trivia Night
DESCRIPTION:Join us for free live trivia every Tuesday at 7pm at Milk Money Brewing in La Grange\, IL! Free to play\, and top teams win gift card prizes! \n\nWant an edge? Sign up now to get 3 free trivia clues before the game: https://www.notrocketsciencetrivia.com/trivia-clues\nFind more weekly Chicagoland trivia nights here: https://www.notrocketsciencetrivia.com/chicagoland-trivia…\n#LaGrangeTrivia #LaGrangeEvents #TriviaNight #PubQuiz
URL:https://lgba.com/event/trivia-night/2026-03-24/
LOCATION:Milk Money Brewing\, 75 LaGrange Rd\, La Grange\, IL\, 60525\, United States
CATEGORIES:Entertainment,Goblet Society
ATTACH;FMTTYPE=image/jpeg:https://lgba.com/wp-content/uploads/trivianight.jpg
END:VEVENT
END:VCALENDAR