BEGIN:VCALENDAR
VERSION:2.0
PRODID:-//La Grange Business Association - ECPv6.15.20//NONSGML v1.0//EN
CALSCALE:GREGORIAN
METHOD:PUBLISH
X-ORIGINAL-URL:https://lgba.com
X-WR-CALDESC:Events for La Grange Business Association
REFRESH-INTERVAL;VALUE=DURATION:PT1H
X-Robots-Tag:noindex
X-PUBLISHED-TTL:PT1H
BEGIN:VTIMEZONE
TZID:America/Chicago
BEGIN:DAYLIGHT
TZOFFSETFROM:-0600
TZOFFSETTO:-0500
TZNAME:CDT
DTSTART:20250309T080000
END:DAYLIGHT
BEGIN:STANDARD
TZOFFSETFROM:-0500
TZOFFSETTO:-0600
TZNAME:CST
DTSTART:20251102T070000
END:STANDARD
BEGIN:DAYLIGHT
TZOFFSETFROM:-0600
TZOFFSETTO:-0500
TZNAME:CDT
DTSTART:20260308T080000
END:DAYLIGHT
BEGIN:STANDARD
TZOFFSETFROM:-0500
TZOFFSETTO:-0600
TZNAME:CST
DTSTART:20261101T070000
END:STANDARD
BEGIN:DAYLIGHT
TZOFFSETFROM:-0600
TZOFFSETTO:-0500
TZNAME:CDT
DTSTART:20270314T080000
END:DAYLIGHT
BEGIN:STANDARD
TZOFFSETFROM:-0500
TZOFFSETTO:-0600
TZNAME:CST
DTSTART:20271107T070000
END:STANDARD
END:VTIMEZONE
BEGIN:VEVENT
DTSTART;VALUE=DATE:20260227
DTEND;VALUE=DATE:20260309
DTSTAMP:20260423T135344
CREATED:20260112T205232Z
LAST-MODIFIED:20260112T205232Z
UID:10001849-1772150400-1773014399@lgba.com
SUMMARY:2026 La Grange Restaurant Week
DESCRIPTION:La Grange Restaurant Week is a celebration of the local food and drink spots that make our community unique—inviting residents and visitors to explore\, discover\, and support restaurants across the village. \nFind out more by visiting:  lagrangerestaurantweek.com
URL:https://lgba.com/event/2026-la-grange-restaurant-week/
LOCATION:IL
CATEGORIES:Community,Dining,Featured Event
ATTACH;FMTTYPE=image/jpeg:https://lgba.com/wp-content/uploads/LG_RestaurantWeek_Logo_2026_2C_HiRes.jpg
ORGANIZER;CN="La Grange Business Association":MAILTO:info@Lgba.com
END:VEVENT
BEGIN:VEVENT
DTSTART;TZID=America/Chicago:20260308T083000
DTEND;TZID=America/Chicago:20260308T093000
DTSTAMP:20260423T135344
CREATED:20260302T194134Z
LAST-MODIFIED:20260302T194134Z
UID:10002129-1772958600-1772962200@lgba.com
SUMMARY:Sound Bath and Reiki (Gentle Sounds to Reset and Restore)
DESCRIPTION:
URL:https://lgba.com/event/sound-bath-and-reiki-gentle-sounds-to-reset-and-restore/2026-03-08/
LOCATION:Vibes Cafe\, 26 S. La Grange Road\, La Grange\, IL\, 60525\, United States
CATEGORIES:Health & Wellness
ATTACH;FMTTYPE=image/jpeg:https://lgba.com/wp-content/uploads/southbath.jpg
END:VEVENT
BEGIN:VEVENT
DTSTART;TZID=America/Chicago:20260308T103000
DTEND;TZID=America/Chicago:20260308T150000
DTSTAMP:20260423T135344
CREATED:20260220T155028Z
LAST-MODIFIED:20260220T155028Z
UID:10002023-1772965800-1772982000@lgba.com
SUMMARY:Let's Grow Good. A book and boba fair for little hearts.
DESCRIPTION:Spring is here and we aim to grow good. Join us for a kindness focused event to celebrate compassion\, goodness and caring through stories and shared sweet boba sips. \nOur event will feature books and book readings from local independent bookstores – New Book Joy and Bloom bright books.\nProceeds from our special GOOD MENU will be donated to Share Food\, Share Love Food Pantry.\nDrop off stations from March 1-16: for used books and shelf staple goods for Bernie’s Book Bank and Share Food\, Share Love Food Pantry.
URL:https://lgba.com/event/lets-grow-good-a-book-and-boba-fair-for-little-hearts/
LOCATION:IL
ATTACH;FMTTYPE=image/jpeg:https://lgba.com/wp-content/uploads/E286C4A0-861D-4BDD-911E-893BCAAD6205.jpeg
END:VEVENT
BEGIN:VEVENT
DTSTART;TZID=America/Chicago:20260308T120000
DTEND;TZID=America/Chicago:20260308T120000
DTSTAMP:20260423T135344
CREATED:20260302T181716Z
LAST-MODIFIED:20260302T185127Z
UID:10002100-1772971200-1772971200@lgba.com
SUMMARY:Shamrock Fest:  O'Rach Mulhern Geraghty School of Irish Dance
DESCRIPTION:https://lgba.com/wp-content/uploads/Shamrockfest_2026.mp4
URL:https://lgba.com/event/shamrock-fest-orach-mulhern-geraghty-school-of-irish-dance/
LOCATION:Palmer Place Restaurant and Biergarten\, 56 S. La Grange Road\, La Grange\, IL\, 60525\, United States
CATEGORIES:Holiday
ATTACH;FMTTYPE=image/png:https://lgba.com/wp-content/uploads/shamrock2.png
END:VEVENT
BEGIN:VEVENT
DTSTART;TZID=America/Chicago:20260308T130000
DTEND;TZID=America/Chicago:20260308T130000
DTSTAMP:20260423T135344
CREATED:20260302T181832Z
LAST-MODIFIED:20260302T185340Z
UID:10002101-1772974800-1772974800@lgba.com
SUMMARY:Shamrock Fest:  Tom Sully
DESCRIPTION:https://lgba.com/wp-content/uploads/Shamrockfest_2026.mp4
URL:https://lgba.com/event/shamrock-fest-tom-sully/
LOCATION:Palmer Place Restaurant and Biergarten\, 56 S. La Grange Road\, La Grange\, IL\, 60525\, United States
CATEGORIES:Holiday
ATTACH;FMTTYPE=image/png:https://lgba.com/wp-content/uploads/shamrock2.png
END:VEVENT
BEGIN:VEVENT
DTSTART;TZID=America/Chicago:20260308T153000
DTEND;TZID=America/Chicago:20260308T170000
DTSTAMP:20260423T135344
CREATED:20260114T201646Z
LAST-MODIFIED:20260114T201646Z
UID:10001897-1772983800-1772989200@lgba.com
SUMMARY:Sound Journey & Gong Wash
DESCRIPTION:Join Lotus Vibrations Healing for a meditative experience where participants are fully immersed in a cosmic soundscape of singing bowls\, drums\, rattles\, didgeridoo\, flute\, gong\, and handpan. These vibrational instruments assist in washing away tension and provides an energetic cleanse that resonates at a cellular level.\n\nThrough brainwave entrainment\, we assist in shifting your state of consciousness which invites harmony into the mind\, body\, and spirit. Participants will be asked to lay down\, connect with their breath\, and relax during this restoring experience.\n\nPlease bring a yoga mat\, pillow\, blanket\, and eye mask.\nChairs will also be available.\nPDLG.ORG
URL:https://lgba.com/event/sound-journey-gong-wash/
LOCATION:Park District of La Grange\, 536 East Avenue\, La Grange\, IL\, 60525\, United States
CATEGORIES:Health & Wellness,Non-Profit
ATTACH;FMTTYPE=image/jpeg:https://lgba.com/wp-content/uploads/602345102_1475112684614756_4766184314022926290_n.jpg
END:VEVENT
BEGIN:VEVENT
DTSTART;TZID=America/Chicago:20260308T160000
DTEND;TZID=America/Chicago:20260308T160000
DTSTAMP:20260423T135344
CREATED:20260302T200008Z
LAST-MODIFIED:20260302T200008Z
UID:10002137-1772985600-1772985600@lgba.com
SUMMARY:Live Music by Stirred Not Shaken
DESCRIPTION:
URL:https://lgba.com/event/live-music-by-stirred-not-shaken/
LOCATION:St. Cletus Church\, 600 W. 55th Street\, La Grange\, IL\, 60525\, United States
CATEGORIES:Live Music
ATTACH;FMTTYPE=image/jpeg:https://lgba.com/wp-content/uploads/stirred.jpg
END:VEVENT
BEGIN:VEVENT
DTSTART;TZID=America/Chicago:20260308T170000
DTEND;TZID=America/Chicago:20260308T170000
DTSTAMP:20260423T135344
CREATED:20260302T182525Z
LAST-MODIFIED:20260302T182525Z
UID:10002102-1772989200-1772989200@lgba.com
SUMMARY:Shamrock Fest 2026:  Bentley Academy of Irish Dance
DESCRIPTION:https://lgba.com/wp-content/uploads/Shamrockfest_2026.mp4
URL:https://lgba.com/event/shamrock-fest-2026-bentley-academy-of-irish-dance-2/
LOCATION:Palmer Place Restaurant and Biergarten\, 56 S. La Grange Road\, La Grange\, IL\, 60525\, United States
CATEGORIES:Art,Entertainment,Holiday
ATTACH;FMTTYPE=image/png:https://lgba.com/wp-content/uploads/shamrock2.png
END:VEVENT
BEGIN:VEVENT
DTSTART;TZID=America/Chicago:20260308T173000
DTEND;TZID=America/Chicago:20260308T173000
DTSTAMP:20260423T135344
CREATED:20260302T182640Z
LAST-MODIFIED:20260302T182640Z
UID:10002103-1772991000-1772991000@lgba.com
SUMMARY:Shamrock Fest 2026:  CK & The Gray
DESCRIPTION:https://lgba.com/wp-content/uploads/Shamrockfest_2026.mp4
URL:https://lgba.com/event/shamrock-fest-2026-ck-the-gray/
LOCATION:Palmer Place Restaurant and Biergarten\, 56 S. La Grange Road\, La Grange\, IL\, 60525\, United States
CATEGORIES:Entertainment,Get Active,Holiday
ATTACH;FMTTYPE=image/png:https://lgba.com/wp-content/uploads/shamrock2.png
END:VEVENT
BEGIN:VEVENT
DTSTART;TZID=America/Chicago:20260308T173000
DTEND;TZID=America/Chicago:20260308T173000
DTSTAMP:20260423T135344
CREATED:20260302T200257Z
LAST-MODIFIED:20260302T200257Z
UID:10002138-1772991000-1772991000@lgba.com
SUMMARY:Live Music by CK & The Gray
DESCRIPTION:Join C.K. and The Gray’s Chrissy Karl and Neal Rudnik for an evening of acoustic rock! C.K. and The Gray\, a female-fronted acoustic duo in the Chicagoland area\, captivates audiences with their rich vocal harmonies. Drawing inspiration from contemporary pop\, country\, and classic rock\, they deliver a dynamic and high-energy performance.
URL:https://lgba.com/event/live-music-by-ck-the-gray/
LOCATION:Palmer Place Restaurant and Biergarten\, 56 S. La Grange Road\, La Grange\, IL\, 60525\, United States
CATEGORIES:Entertainment,Live Music
ATTACH;FMTTYPE=image/jpeg:https://lgba.com/wp-content/uploads/ck.jpg
END:VEVENT
END:VCALENDAR