BEGIN:VCALENDAR
VERSION:2.0
PRODID:-//La Grange Business Association - ECPv6.15.20//NONSGML v1.0//EN
CALSCALE:GREGORIAN
METHOD:PUBLISH
X-WR-CALNAME:La Grange Business Association
X-ORIGINAL-URL:https://lgba.com
X-WR-CALDESC:Events for La Grange Business Association
REFRESH-INTERVAL;VALUE=DURATION:PT1H
X-Robots-Tag:noindex
X-PUBLISHED-TTL:PT1H
BEGIN:VTIMEZONE
TZID:America/Chicago
BEGIN:DAYLIGHT
TZOFFSETFROM:-0600
TZOFFSETTO:-0500
TZNAME:CDT
DTSTART:20250309T080000
END:DAYLIGHT
BEGIN:STANDARD
TZOFFSETFROM:-0500
TZOFFSETTO:-0600
TZNAME:CST
DTSTART:20251102T070000
END:STANDARD
BEGIN:DAYLIGHT
TZOFFSETFROM:-0600
TZOFFSETTO:-0500
TZNAME:CDT
DTSTART:20260308T080000
END:DAYLIGHT
BEGIN:STANDARD
TZOFFSETFROM:-0500
TZOFFSETTO:-0600
TZNAME:CST
DTSTART:20261101T070000
END:STANDARD
BEGIN:DAYLIGHT
TZOFFSETFROM:-0600
TZOFFSETTO:-0500
TZNAME:CDT
DTSTART:20270314T080000
END:DAYLIGHT
BEGIN:STANDARD
TZOFFSETFROM:-0500
TZOFFSETTO:-0600
TZNAME:CST
DTSTART:20271107T070000
END:STANDARD
END:VTIMEZONE
BEGIN:VEVENT
DTSTART;VALUE=DATE:20260227
DTEND;VALUE=DATE:20260309
DTSTAMP:20260423T135250
CREATED:20260112T205232Z
LAST-MODIFIED:20260112T205232Z
UID:10001849-1772150400-1773014399@lgba.com
SUMMARY:2026 La Grange Restaurant Week
DESCRIPTION:La Grange Restaurant Week is a celebration of the local food and drink spots that make our community unique—inviting residents and visitors to explore\, discover\, and support restaurants across the village. \nFind out more by visiting:  lagrangerestaurantweek.com
URL:https://lgba.com/event/2026-la-grange-restaurant-week/
LOCATION:IL
CATEGORIES:Community,Dining,Featured Event
ATTACH;FMTTYPE=image/jpeg:https://lgba.com/wp-content/uploads/LG_RestaurantWeek_Logo_2026_2C_HiRes.jpg
ORGANIZER;CN="La Grange Business Association":MAILTO:info@Lgba.com
END:VEVENT
BEGIN:VEVENT
DTSTART;TZID=America/Chicago:20260307T100000
DTEND;TZID=America/Chicago:20260307T133000
DTSTAMP:20260423T135250
CREATED:20260302T195810Z
LAST-MODIFIED:20260302T195810Z
UID:10002136-1772877600-1772890200@lgba.com
SUMMARY:Cossitt School Spring 2026 Clothing Consignment Sale
DESCRIPTION:The Cossitt School Clothing Sale in La Grange\, IL is a beloved tradition that has been going strong since 1977. The sale is Cossitt School’s biggest fundraiser and simultaneously helps many amazing charitable organizations in our area as all unsold items are donated.\nHere’s how to get involved:*𝗦𝗛𝗢𝗣 thousands of items from infant to teen and find out why people look forward to our sale year after year!*𝗦𝗘𝗟𝗟 your gently used children’s clothing\, shoes\, and books and keep 60% of the sale price. The Cossitt PTC keeps 40% to use towards school programs.*𝗗𝗢𝗡𝗔𝗧𝗘 your items if you don’t feel like tagging and Cossitt keeps 100% of the profit!*𝗩𝗢𝗟𝗨𝗡𝗧𝗘𝗘𝗥 your time. Would you like to be invited to the presale and shop before the General Sale? Signup will open in the new year!\n𝗦𝗮𝗹𝗲 𝘁𝗶𝗺𝗲𝗹𝗶𝗻𝗲:8:30am – 10:00am Pre-Sale for Volunteers (by invitation only)10:00am – 1:30pm General sale**12:30pm – 1:30pm Half-price sale\n**𝗡𝗢𝗧𝗘: 𝗖𝗵𝗶𝗹𝗱𝗿𝗲𝗻 𝗮𝗿𝗲 𝗡𝗢𝗧 𝗽𝗲𝗿𝗺𝗶𝘁𝘁𝗲𝗱 𝗼𝗻 𝘁𝗵𝗲 𝘀𝗮𝗹𝗲𝘀 𝗳𝗹𝗼𝗼𝗿 𝘂𝗻𝘁𝗶𝗹 𝟭𝟭:𝟯𝟬𝗮𝗺. 𝗧𝗵𝗮𝗻𝗸 𝘆𝗼𝘂 𝗶𝗻 𝗮𝗱𝘃𝗮𝗻𝗰𝗲 𝗳𝗼𝗿 𝘆𝗼𝘂𝗿 𝗰𝗼𝗼𝗽𝗲𝗿𝗮𝘁𝗶𝗼𝗻.\nFOR MORE INFO\, PLEASE VISIT: http://www.cossittptc.org/clothingsale/\nINTERESTED IN SPONSORING THE CLOTHING SALE? WE WILL INCLUDE YOUR LOGO ON OUR SCHOOL NEWSLETTER\, FACEBOOK PAGE\, WEBSITE\, ETC. CONTACT cossittptcfundraising@gmail.com.
URL:https://lgba.com/event/cossitt-school-spring-2026-clothing-consignment-sale/
LOCATION:Cossitt Avenue Elementary School\, 115 W. Cossitt Avenue\, La Grange\, IL\, 60525\, United States
CATEGORIES:Fundraiser
ATTACH;FMTTYPE=image/jpeg:https://lgba.com/wp-content/uploads/cossitt.jpg
END:VEVENT
BEGIN:VEVENT
DTSTART;TZID=America/Chicago:20260307T123000
DTEND;TZID=America/Chicago:20260307T123000
DTSTAMP:20260423T135250
CREATED:20260225T151433Z
LAST-MODIFIED:20260225T151433Z
UID:10002096-1772886600-1772886600@lgba.com
SUMMARY:Shamrock Fest 2026:  JD Kostyk
DESCRIPTION:https://lgba.com/wp-content/uploads/Shamrockfest_2026.mp4
URL:https://lgba.com/event/shamrock-fest-2026-jd-kostyk/
LOCATION:Palmer Place Restaurant and Biergarten\, 56 S. La Grange Road\, La Grange\, IL\, 60525\, United States
CATEGORIES:Art,Entertainment,Holiday,Live Music
ATTACH;FMTTYPE=image/png:https://lgba.com/wp-content/uploads/BannerFinalpng-1536x462-1.png
END:VEVENT
BEGIN:VEVENT
DTSTART;TZID=America/Chicago:20260307T154500
DTEND;TZID=America/Chicago:20260307T154500
DTSTAMP:20260423T135250
CREATED:20260225T151546Z
LAST-MODIFIED:20260225T151603Z
UID:10002097-1772898300-1772898300@lgba.com
SUMMARY:Shamrock Fest 2026:  Harling School of Irish Dance
DESCRIPTION:https://lgba.com/wp-content/uploads/Shamrockfest_2026.mp4
URL:https://lgba.com/event/shamrock-2026-harling-school-of-irish-dance/
LOCATION:IL
CATEGORIES:Art,Entertainment,Holiday
ATTACH;FMTTYPE=image/png:https://lgba.com/wp-content/uploads/BannerFinalpng-1536x462-1.png
END:VEVENT
BEGIN:VEVENT
DTSTART;TZID=America/Chicago:20260307T170000
DTEND;TZID=America/Chicago:20260307T170000
DTSTAMP:20260423T135250
CREATED:20260225T152811Z
LAST-MODIFIED:20260225T152811Z
UID:10002098-1772902800-1772902800@lgba.com
SUMMARY:Shamrock Fest 2026:  Trinity Academy of Irish Dance
DESCRIPTION:https://lgba.com/wp-content/uploads/Shamrockfest_2026.mp4
URL:https://lgba.com/event/shamrock-fest-2026-trinity-academy-of-irish-dance/
LOCATION:Palmer Place Restaurant and Biergarten\, 56 S. La Grange Road\, La Grange\, IL\, 60525\, United States
CATEGORIES:Art,Entertainment,Holiday
ATTACH;FMTTYPE=image/png:https://lgba.com/wp-content/uploads/BannerFinalpng-1536x462-1.png
END:VEVENT
BEGIN:VEVENT
DTSTART;TZID=America/Chicago:20260307T183000
DTEND;TZID=America/Chicago:20260307T183000
DTSTAMP:20260423T135250
CREATED:20260302T181604Z
LAST-MODIFIED:20260302T181604Z
UID:10002099-1772908200-1772908200@lgba.com
SUMMARY:Shamrock Fest:  Billy Denton
DESCRIPTION:https://lgba.com/wp-content/uploads/Shamrockfest_2026.mp4
URL:https://lgba.com/event/shamrock-fest-billy-denton/
LOCATION:Palmer Place Restaurant and Biergarten\, 56 S. La Grange Road\, La Grange\, IL\, 60525\, United States
CATEGORIES:Entertainment,Holiday
ATTACH;FMTTYPE=image/png:https://lgba.com/wp-content/uploads/shamrock2.png
END:VEVENT
BEGIN:VEVENT
DTSTART;TZID=America/Chicago:20260307T190000
DTEND;TZID=America/Chicago:20260307T190000
DTSTAMP:20260423T135250
CREATED:20260306T163410Z
LAST-MODIFIED:20260306T163410Z
UID:10002663-1772910000-1772910000@lgba.com
SUMMARY:13th Annual Fundraiser - The Legacy Guild
DESCRIPTION:There is still time to support The Legacy Guild at their 13th Annual Fundraiser on Saturday\, March 7! They are transforming The Elm into a vibrant celebration of hope and community\, featuring dinner\, open bar\, and live music from Opal and The Pigs. \nSaturday\, March 7\n7:00pm\nThe Elm \nThe event will feature shared stories and support of the mission of providing college and trade scholarships and mentoring local students who have lost a parent. They have awarded over $2 million dollars in scholarships to 297 deserving students who reside within Lyons Township High School District 204. In 2025\, they distributed $237\,000 in scholarships to 80 local students.\n\n\n\n\n\n\n\nA Video Recap from 2025’s Event \n\n\n\n\n\n\n\n\n\n\n\n\n\n\n\n\n\n\n\n\n\n\nThe Legacy Guild is designated as a federal 501(c)(3) charitable organization and registered with the State of IL. Their Tax ID # is 46-0888441. \n\n\n\n\n\n\n\n\nHow You Can Help \n\n\n\n\n\n\n\n\n\n\n\n\n\n\n\nFind out more about the event and get tickets.\n\n\n\n\n\n\n\n\n\n\nGet Event Details\n\n\n\n\n\n\n\n\n\n\n\n\n\n\nEvent FAQs\n\n\n\n\n\n\n\n\n\n\n\n\nBid on unique auction items or purchase raffle tickets\n\n\n\n\n\n\n\n\n\n\nAuctions and Raffles\n\n\n\n\n\n\n\n\n\n\n\n\nMake a donation\n\n\n\n\n\n\n\n\n\n\nDonate Now\n\n\n\n\n\n\n\n\n\n\n\n\n\n\n\n\n\n\n\nMore Info on The Legacy Guild \n\n\n\n\n\n\n\n\n\n\n\n\n\n\n\nThe Legacy Guild is a nonprofit fellowship group that provides college scholarships and mentorship to local students who have lost a parent. They honor the legacy of those who have died by helping send their children to college. Roughly 95% of every dollar spent goes directly towards scholarships in the community. \nEach Legacy Guild Scholar who is a full-time student is awarded a $3\,000 scholarship renewable for up to four years of undergraduate college – a commitment of up to $12\,000 per student.\n\n\n\n\n\n\n\n\n\n\nVisit TheLegacyGuild.com
URL:https://lgba.com/event/13th-annual-fundraiser-the-legacy-guild/
LOCATION:The Elm\, 23 W. Harris Avenue\, La Grange\, IL\, 60525\, United States
CATEGORIES:Fundraiser,Non-Profit
ATTACH;FMTTYPE=image/jpeg:https://lgba.com/wp-content/uploads/legacy-1.jpg
END:VEVENT
END:VCALENDAR