BEGIN:VCALENDAR
VERSION:2.0
PRODID:-//La Grange Business Association - ECPv6.15.20//NONSGML v1.0//EN
CALSCALE:GREGORIAN
METHOD:PUBLISH
X-ORIGINAL-URL:https://lgba.com
X-WR-CALDESC:Events for La Grange Business Association
REFRESH-INTERVAL;VALUE=DURATION:PT1H
X-Robots-Tag:noindex
X-PUBLISHED-TTL:PT1H
BEGIN:VTIMEZONE
TZID:America/Chicago
BEGIN:DAYLIGHT
TZOFFSETFROM:-0600
TZOFFSETTO:-0500
TZNAME:CDT
DTSTART:20250309T080000
END:DAYLIGHT
BEGIN:STANDARD
TZOFFSETFROM:-0500
TZOFFSETTO:-0600
TZNAME:CST
DTSTART:20251102T070000
END:STANDARD
BEGIN:DAYLIGHT
TZOFFSETFROM:-0600
TZOFFSETTO:-0500
TZNAME:CDT
DTSTART:20260308T080000
END:DAYLIGHT
BEGIN:STANDARD
TZOFFSETFROM:-0500
TZOFFSETTO:-0600
TZNAME:CST
DTSTART:20261101T070000
END:STANDARD
BEGIN:DAYLIGHT
TZOFFSETFROM:-0600
TZOFFSETTO:-0500
TZNAME:CDT
DTSTART:20270314T080000
END:DAYLIGHT
BEGIN:STANDARD
TZOFFSETFROM:-0500
TZOFFSETTO:-0600
TZNAME:CST
DTSTART:20271107T070000
END:STANDARD
END:VTIMEZONE
BEGIN:VEVENT
DTSTART;VALUE=DATE:20260227
DTEND;VALUE=DATE:20260309
DTSTAMP:20260423T135350
CREATED:20260112T205232Z
LAST-MODIFIED:20260112T205232Z
UID:10001849-1772150400-1773014399@lgba.com
SUMMARY:2026 La Grange Restaurant Week
DESCRIPTION:La Grange Restaurant Week is a celebration of the local food and drink spots that make our community unique—inviting residents and visitors to explore\, discover\, and support restaurants across the village. \nFind out more by visiting:  lagrangerestaurantweek.com
URL:https://lgba.com/event/2026-la-grange-restaurant-week/
LOCATION:IL
CATEGORIES:Community,Dining,Featured Event
ATTACH;FMTTYPE=image/jpeg:https://lgba.com/wp-content/uploads/LG_RestaurantWeek_Logo_2026_2C_HiRes.jpg
ORGANIZER;CN="La Grange Business Association":MAILTO:info@Lgba.com
END:VEVENT
BEGIN:VEVENT
DTSTART;TZID=America/Chicago:20260302T080000
DTEND;TZID=America/Chicago:20260302T170000
DTSTAMP:20260423T135350
CREATED:20260302T192830Z
LAST-MODIFIED:20260302T192830Z
UID:10002125-1772438400-1772470800@lgba.com
SUMMARY:SummerFest:  Mr. Blotto
DESCRIPTION:
URL:https://lgba.com/event/summerfest-mr-blotto/
LOCATION:Milk Money Brewing\, 75 LaGrange Rd\, La Grange\, IL\, 60525\, United States
CATEGORIES:Entertainment,Live Music
ATTACH;FMTTYPE=image/webp:https://lgba.com/wp-content/uploads/summerfest-milkmoney.webp
END:VEVENT
BEGIN:VEVENT
DTSTART;TZID=America/Chicago:20260302T190000
DTEND;TZID=America/Chicago:20260302T190000
DTSTAMP:20260423T135350
CREATED:20251117T152332Z
LAST-MODIFIED:20251117T152332Z
UID:10000414-1772478000-1772478000@lgba.com
SUMMARY:Bingo Mondays
DESCRIPTION:Bingo Mondays at the La Grange American Legion.  $15 for 10 games\, additional raffle games\, pull tabs.  Kitchen & Bar Open.  $10\,000 Progressive Jackpot.  Doors open 6pm\, Bingo at 7pm.   Open to the public. American Legion Post 1941\, 900 S. La Grange rd\, 60525  www.AL1941.org.
URL:https://lgba.com/event/bingo-mondays/2026-03-02/
LOCATION:American Legion Post 1941\, 900 S. La Grange Road\, La Grange\, IL\, 60525\, United States
CATEGORIES:Community,Fundraiser,Non-Profit
END:VEVENT
END:VCALENDAR